BEGIN:VCALENDAR
VERSION:2.0
PRODID:-//wp-events-plugin.com//7.2.3.1//EN
BEGIN:VEVENT
UID:410@apc.it
DTSTART;VALUE=DATE:20241011
DTEND;VALUE=DATE:20241014
DTSTAMP:20250904T080213Z
URL:https://apc.it/lista-eventi/xi-forum-sulla-formazione-in-psicoterapia/
SUMMARY:XI Forum sulla Formazione in Psicoterapia
DESCRIPTION:\n\nGiunto alla XI edizione\,&nbsp\;dall’11 al 13 ottobre 202
 4\,&nbsp\;si svolgerà il&nbsp\;Forum sulla Formazione in Psicoterapia&nbs
 p\;presso il Centro Congressi “La Cittadella” di Assisi (PG).\nDa semp
 re il Forum sulla Formazione in Psicoterapia è un’occasione speciale di
  valorizzazione delle ricerche e delle esperienze cliniche realizzate nell
 ’ambito delle Scuole.&nbsp\;\nÈ anche una occasione per creare opportun
 ità di scambio scientifico e contatti fra colleghi.\n\nCome nelle precede
 nti edizioni\, il convegno prevede la realizzazione di simposi in parallel
 o durante i quali saranno presentate relazioni su ricerche\, revisioni sis
 tematiche della letteratura scientifica e casi clinici ma anche momenti di
  divertimento\, di convivialità e occasioni di scambio e conoscenza con i
  colleghi frequentanti le diverse sedi delle nostre Scuole.\nUna esperienz
 a scientifica\, professionale e amicale importante\, in cui&nbsp\;gli alli
 evi delle Scuole avranno il ruolo di&nbsp\;principali&nbsp\;protagonisti\,
  saranno infatti&nbsp\;relatori o&nbsp\;discussant&nbsp\;nelle diverse ses
 sioni\, mentre&nbsp\;Docenti e Didatti saranno coinvolti in qualità di&nb
 sp\;chair.\n\nQuest’anno\, fra l'altro\, si festeggia un evento particol
 are: i&nbsp\;30 anni&nbsp\;dall’attivazione del&nbsp\;primo corso di spe
 cializzazione abilitante all’esercizio della psicoterapia&nbsp\;dopo il 
 riconoscimento ministeriale avvenuto a dicembre del 1993. Avremo quindi l
 ’opportunità di conoscere alcuni aneddoti\, legati agli inizi\, riperco
 rrere parte della storia delle Scuole di psicoterapia e riflettere sui cam
 biamenti avvenuti nel corso del trentennio.\n\n\nSCARICA IL LIBRO DEGLI AB
 STRACT\n&nbsp\;\n\n\nXI Forum sulla Formazione in Psicoterapia\nASSISI - 1
 1\, 12 e 13 Ottobre 2024\nProgramma\n\n\n\n\nVenerdì 11 Ottobre 2024\n\n\
 n\n11:30\nRiunione dei didatti e dei cotrainer delle Scuole di Specializza
 zione in Psicoterapia Cognitiva APC\, SPC\, AIPC\, IGB e SICC\n\nSALA MUSI
 CA\n\n\n12.00\nApertura segreteria per registrazione dei partecipanti e ri
 nfresco di benvenuto (fino alle ore 14:00)\n\n\n15.00\nApertura dei lavori
  congressuali - Giuseppe Romano e Francesco Mancini\n\nSALA TEATRO\n\n\n15
 .30\n\n&nbsp\;\nSessione Relazioni 1\n\nSALA TEATRO\, SALA MUSICA\, SALA S
 AN GIOVANNI\n\n\n17.30\n\n&nbsp\;\nSessione Relazioni 2\n\nSALA TEATRO\, S
 ALA MUSICA\, SALA SAN GIOVANNI\n\n\n\n&nbsp\;\n\n\n\n\nSabato 12 Ottobre 2
 024\n\n\n\n08.30\nSessioni di pratica esperienziale\n\nSALA TEATRO - SALA 
 MUSICA - SALA PING PONG - SALA CRISTALLO - SALA ONDA\n\n\n09.00\nSessione 
 Relazioni 3\n\nSALA TEATRO\, SALA MUSICA\n\n\n10.15\nCoffee break\n\n\n10:
 45\nSessione Poster\n\nSALA CRISTALLO - SALA ONDA - SALA GALLERIA\n\n\n11.
 30\nSessioni Speciale Impasse Terapeutico\n\nSALA TEATRO\n\n\n13.00\nPausa
  pranzo\n\n\n14.00\nSessioni di pratica esperienziale\n\nSALA TEATRO - SAL
 A MUSICA - SALA PING PONG - SALA CRISTALLO - SALA ONDA\n\n\n14.30\nSession
 e Relazioni 4\n\nSALA TEATRO\, SALA MUSICA\n\n\n16.00\nSessione Relazioni 
 5\n\nSALA TEATRO\, SALA MUSICA\n\n\n17.30\nMain relation: 30 anni e non li
  dimostra\n\nIntervento del Direttore delle Scuole di Psicoterapia Cogniti
 va APC\, SPC\, AIPC\, IGB e SICC prof. Francesco Mancini\n\nTavola Rotonda
 : 30 anni di storia - uno sguardo al passato e uno al futuro\n\nSALA TEATR
 O\n\n\n18.30\nCogniTrivial Anniversary Edition\n\nSALA TEATRO\n\n\n20.30\n
 Cena sociale a buffet\n\n\n\n&nbsp\;\n\n\n\n\nDomenica 13 Ottobre 2024\n\n
 \n\n09.30\nSessioni di pratica esperienziale\n\nSALA TEATRO - SALA MUSICA 
 - SALA PING PONG\n\n\n10.00\nSessione Relazioni 6\n\nSALA TEATRO\, SALA MU
 SICA\n\n\n11.30\nSessione Relazioni 7\n\nSALA TEATRO\, SALA MUSICA\n\n\n13
 .00\nChiusura dei lavori congressuali – Francesco Mancini e Giuseppe Rom
 ano\n\nSALA TEATRO\n\n\n\n\n&nbsp\;\n\nSCARICA IL PROGRAMMA&nbsp\;\nIl pro
 gramma potrebbe subire variazioni.\nTi consigliamo di consultare periodica
 mente il sito per non perdere gli aggiornamenti\nultimo aggiornamento 08/1
 0/2024\n\nhttps://www.youtube.com/watch?v=k67LKjSOl54\n"Che cos'è l'amici
 zia? È l'impegno di fare del bene al compagno o all'amico\, condividendo 
 con lui le nostre fortune e partecipando alla sua vita senza aspettarci nu
 lla in cambio."
ATTACH;FMTTYPE=image/jpeg:https://apc.it/wp-content/uploads/2024/09/presen
 tazione-forum-2024.png
CATEGORIES:Convegni
END:VEVENT
END:VCALENDAR