BEGIN:VCALENDAR
VERSION:2.0
PRODID:-//wp-events-plugin.com//7.2.3.1//EN
BEGIN:VEVENT
UID:414@apc.it
DTSTART:20241118T191500Z
DTEND:20241118T201500Z
DTSTAMP:20241106T100008Z
URL:https://apc.it/lista-eventi/webinar-la-violenza-nelle-relazioni-intime
 -tra-ricerca-clinica-e-impegno-sociale/
SUMMARY:Webinar - LA VIOLENZA NELLE RELAZIONI INTIME:  tra RICERCA\, CLINIC
 A e IMPEGNO SOCIALE
DESCRIPTION:Webinar gratuito\n\nLA VIOLENZA NELLE RELAZIONI INTIME:\ntra RI
 CERCA\, CLINICA e IMPEGNO SOCIALE\n\n&nbsp\;\nLunedì 18 novembre 2024\nor
 ario 19.15-20.15\n&nbsp\;\nIl webinar si terrà ONLINE su piattaforma Zoom
 \nPARTECIPAZIONE GRATUITA - PER ISCRIVERTI CLICCA QUI\n&nbsp\;\n\nIn attes
 a del 20 novembre\, Giornata internazionale dei diritti dell'infanzia e de
 ll'adolescenza\, e del 25 novembre\, Giornata internazionale contro la vio
 lenza sulle donne\,\n\nle Scuole di Psicoterapia Cognitiva presentano un w
 ebinar con Erica Pugliese (autrice del libro “Nella mente dei dipendenti
  affettivi”\, di recente pubblicazione con Franco Angeli) e Angelo Maria
  Saliani\n\nDurante l'incontro\, si approfondirà il tema della dipendenza
  affettiva patologica come uno dei principali fattori psicologici alla bas
 e della violenza nelle relazioni.\n\nModera la Dr.ssa Claudia Perdghe\, do
 cente e didatta Scuole di Psicoterapia Cognitiva e socio didatta SITCC\n\n
 RELATORI:\n\nDr.ssa Erica Pugliese\, docente Scuole di Psicoterapia Cognit
 iva\, ricercatrice presso l'Università di Amsterdam\;\n&nbsp\;\nDr. Angel
 o Maria Saliani\, docente e didatta Scuole di Psicoterapia Cognitiva e soc
 io didatta SITCC\, docente presso la Scuola di Specializzazione in Psicolo
 gia del Ciclo di Vita dell'Università Sapienza di Roma.\n\n&nbsp\;\nPARTE
 CIPAZIONE GRATUITA PREVIA ISCRIZIONE\n\nPER ISCRIVERTI CLICCA QUI \nBROCHU
 RE\n\nInfo: corsi@apc.it
ATTACH;FMTTYPE=image/jpeg:https://apc.it/wp-content/uploads/2024/11/Locand
 ina-18-novembre-2024.png
CATEGORIES:Convegni,Corsi Gratuiti,Simposi
END:VEVENT
END:VCALENDAR