BEGIN:VCALENDAR
VERSION:2.0
PRODID:-//wp-events-plugin.com//7.2.3.1//EN
BEGIN:VEVENT
UID:141@apc.it
DTSTART:20211001T143000Z
DTEND:20211003T183000Z
DTSTAMP:20210916T075448Z
URL:https://apc.it/lista-eventi/trauma-focused-cognitive-behavioral-therap
 y/
SUMMARY:TRAUMA-FOCUSED COGNITIVE-BEHAVIORAL THERAPY
DESCRIPTION:\nTRAUMA-FOCUSED COGNITIVE-BEHAVIORAL THERAPY\nProf.ssa Zlatina
  Kostova\n\n1-2-3 ottobre 2021\norario 14.30 - 18.30\n\n\n\n\nDESCRIZIONE 
 DELLA FORMAZIONE\n\n\n\n\nDurata totale del corso: 24 ore\ncosì suddivise
 :\n\n\n\n1) 12 ore di formazione in modalità online che si terranno il 1-
 2-3 ottobre 2021 dalle ore 14:30 - 18:30\n\n\n2) 12 incontri online di Sup
 ervisione\, della durata di 60 minuti l’uno\, a cadenza bimensile a part
 ire da venerdì 29 ottobre\n(i partecipanti saranno divisi in due gruppi\;
  un gruppo alle ore 17\, l'altro alle 18)Le date degli incontri di Supervi
 sione sono:\n29/10\, 12-26/11\, 10/12\, 14-28/01\, 11-25/02\, 11-25/03\, 8
 -22/04\n\n\n\n\nPRESENTAZIONE\n\nLa TF-CBT è il trattamento del trauma pe
 r bambini e adolescenti più rigorosamente studiato fino ad oggi\, che rac
 coglie la più ampia mole di dati di efficacia\, mostrandosi ugualmente va
 lido per diversi target di popolazione e in diversi contesti di applicazio
 ne (Cohen\, Mannarino &amp\; Deblinger\, 2016). 23 studi randomizzati e co
 ntrollati in tutto il mondo dimostrano l’efficacia della TF-CBT su una s
 erie di sintomi e difficoltà emotive e comportamentali associate ad esper
 ienze traumatiche sia singole che croniche.\nRispetto ad altri trattamenti
 \, favorisce un costante e significativo miglioramento della sintomatologi
 a da PTSD\, con specifico riferimento ai sintomi di evitamento e di attiva
 zione fisiologica. La TF-CBT è un trattamento strutturato\, relativamente
  breve (8-25\nsedute) e coinvolge sia il bambino/adolescente che il caregi
 ver. La TF-CBT è un trattamento fasico\, che incorpora principi dalle teo
 rie cognitivo-comportamentali\, sistemiche\, dell'attaccamento e umanistic
 he.\n\nComponenti della TF-CBT:\n• Psicoeducazione e conoscenze genitori
 ali\;\n• Tecniche di rilassamento\;\n• Tecniche di espressione e regol
 azione emotiva\;\n• Elaborazione cognitiva\;\n• Narrazione ed elaboraz
 ione del trauma\;\n• Esposizione In vivo\;\n• Sessioni congiunte con i
 l bambino/adolescente e il caregiver\n\nLA FORMAZIONE\n\nObiettivi della f
 ormazione:\n• Identificare e coinvolgere i bambini e le famiglie che pot
 rebbero beneficiare della TF-CBT\;\n• Descrivere i componenti del tratta
 mento e comprendere il razionale di ogni componente\;\n• Imparare come c
 ollegare i risultati dell’assessment ai piani di trattamento della TF-CB
 T e tracciare i progressi del trattamento nel tempo\;\n• Imparare e appl
 icare le conoscenze e i componenti del trattamento\;\n• Imparare diversi
  approcci creativi per l'elaborazione narrativa del trauma e praticare tec
 niche di esposizione\;\n• Apprendere le strategie per affrontare le cogn
 izioni distorte e non utili legate al trauma\;\n• Affrontare le barriere
  comuni all'implementazione del trattamento.\nDescrizione della formazione
 :\nDurata totale del corso: 24 ore\, così suddivise:\n1) 12 ore di formaz
 ione in modalità online che si terranno il 1-2-3 ottobre 2021 dalle ore 1
 4:30 - 18:30.\n2) 12 incontri online di Supervisione\, della durata di 60 
 minuti l’uno\, a cadenza bimensile a partire da venerdì 29 ottobre (i p
 artecipanti saranno divisi in due gruppi\; un gruppo alle ore 17\, l'altro
  alle 18).\nLe date degli incontri di Supervisione sono: 29/10\, 12-26/11\
 , 10/12\, 14-28/01\, 11-25/02\, 11-25/03\, 8-22/04.\nÈ opportuno che i pa
 rtecipanti presentino almeno un caso trattato con la TF-CBT e valutato att
 raverso batterie di assessment condivise. Durante le Supervisioni i partec
 ipanti riceveranno feedback e guide pratiche dalla Docente\n\nDOCENTE\n\nP
 rof.ssa Zlatina Kostova\nZlatina Kostova\, PhD\, è psicoterapeuta clinica
  e docente di Psichiatria nel Dipartimento di Psichiatria dell’Universit
 y of Massachusetts Medical School (UMMS)\, negli Stati Uniti. In possesso 
 di una speciale formazione multiculturale e multidisciplinare maturata in 
 Bulgaria\, Italia\, Svizzera e Stati\nUniti\, ha conseguito in USA la spec
 ializzazione post-dottorato in terapie evidence-based per bambini e adoles
 centi con traumi psicologici e gravi psicopatologie. Si è dedicata alla p
 ratica clinica in contesti psichiatrici ambulatoriali e ospedalieri\, ha f
 ormato centinaia di professionisti e ha condotto diversi progetti di ricer
 ca nell’ambito del trauma infantile e della mindfulness.\nLa Dott.ssa Ko
 stova è formatrice internazionale in Trauma-Focused Cognitive Behavioral 
 Therapy (TF-CBT) e rappresentante della National Child Traumatic Stress Ne
 twork (NCTSN) in Italia. È terapeuta certificata inoltre in Mindfulness-B
 ased Cognitive Therapy\, Attachment\, Self-Regulation and Competency (ARC)
  e in altri programmi di formazione sviluppati dalla NCTSN\, come il Core 
 Concepts of Childhood Trauma e il Resource Parents Curriculum.\nLa Dott.ss
 a Kostova ha pubblicato diversi studi scientifici in riviste specializzate
 \, ha contribuito alla stesura di capitoli di libri e partecipa regolarmen
 te a diverse conferenze e presentazioni internazionali.\n\nPROGRAMMA\nVene
 rdì 01 ottobre 2021 ore 14\,30-18\,30\n\n• Trauma\, tipi di trauma e si
 ntomi frequenti in bambini e adolescenti\n• Panoramica della TF-CBT:\no 
 popolazioni e contesti clinici appropriati\no ricerche scientifiche\no fas
 i del trattamento: esercizi\no trauma assessment\no TF-CBT online\n• Psi
 coeducazione\no Obiettivi e razionale\no Esempi pratici\n• Competenze ge
 nitoriali\no Obiettivi e razionale\no Reazioni genitoriali comuni e situaz
 ioni complesse\no Competenze specifiche: elogiare\, attenzione selettiva\,
  time-out\, schede comportamentali\, ascolto empatico\n• Tecniche di ril
 assamento\no Obiettivi e razionale\no Esempi di tecniche di rilassamento\n
 o Mindfulness: ricerche\, risorse\, esercizi adatti per bambini e adolesce
 nti\n\nSabato 02 ottobre 2021 ore 14\,30-18\,30\n\n• Espressione e modul
 azione emotiva\no Obiettivi e razionale\no Tecniche di espressione e modul
 azione: identificazione emotiva\, problem-solving\, musica\, “arresto”
  del pensiero\no Tecniche di espressione e modulazione emotiva con i genit
 ori\n• Elaborazione cognitiva (Parte I)\no Obiettivi e razionale\no Fasi
  della elaborazione cognitiva\no Tecniche: il triangolo cognitivo\, il met
 odo Socratico\, lo scenario del migliore amico\, la torta della responsabi
 lità\, stili cognitivi\n• Narrazione del trauma\no Obiettivi e razional
 e\no Errori comuni\no Tecniche di narrazione\no Capitoli narrativi ed esem
 pi clinici\no Narrazione traumatica nei casi di traumi complessi\no Esempi
  clinici ed esercizi pratici\n\nDomenica 03 ottobre 2021 ore 14\,30-18\,30
 \n\n• Elaborazione cognitiva (Parte II)\no Obiettivi e razionale\no Meto
 di di elaborazione cognitiva dell’evento traumatico: interrogazione logi
 ca progressiva \, la tecnica del “tu sei il terapeuta”\,\nverifica del
 l’evidenza del pensiero\, grado di responsabilità\no Esempi clinici ed 
 esercizi pratici\no Elaborazione cognitiva con i genitori\n• Padronanza 
 dei ricordi traumatici in vivo\no Obiettivi e razionale\no Esempi ed eserc
 izi pratici di gruppo\n• Sessioni congiunte con il bambino e il genitore
 \no Obiettivi e razionale\no Limiti e situazioni dove le sessioni congiunt
 e non sono consigliate\no Pianificazione delle sessioni\no Esempi clinici 
 ed esercizi pratici\n• Sicurezza\no Obiettivi e razionale\no Sicurezza d
 el corpo\no Situazioni problematiche che richiedono interventi sulla sicur
 ezza: comportamenti a rischio e autolesionisti\, scappare via\,\ninternet\
 , relazioni interpersonali\, violenza domestica\n\nMODALITA' DI SVOLGIMENT
 O\n\nIl corso si svolgerà in modalità online attraverso la piattaforma Z
 OOM.\nAl termine del corso verrà rilasciato un attestato di partecipazion
 e.\nIL CORSO È A NUMERO CHIUSO (max 24 partecipanti)\n\nCorso rivolto a S
 pecializzandi in Psicoterapia al III e IV anno\, Psicologi abilitati alla\
 nPsicoterapia\, Medici Psicoterapeuti\, Medici Psichiatri e Medici Neurops
 ichiatri Infantili&nbsp\;\n\n\n\nÈ PREVISTO L'ACCREDITAMENTO DI 18 CREDIT
 I ECM\n\nN.B. Per l’attribuzione dei crediti è richiesta la&nbsp\;frequ
 enza del 90%&nbsp\;delle sessioni scientifiche in programma e almeno il&nb
 sp\;75%&nbsp\;di risposte corrette al questionario di valutazione apprendi
 mento\n\n&nbsp\;\n\nQUOTA E MODALITÀ DI ISCRIZIONE\n\n❖ € 500\,00 iva
  inclusa\nN.B. La quota comprende il totale delle 24 ore del corso (12 ore
  di formazione + 12 ore di Supervisione)\n\nPer iscriversi è necessario c
 ompilare la scheda online e versare contestualmente la quota di partecipaz
 ione.\nIl versamento deve avvenire tramite bonifico bancario sul conto int
 estato a:\nScuola di Psicoterapia Cognitiva srl\nIBAN IT87K053870320200000
 1606300\ncausale “TF-CBT online 2021”\nIN CASO DI RINUNCIA NON È PREV
 ISTO IL RIMBORSO DELLA QUOTA DI PARTECIPAZIONE\n\n\n\n\n\nTutte le comunic
 azioni organizzative relative a questo corso vengono effettuate via mail.&
 nbsp\;SI PREGA DI CONTROLLARE LO SPAM.\nPer&nbsp\;INFO&nbsp\;o problemi re
 lativi al collegamento potete contattare&nbsp\;SOLO NEI GIORNI DI SVOLGIME
 NTO DEL CORSO\nil numero&nbsp\;347-3566781\n\n\n\n&nbsp\;\nScarica la loca
 ndina di questo evento
ATTACH;FMTTYPE=image/jpeg:https://apc.it/wp-content/uploads/2021/04/presen
 tazione-trauma-focused-kostova.png
CATEGORIES:Corsi a pagamento,Corsi ecm
END:VEVENT
END:VCALENDAR