BEGIN:VCALENDAR
VERSION:2.0
PRODID:-//wp-events-plugin.com//7.2.3.1//EN
BEGIN:VEVENT
UID:280@apc.it
DTSTART;VALUE=DATE:20230304
DTEND;VALUE=DATE:20230306
DTSTAMP:20221223T122216Z
URL:https://apc.it/lista-eventi/trattamento-di-gruppo-dei-disturbi-emotivi
 -comuni-3/
SUMMARY:TRATTAMENTO DI GRUPPO DEI DISTURBI EMOTIVI COMUNI
DESCRIPTION:Corso ECM Online\nTRATTAMENTO DI GRUPPO DEI DISTURBI EMOTIVI CO
 MUNI\nDocente: Dr.ssa Ilaria Martelli Venturi\n\n4-5 marzo 2023\norario 9.
 00-18.00\n\nPRESENTAZIONE\n\nIl corso ha lo scopo di presentare il protoco
 llo di gruppo sul trattamento dei così detti «disturbi emotivi comuni».
  Con questa definizione ci si riferisce ad una popolazione adulta che pres
 enta quadri clinici eterogenei quali disturbi d’ansia\, attacchi di pani
 co\,stati depressivi lievi e moderati\, disturbi misti dell’umore\, dist
 urbi del sonno\, disturbi somatoformi\, disturbo post traumatico da stress
  e sindromi legate a stress in generale.Il protocollo manualizzato ha come
  fondamento teorico di riferimento la terapia cognitivo-comportamentale co
 n l’integrazione dei seguenti modelli: la terapia dialettico-comportamen
 tale di Marsha M. Linehan (DBT - Dialecthical Behavior Therapy)\, elementi
  di comunicazione assertiva e gestione dei rapporti interpersonali\, teori
 a dell’attaccamento\, teoria del trauma e della dissociazione.Verranno p
 resentati i 7 moduli del protocollo di trattamento ognuno dei quali affron
 ta i punti cardine che qualunque percorso psicoterapico dovrebbe affrontar
 e: sicurezza e legame di attaccamento\; le emozioni e le loro funzioni\; l
 a regolazione emotiva\; i disturbi d’ansia\; i disturbi del tono dell’
 umore\; la comunicazione e le abilità interpersonali\; il trauma e la dis
 sociazione.L’obiettivo del corso è quello di fornire ai partecipanti un
 o strumento facilmente replicabile sia nei contesti pubblici che privati e
  un supporto valido anche all’interno di un percorso di psicoterapia ind
 ividuale.Il corso è basato su una forma di apprendimento attiva attravers
 o esercitazioni pratiche per ogni modulo\, di supporto alla parte teorica 
 con l’obiettivo di entrare nel “vivo” del trattamento.\n\nDr.ssa Ila
 ria Martelli VenturiDirigente Psicologa DSM Asl Roma 1\,Docente di Psicolo
 gia Clinica Università LaSapienza\, Docente APC/SPC\,Psicoterapeuta Cogni
 tivo Comportamentalespecializzata nel trauma (EMDR)\, disturbigravi di per
 sonalità (DBT) e Parent Training.\n\n&nbsp\;\n\nPROMOZIONE:\n\nGli iscrit
 ti al corso riceveranno gratuitamente copia cartacea del libro (all'indiri
 zzo specificato nella scheda di iscrizione):\n\n\n\nTrattamento dei distur
 bi emotivi comuni: guida pratica per la conduzione dei gruppi \n\nAnno: 20
 19\n\nAutore: Ilaria Martelli Venturi\n\nIntroduzione di Francesco Mancini
 \; Prefazione di Giuseppe Ducci\; Postfazione di Alessandro Grispini\n\nCa
 sa Editrice: Franco Angeli\n\nPensato come un vero e proprio manuale\, il 
 volume è rivolto ai professionisti della salute mentale che vogliono atti
 vare gruppi\, sia in ambito pubblico che privato\, con pazienti che presen
 tano disturbi ascrivibili ai cosiddetti “disturbi emotivi comuni”\, qu
 ali disturbi d’ansia\, stati depressivi\, attacchi di panico\, disturbi 
 del sonno\, ossessioni\, fobie\, disturbi somatoformi\, condizioni di disa
 gio esistenziale.\n\nPROGRAMMASabato 04 marzo 2023 ore 09\,00-13\,00 / 14\
 ,00-18\,00\n\n09.00 – 10.00 I disturbi emotivi comuni e l’intervento c
 ognitivo-comportamentale nella terapia di gruppo10.00 – 11.00 Presentazi
 one del protocollo11.00 – 11.15 Pausa caffè11.15 – 13.00 Modulo: Sicu
 rezza e legame di attaccamento13.00 – 14.00 Pausa pranzo14.00 – 16.00 
 Modulo: Le emozioni e le loro funzioni16.00 – 18.00 Modulo: Regolazione 
 emotiva\n\nPROGRAMMADomenica 05 marzo 2023 ore 09\,00-13\,00 / 14\,00-18\,
 00\n\n09.00 - 11.00 Modulo: Disturbi d’ansia11.00 - 11.15 Pausa caffè11
 .15 - 13.00 Modulo: Disturbi del tono dell’umore13.00 - 14.00 Pausa pran
 zo14.00 - 16.00 Modulo: Comunicazione e abilità interpersonali16.00 - 17.
 30 Modulo: Trauma e dissociazione17.30 - 18.00 Conclusione e discussione d
 i casi clinici\n\nMODALITÀ DI SVOLGIMENTO\n\nIl corso si svolgerà in mod
 alità online attraverso la piattaforma ZOOM.Al termine del corso verrà r
 ilasciato un attestato di partecipazione.\n\nCorso rivolto a Specializzand
 i in Psicoterapia\, Psicologi abilitati alla Psicoterapia\, Medici Psicote
 rapeuti\, Medici Psichiatri e Medici Neuropsichiatri Infantili.\n\n\n\n&nb
 sp\;\n\nE' PREVISTO L'ACCREDITAMENTO DI 24 CREDITI ECM\n\n&nbsp\;\n\nQUOTE
  E MODALITÀ DI ISCRIZIONE\n\n 	€ 210\,00 + iva (tot. € 256\,20) quota
  agevolata per iscrizioni entro il 04 febbraio 2023\n 	&nbsp\;€ 260\,00 
 + iva (tot. € 317\,20) quota standard per iscrizioni successive al 04 fe
 bbraio 2023\n\nN.B. La quota di iscrizione comprende la partecipazione al 
 corso con ECM e la spedizione gratuita del libro "Trattamento dei disturbi
  emotivi comuni: guida pratica per la conduzione dei gruppi" Franco Angeli
  Editore.\n\nPer iscriversi è necessario compilare la scheda online e ver
 sare contestualmente la quota di partecipazione.Il versamento deve avvenir
 e tramite bonifico bancario sul conto intestato a:Scuola di Psicoterapia C
 ognitiva srlIBAN IT87K0538703202000001606300causale “TRATTAMENTO DI GRUP
 PO 2023”\n\nIN CASO DI RINUNCIA NON È PREVISTO IL RIMBORSO DELLA QUOTA 
 DI PARTECIPAZIONE\n\n L’attivazione del corso è subordinata al raggiung
 imento del numero minimo di iscritti\n\n&nbsp\;\n\nBROCHURE
ATTACH;FMTTYPE=image/jpeg:https://apc.it/wp-content/uploads/2022/12/presen
 tazione-disturbi-emotivi-comuni-4-5-marzo-2023-2.png
CATEGORIES:Corsi a pagamento,Corsi ecm
END:VEVENT
END:VCALENDAR