BEGIN:VCALENDAR
VERSION:2.0
PRODID:-//wp-events-plugin.com//7.2.3.1//EN
BEGIN:VEVENT
UID:391@apc.it
DTSTART:20241108T090000Z
DTEND:20241109T173000Z
DTSTAMP:20241016T082455Z
URL:https://apc.it/lista-eventi/trattamento-cognitivo-comportamentale-per-
 il-disturbo-di-insonnia-3/
SUMMARY:TRATTAMENTO COGNITIVO COMPORTAMENTALE PER IL DISTURBO DI INSONNIA
DESCRIPTION:Corso ECM Online\n\nTRATTAMENTO COGNITIVO COMPORTAMENTALE PER I
 L DISTURBO DI INSONNIA\n\n8-9 novembre 2024\norario 9.00-17.30\nResponsabi
 le del corso: Prof.ssa Chiara Baglioni\n&nbsp\;\nQUOTA AGEVOLATA PER ISCRI
 ZIONI ENTRO IL 22 OTTOBRE!\nIl Corso si terrà ONLINE su piattaforma ZOOM 
 in diretta\n21 crediti ECM in FAD Sincrona: è possibile partecipare solam
 ente in diretta\n\nInfo: www.apc.it - corsi@apc.it - Tel e Whatsapp 347356
 6781\n&nbsp\;\n\n\n&nbsp\;\nCORSO ACCREDITATO DALLA SOCIETÀ EUROPEA PER L
 A RICERCA SUL SONNO E DALL’ACCADEMIA EUROPEA PER IL TRATTAMENTO COGNITIV
 O COMPORTAMENTALE DELL’INSONNIA\n&nbsp\;\n\n&nbsp\;\n\nPRESENTAZIONE DEL
  CORSO\n\nL’insonnia è uno dei disturbi più&nbsp\; diffusi nella popol
 azione generale\, i cui costi diretti e indiretti sono allarmanti. Le rece
 nti linee guida europee affermano che il Trattamento Cognitivo-Comportamen
 tale è inequivocabilmente da ritenersi&nbsp\; l’intervento di prima lin
 ea per il disturbo di insonnia. In contrasto con queste indicazioni\, stud
 i epidemiologici indicano che l’offerta clinica attuale in Europa è sca
 rsa e\, quando presente\, il trattamento farmacologico è ad oggi la modal
 ità di intervento dominante.\n\nIl trattamento cognitivo comportamentale 
 per l’insonnia (Cognitive- Behaviour Therapy for Insomnia - CBT-I) inclu
 de una famiglia di interventi basati sull’evidenza empirica che comprend
 ono strategie comportamentali\, cognitive e psicoeducative\n\nA CHI E’ R
 IVOLTO QUESTO CORSO?Specializzandi in psicoterapia e psicologi abilitati a
 lla psicoterapia\, medici psicoterapeuti\, medici psichiatri.\, medici neu
 ropsichiatri infantili.\n\nOBIETTIVI FORMATIVIIl corso ha l’obiettivo di
  fornire ai professionisti conoscenze e strumenti necessari per: \n\n 	far
 e diagnosi di un disturbo di insonnia\; \n 	fare invii specialistici\; \n 
 	applicare le strategie comportamentali e cognitive di base per la regolaz
 ione del sonno\;\n 	promuovere interventi educativi.Attraverso l’utilizz
 o di esemplificazioni cliniche ed esercizi esperienziali questo corso intr
 oduce alla teoria e alla pratica della CBT-I\, seguendo le linee guida per
  un training di alta qualità fornite dall’Accademia Europea per il Trat
 tamento Cognitivo- Comportamentale del Disturbo di Insonnia\n\n\n\n&nbsp\;
 \n\nI contenuti del corso si basano sulle più recenti linee guida interna
 zionali sul trattamento pubblicate nel manuale edito da Wiley nel 2022\n\n
 &nbsp\;\n\n&nbsp\;\n\n&nbsp\;\n\n&nbsp\;\n\nPROGRAMMA\n\nGIORNO 1: Venerd
 ì 8 novembre 20249:00-10:00 Introduzione al corso e alla psicologia clini
 ca del sonno. C. BAGLIONI10:00-11:00 Fondamenti di fisiologia del sonno. P
 . L. RATTI11:00- 11:30 PAUSA11:30- 12:30 Sonno\, processi cognitivi e emoz
 ioni. N. CELLINI12:30-13:30 Le differenze di genere nella psicofisiologia 
 del sonno. L. PALAGINI13:30-14:30 PAUSA PRANZO14:30-15:30 Il disturbo di i
 nsonnia: Epidemiologia ed eziologia. A. BALLESIO15:30-16:30 Criteri diagno
 stici del disturbo di insonnia e diagnosi differenziale.\nC. BAGLIONI16:30
 -17:30 Diari del sonno: Casi clinici e esercitazioni pratiche. C. BAGLIONI
 \n\nGIORNO 2: Sabato 9 novembre 20249:00-10:00 Formulazione del caso e int
 ervista clinica. C. BAGLIONI10:00-11:00 Le dimensioni del sonno sano e il 
 modello stepped-care. A. GALBIATI11:00-11:30 PAUSA11:30- 12:30 Gli interve
 nti comportamentali: Teoria e pratica. C. BAGLIONI12:30-13:30 Gli interven
 ti cognitivi: Teoria e pratica. C. BAGLIONI13:30-14:30 PAUSA PRANZO14:30-1
 5:30 Aspetti da considerare negli interventi per il disturbo di insonnia. 
 S. CEROLINI15:30-16:30 Gli interventi basati sulle tecniche di regolazione
  delle emozioni e le tecniche di rilassamento: Teoria e pratica. S. CEROLI
 NI16:30-17:30 Collaborazione neurologo-psicoterapeuta: la dismissione dei 
 farmaci e altri aspetti. P. L. RATTI\n\nDOCENTIProf.ssa Chiara BaglioniPro
 fessore Associato\, Università degli Studi "Guglielmo Marconi» di Roma.P
 sicologa Psicoterapeuta. Responsabile del servizio clinico di Psicoterapia
  del Sonnosupportato dalla Scuola di Psicoterapia Cognitiva (SPC). Membro 
 dell’Editorial Advisory Board della rivista Journal of Sleep Research. M
 embro dello European Insomnia Network e dello Steering Committee dell’Ac
 cademia Europea per il Trattamento Cognitivo Comportamentale per il Distur
 bo di Insonnia.\n\nProf.ssa Laura PalaginiProfessore Associato\, Universit
 à di Ferrara. Psichiatra. Membro del Direttivo dell’Associazione Italia
 na di Medicina del Sonno (AIMS). Membro del comitato scientifico dell’AI
 MS. Associate Editor della rivista Journal of Sleep Research. Membro dello
  European Insomnia Network e dell’Accademia Europea per il Trattamento C
 ognitivo Comportamentale per il Disturbo di Insonnia.\n\nProf. Nicola Cell
 iniProfessore Associato in Psicobiologia e Psicologia Fisiologica\, Univer
 sità degli Studi di Padova. Psicologo. Membro dell’Editorial Board&nbsp
 \;della rivista&nbsp\;Journal of Cognitive Enhancement\, della&nbsp\;Task 
 Force&nbsp\;per l’utilizzo di&nbsp\;Sleep Trackers&nbsp\;della&nbsp\;Wor
 ld Sleep Society\,&nbsp\;e coordinatore nazionale del gruppo tematico ONIR
 I (Sonno\, ritmi\, e benessere psicosociale) dell’Associazione Italiana 
 di Psicologia.\n\nDott. Pietro Luca RattiNeurologo\, Esperto AIMS (Associa
 zione Italiana di Medicina del Sonno) dei Disturbi del Sonno. Responsabile
  del Servizio Clinico “Al Centro del Sonno” di Venezia. Membro dell’
 International REM Sleep Behavior Disorder Study Group. Fellow in Epilessia
  presso il Centre Hospitalier de l’Universitè de Montréal\, Montrèal\
 , QC\, Canada.\n\nDott.ssa Silvia CeroliniAssegnista di ricerca\, Dipartim
 ento di Psicologia\, Sapienza Università di Roma.Dottore di ricerca in Ps
 icologia e Scienza Cognitiva. Psicologa Psicoterapeuta.Membro dello Europe
 an Insomnia Network e dell’Accademia Europea per il Trattamento Cognitiv
 o Comportamentale per il Disturbo di Insonnia.\n\nDott. Andrea BallesioRic
 ercatore\, Dipartimento di Psicologia\, Sapienza Università di Roma. Dott
 ore diricerca in Psicologia e Scienza Cognitiva. Psicologo Psicoterapeuta.
  Membro dello European Insomnia Network e dell’Accademia Europea per il 
 Trattamento Cognitivo Comportamentale per il Disturbo di Insonnia.\n\nDott
 . Andrea GalbiatiRicercatore\, Facoltà di Psicologia dell’Università 
 “Vita-Salute” San Raffaele diMilano. Membro del Comitato Editoriale de
 ll’Associazione Italiana di Medicina delSonno\, della World Sleep Societ
 y\, e dell’International REM Sleep Behavior Disorder StudyGroup. Membro 
 dello European Insomnia Network e dell’Accademia Europea per ilTrattamen
 to Cognitivo Comportamentale per il Disturbo di Insonnia.\n\nMODALITÀ DI 
 SVOLGIMENTOIl corso si svolgerà in modalità webinar da remoto attraverso
  la piattaforma ZOOM.Al termine del corso verrà rilasciato un attestato d
 i partecipazione.\n\nCORSO RIVOLTO A: Specializzandi in Psicoterapia\, Psi
 cologi abilitati allaPsicoterapia\, Medici Psicoterapeuti\, Medici Psichia
 tri\, Medici Neuropsichiatri Infantili.\n\n\n\n&nbsp\;\n\nÈ PREVISTO L’
 ACCREDITAMENTO DI 21 CREDITI ECM.\n\n&nbsp\;\n\nQUOTE DI PARTECIPAZIONE\n\
 n 	€ 200\,00 + iva (€ 244\,00) quota agevolata per iscrizioni entro il
  22 ottobre 2024\n\n 	€ 250\,00 + iva (€ 305\,00) quota standard per i
 scrizioni successive al 22 ottobre 2024\n\nIN CASO DI RINUNCIA NON È PREV
 ISTO IL RIMBORSO DELLA QUOTA DI PARTECIPAZIONE\n\nÈ possibile pagare la q
 uota di iscrizione in un'unica soluzione con Bonifico Bancario\, Carta di 
 Credito o PayPal.\n\nCLICCA QUI PER ISCRIVERTI AL CORSO\n\nN.B. Le iscrizi
 oni vengono prese sulla nostra nuova piattaforma di erogazione corsi (http
 s://eventi.apc.it/)\, se non sei ancora registrato alla nuova piattaforma 
 dovrai registrarti con i tuoi dati e poi procedere all’iscrizione e al p
 agamento del corso.\n\nPer info: corsi@apc.it – Tel e Whatsapp: 34735667
 81\n\n&nbsp\;\nSegreteria Organizzativa e Provider ECM: \nSPC s.r.l. – P
 rovider ECM Standard ID 3958 - Viale Castro Pretorio\, 116 - Roma\nBROCHUR
 E\n\n&nbsp\;
ATTACH;FMTTYPE=image/jpeg:https://apc.it/wp-content/uploads/2024/05/prima-
 pagina.png
CATEGORIES:Corsi a pagamento,Corsi ecm
END:VEVENT
END:VCALENDAR