BEGIN:VCALENDAR
VERSION:2.0
PRODID:-//wp-events-plugin.com//7.2.3.1//EN
BEGIN:VEVENT
UID:348@apc.it
DTSTART;VALUE=DATE:20240405
DTEND;VALUE=DATE:20240408
DTSTAMP:20231010T102702Z
URL:https://apc.it/lista-eventi/training-dbt-adolescenti-2/
SUMMARY:Training DBT Adolescenti
DESCRIPTION:PRESENTAZIONE\nIl trattamento della fascia giovanile è un tema
  assolutamente centrale della pratica clinica. In presenza di una elevata 
 richiesta ed una mancanza di strumenti “forti”\, vi è un crescente bi
 sogno di trattamenti specifici.\nAnche se la DBT è stata creata per adult
 i con comportamenti suicidari e di disregolazione emotiva\, da oltre 15 an
 ni è stata adattata dal Dottor Alec Miller ed i suoi colleghi di New York
 \, al trattamento di adolescenti con comportamenti suicidari e disregolati
  e alle loro famiglie.\nA seguito di risultati incoraggianti in uno studio
  pilota\, è stato pubblicato il manuale di trattamento per DBT-A (Miller\
 , Raptus &amp\; Linehan\, 2007). L'implementazione si è diffusa negli Sta
 ti Uniti\, in molti paesi europei tra cui U.K\, in Canada\, Australia\, Nu
 ova Zelanda e altrove. Il manuale completo DBTA skill training è stato pu
 bblicato nel 2015 (Rathus\, Miller\, &amp\; Linehan). Sono stati avviati s
 tudi clinici randomizzati negli U.S.A. e in Norvegia (Mehlum et al.\, 2016
 ) ed i risultati sono molto positivi per la riduzione di autolesionismo\, 
 tentativi di suicidio\, disregolazione\, emozioni dolorose e altri problem
 i comportamentali.\nIl workshop è una nuova edizione del primo livello te
 nutosi a Bologna nell’Aprile 2018 e on-line nell’Ottobre 2020.\nPer co
 loro che hanno partecipato a qualsiasi workshop intensivo DBT e che voglio
 no curare gli adolescenti\, questo è il laboratorio ideale. Per coloro co
 n una minore formazione nella DBT ma che vogliono curare gli adolescenti c
 on la DBT\, questo workshop sarà adatto se accompagnato da letture e stud
 io personale. Tra i metodi didattici utilizzati per l’insegnamento ci sa
 ranno discussioni\, esercizi esperienziali e dimostrazioni da parte di uno
  dei leaders mondiali della DBT.\nQuesto workshop è organizzato con la fi
 nalità di promuovere l'implementazione di DBT-A per gli adolescenti ed i 
 genitori in tutta Italia in ambito di salute mentale e scolastico. Gli obi
 ettivi saranno:\n\n\n 	Fornire il razionale dell'applicazione della DBT ag
 li adolescenti\, descrivere come la DBT standard è modificata per la DBT-
 A\, chiarire gli obiettivi e le strutture di trattamento\, rivedere le evi
 denze della ricerca e descrivere la natura delle abilità insegnate nella 
 DBT- A\;\n 	insegnare ai partecipanti come condurre un gruppo di skills tr
 aining con adolescenti e genitori\;\n 	descrivere come le skills training 
 della DBT-A vengano implementate negli ambienti scolastici\;\n 	istruire e
  dimostrare come condurre una terapia individuale con gli adolescenti asso
 ciata all’addestramento alle skills\;\n 	insegnare come fare la terapia 
 familiare all'interno di questo modello quando è indicato\;\n 	affrontare
  sfide e soluzioni nell'implementazione di DBT-A in diversi setting.\nA se
 guito di questo workshop i partecipanti saranno in grado di sviluppare int
 erventi utilizzando la DBT-A.\n\n\nSi precisa che infermieri\, educatori p
 rofessionali\, tecnici della riabilitazione psichiatrica e psicologi potra
 nno utilizzare la parte psicoeducativa all’interno di una equipe che pre
 vede la figura dello psicoterapeuta\, al fine di allineare le conoscenze d
 elle metodologie applicate. Si specifica che tutte le altre tecniche non p
 sicoeducative sono di esclusiva competenza dello psicoterapeuta.\n\nIl Pro
 f. Alec L. Miller\, PsyD\, è co-fondatore dello studio di consulenza “C
 ognitive and Behavioral Consultants” di Westchester\, NY. Presso il Mont
 efiore Medical Center/Albert Einstein College of Medicine di Bronx (NY) ha
  incarichi di Direttore Associato del programma di training in Psicologia\
 , Professore di Psichiatria Clinica e Scienze Comportamentali\, Direttore 
 del servizio di Psicologia per Bambini e Adolescenti\, del Programma Depre
 ssione e Suicidi negli Adolescenti e dei Servizi Clinici del Centro PS 8 d
 el Montefiore School Health Program.\nHa conseguito la laurea presso l'Uni
 versità del Michigan ad Ann Arbor prima di conseguire il dottorato in psi
 cologia clinica presso la Ferkauf Graduate School of Psychology dell'Unive
 rsità Yeshiva di Bronx\, NY. È conosciuto a livello internazionale come 
 esperto\nnell’ambito della depressione\, delle problematiche di autolesi
 onismo e suicidio adolescenziale oltre che come Maestro in DBT.\nDal 1995 
 il Prof. Miller dirige un team clinico di ricerca che adatta la DBT agli a
 dolescenti suicidari multi-problematici\, oltre a contribuire all’adatta
 mento della DBT ad altre tipologie di pazienti e settings.\nTrainer DBT da
 l 1997 ha condotto oltre 300 conferenze e seminari in tutto il mondo. E’
  stato il principale trainer e coinvestigator del primo studio randomizzat
 o controllato pubblicato in Norvegia (Mehlum et al.\, 2016) sulla riduzion
 e dell'autolesionismo\, della depressione\, della disperazione e dei sinto
 mi di BPD. Su invito dell’American Psychological Association il dottor M
 iller ha sviluppato un video di formazione in psicoterapia dal titolo "DBT
  for Multi-Problem Adolescents" (2007).\nE’ autore di oltre 60 pubblicaz
 ioni scientifiche e capitoli di libri tra cui “Dialectical Behavior Ther
 apy with Suicidal Adolescents” (2007) e “Childhood Maltreatment “ (2
 006).\n\nIl workshop è rivolto a psicologi psicoterapeuti\, psichiatri ps
 icoterapeuti\, neuropsichiatri infantili\, infermieri professionali\, educ
 atori professionali\, tecnici della riabilitazione psichiatrica\, psicolog
 i specializzandi in psicoterapia\, medici specializzandi in psicoterapia\,
  psichiatria e neuropsichiatria infantile.\nE’ prevista la traduzione co
 nsecutiva.\n\n\nORARI\nIl workshop si terrà in presenza a Bologna (non è
  prevista la modalità on-line) Venerdì 5 Aprile\, Sabato 6 Aprile\, Dome
 nica 7 Aprile 2024 dalle ore 09:00 alle ore 13:00 e dalle ore 14:00 alle o
 re 17:30 per un totale di 21 ore formative.\n\n\nCREDITI E.C.M.\nIl worksh
 op è accreditato per massimo 200 partecipanti e prevede il rilascio di 14
 \,7 crediti formativi per le seguenti professioni e discipline:\nMEDICO 
 – discipline di riferimento: Psichiatria\, Psicoterapia\, Neuropsichiatr
 ia Infantile\nPSICOLOGO – discipline di riferimento: Psicologia\, Psicot
 erapia\nINFERMIERE\nEDUCATORE PROFESSIONALE\nTECNICO DELLA RIABILITAZIONE 
 PSICHIATRICA\nPer l’acquisizione dei crediti ECM sarà necessario:\n- pa
 rtecipare ad almeno il 90% del programma formativo (escluse pause)\n- risp
 ondere correttamente ad almeno il 75% delle domande del test di valutazion
 e\napprendimento\n- Compilare il questionario di gradimento evento\n\n\nIS
 CRIZIONE E QUOTA DI ISCRIZIONE\nLe iscrizioni apriranno venerdì 15 Settem
 bre ore 10:00\nIl workshop è a numero chiuso\, si consiglia di iscriversi
  con molto anticipo rispetto alle scadenze indicate. \n\nE’ possibile is
 criversi a questo link: https://www.fullday.com/DBT-A-2024\n\n\nQuota di i
 scrizione ridotta entro il 31 Ottobre 2023\n\n\n 	Quota ridotta entro il 3
 1/10/23 € 500 + IVA 22% (€ 610 IVA INCLUSA)\nUSA IL CODICE SCONTO DBT-
 A-610\n 	Quota di iscrizione dal 1° Novembre 2023\n 	Quota regolare dal 1
 °/11/23 € 650 + IVA 22% (€ 793 IVA INCLUSA)\n\nLe quote includono la 
 partecipazione ai lavori\, l’attestato di partecipazione\, i crediti ECM
  per le professioni e discipline accreditate.\n\nIl versamento della quota
  di iscrizione dovrà essere effettuato contestualmente alla richiesta di 
 iscrizione tramite bonifico bancario intestato a:\nFULL DAY S.r.l.\nUnicre
 dit Banca SpA Agenzia 707 - Via Taranto 49\nIBAN: IT 55 U 02008 05206 0000
  02455448\nSWIFT: UNCRITM1707\nSulla causale dovrà essere indicato il nom
 e e cognome e la dicitura: “Corso DBT-A-2024".\nLe iscrizioni senza paga
 mento saranno annullate.\n\nMAGGIORI INFORMAZIONI\nPer ulteriori informazi
 oni e aggiornamenti e per iscriversi al training Vi invitiamo a visitare i
 l sito web dell’evento https://www.fullday.com/DBT-A-2024 \n\nSCARICA LA
  BROCHURE\n\n&nbsp\;
ATTACH;FMTTYPE=image/jpeg:https://apc.it/wp-content/uploads/2023/10/presen
 tazione-DBT-5-6-7-aprile-2024-2.png
CATEGORIES:Corsi a pagamento,Corsi ecm
END:VEVENT
END:VCALENDAR