BEGIN:VCALENDAR
VERSION:2.0
PRODID:-//wp-events-plugin.com//7.2.3.1//EN
BEGIN:VEVENT
UID:118@apc.it
DTSTART:20210529T160000Z
DTEND:20210529T200000Z
DTSTAMP:20210203T101848Z
URL:https://apc.it/lista-eventi/terapia-metacognitiva-delle-psicosi-e-del-
 cluster-a/
SUMMARY:Terapia metacognitiva delle psicosi e del Cluster A
DESCRIPTION:\nTerapia metacognitiva delle psicosi e del Cluster A\nper iscr
 iverti clicca qui \n\nPaul Lysacker\n\n29 maggio 2021\norario 16.00-20.00
 \nINTRODUZIONE\n\n\nUn corpus crescente di ricerche suggerisce che la magg
 ior parte dei pazienti con diagnosi di psicosi sperimenta deficit metac
 ognitivi ovvero deficit nella capacità di formare idee integrate su sé 
 stessi e gli altri.\n\nConseguentemente\, possono avere difficoltà a form
 are idee flessibili e differenziate sulle sfide che devono affrontare e su
  come gestirle nel modo più efficace e riguadagnare il proprio benessere.
 \n\nA partire dalle evidenze raccolte in tale ambito\, si è sviluppata u
 na nuova forma di psicoterapia con l’obiettivo di promuovere le capacit
 à metacognitive negli adulti con psicosi e con disturbi di personalità
  del Cluster A.\n\nDenominato Metacognitive Reflection and Insight Therap
 y o MERIT\, questo approccio integrato ha lo scopo di fornire ai professio
 nisti le competenze per implementare e orientare il loro intervento.\n\nL
 ’obiettivo primario è quello di aiutare i pazienti a dare un significat
 o personale e complesso alle sfide che affrontano e decidere come gestirle
  attivamente e divenire loro stessi promotori del proprio cambiamento.\n\n
 Il workshop presenterà imoduli dell’intervento e la ricerca a sostegno 
 della MERIT\, con particolare riferimento alle sueapplicazioni cliniche t
 ramite videoregistrazioni di sedute e discussione di casi.\n\nCONTENUTI\n\
 n 	Il concetto di metacognizione: definizioni\, presupposti e applicazione
  cliniche\n 	Valutazione della metacognizione con la scala MAS-A (Metacogn
 itive Assessment Scale Abbreviated)\n 	Gli otto moduli della MERIT\n 	Evid
 enze a supporto dell’uso della MERIT\n\n\nOBIETTIVI\n\n\n 	I partecipant
 i saranno in grado di concettualizzare come i deficit metacognitivi si
 ano di ostacolo al recupero dalla psicosi\;\n 	I partecipanti saranno in g
 rado di utilizzare un sistema per la valutazione della metacognizione al
 l’interno della pratica clinica\;\n 	I partecipanti saranno in grado di
  applicare gli otto moduli base della MERIT e promuovere le capacità met
 acognitive all’interno delle sessioni con i propri pazienti.\n\nDOCENTE
 \n\n\n\nPaul H. Lysaker è uno psicologo clinico presso il Roudebush VA M
 edical Center e professore di psicologia clinica presso il Dipartimento di
  Psichiatria della Indiana University School of Medicine\, negli Stati Uni
 ti.\n\nHa pubblicato oltre 450 articoli su riviste peer-reviewed\, decine 
 di capitoli\, numerosi libri ed è uno scienziato attivo a livello interna
 zionale nel campo della psicopatologia clinica.\n\nLa traduzione italiana 
 del manuale della MERIT è stata pubblicata da Franco Angeli (Lysaker &amp
 \; Klion\, Terapia Metacognitiva delle Psicosi).\n\n\nORGANIZZATORE\n\nIl
  corso è organizzato da  Tages Onlus e Scuole di Specializzazione in P
 sicoterapia Cognitiva APC-SPC.\n\n\n  \n\n\nCORSO\n\n\nIl corso si svolg
 e il 29 maggio 2021 dalle 16 alle 20\, in modalità Webinar (in diretta
 ).\n\nPossono iscriversi psicologi e medici specializzati o specializzan
 di in psichiatria o neuropsichiatria.\n\nLe iscrizioni sono aperte fino al
  28 maggio 2021 alle ore 12.\n\nSono stati richiesti 4\,5 crediti ECM.\n
 \nAl termine del corso verrà rilasciato l’attestato di partecipazione.\
 n\nÈ prevista la traduzione simultanea dall’inglese all’italiano (
 è possibile scegliere quale canale audio seguire).\n\nImporto 100\,00 Eur
 o. Il prezzo è comprensivo di IVA. \n\nper iscriverti clicca qui \n\n\n
 &nbsp\;
ATTACH;FMTTYPE=image/jpeg:https://apc.it/wp-content/uploads/2021/02/presen
 tazione-terapia-metacognitiva-lysacker-29-maggio-2021.jpg
CATEGORIES:Corsi a pagamento,Corsi ecm
END:VEVENT
END:VCALENDAR