BEGIN:VCALENDAR
VERSION:2.0
PRODID:-//wp-events-plugin.com//7.2.3.1//EN
BEGIN:VEVENT
UID:375@apc.it
DTSTART:20240419T130000Z
DTEND:20240419T181500Z
DTSTAMP:20240220T103658Z
URL:https://apc.it/lista-eventi/summit-internazionale-dipendenza-affettiva
 -patologica-e-violenza-di-genere/
SUMMARY:Summit Internazionale - DIPENDENZA AFFETTIVA PATOLOGICA E VIOLENZA 
 DI GENERE
DESCRIPTION:Summit Internazionale\nDIPENDENZA AFFETTIVA PATOLOGICA E VIOLEN
 ZA DI GENERE\n19 aprile 2024 - ore 13.00-18.15\nEsperti di spicco discuter
 anno i fattori di rischio e le possibili strategie di intervento della vio
 lenza di genere\, esplorando tematiche cruciali come la dipendenza affetti
 va patologica e la connessione tra divorzio conflittuale e violenza\, con 
 riferimento alle vittime dirette e indirette\, inclusi i minori orfani a s
 eguito di crimini domestici.\n&nbsp\; Prof. Dr. Arnould Arntz\nDr. Erica P
 ugliese\nDr. Arnold Van Emmerik\nProf. Dr. Corine de Ruiter\nDr. Maria Gra
 zia Foschino Barbaro\n&nbsp\;\nIl Summit si terrà ONLINE su Zoom esclusiv
 amente in diretta in data 19 aprile dalle 13.00 alle 18.15\n\n7\,5 crediti
  ECM in FAD Sincrona:\nè possibile partecipare solamente in diretta\n\nIn
 fo: www.apc.it - corsi@apc.it - Tel e Whatsapp 3473566781\n\n\n\n\n\n\n\n\
 n\n\n\n\nQUOTE E MODALITÀ DI ISCRIZIONE\n\n 	€ 80\,0 +iva (totale € 9
 7\,60) Quota agevolata per iscrizioni entro il 31/03/2024\;\n\n&nbsp\;\n\n
  	€ 95\,00 +iva (totale € 115\,90) Quota standard per iscrizioni succe
 ssive al 31/03/2024.\n\n\n&nbsp\;\n\nIN CASO DI RINUNCIA NON È PREVISTO I
 L RIMBORSO DELLA QUOTA DI PARTECIPAZIONE\n\nÈ possibile pagare la quota d
 i iscrizione in un'unica soluzione con Bonifico Bancario\, Carta di Credit
 o o PayPal.\n\nCLICCA QUI PER ISCRIVERTI AL SUMMIT\n\nN.B. Le iscrizioni v
 engono prese sulla nostra nuova piattaforma di erogazione corsi (https://e
 venti.apc.it/)\, se non sei ancora registrato alla nuova piattaforma dovra
 i registrarti con i tuoi dati e poi procedere all’iscrizione e al pagame
 nto del corso.\n\nPer info: corsi@apc.it – 3473566781\n\nSegreteria Orga
 nizzativa e Provider ECM: \n\nSPC s.r.l. – Provider ECM Standard ID 3958
  – Viale Castro Pretorio\, 116 – Roma\n\nBROCHURE
ATTACH;FMTTYPE=image/jpeg:https://apc.it/wp-content/uploads/2024/02/SUMMIT
 -DIPENDENZE-AFFETTIVE-1.png
CATEGORIES:Convegni,Corsi a pagamento,Corsi ecm,Simposi
END:VEVENT
END:VCALENDAR