BEGIN:VCALENDAR
VERSION:2.0
PRODID:-//wp-events-plugin.com//7.2.3.1//EN
BEGIN:VEVENT
UID:390@apc.it
DTSTART:20240510T090000Z
DTEND:20240511T180000Z
DTSTAMP:20240410T095046Z
URL:https://apc.it/lista-eventi/summit-internazionale-2024-il-disturbo-oss
 essivo-compulsivo/
SUMMARY:Summit Internazionale 2024 Il Disturbo Ossessivo-Compulsivo
DESCRIPTION:\n\n\n\n\n\n10 e 11 Maggio 2024&nbsp\;| 14 ore |&nbsp\;14 ECM\n
 &nbsp\;\n\nPESI Italia srl e le Scuole di Specializzazione in Psicoterapia
  Cognitiva (APC e SPC)&nbsp\;ti offrono l’opportunità di partecipare al
 l’edizione del 2024 del&nbsp\;Summit sul Disturbo Ossessivo-Compulsivo\,
  una due giorni incentrata sui più aggiornati modelli di intervento rispe
 tto al DOC\, con i maggiori esperti internazionali del settore.\n\n\n\n\n\
 n\n\n\n\n\n\n\nIl disturbo ossessivo compulsivo (DOC) è una delle dieci m
 alattie mentali più invalidanti e che determina una peggiore qualità di 
 vita\, secondo quanto indicato dall’Organizzazione Mondiale di Sanità (
 OMS). La prevalenza del DOC nel corso della vita è del 2.5%.&nbsp\;\nLe p
 ersone con DOC hanno una&nbsp\;qualità di vita molto bassa\, infatti il D
 OC può distruggere le relazioni interpersonali\, portando gli individui a
  conflitto coniugale\, separazione e divorzio\, e può anche interferire p
 esantemente con la capacità delle persone di studiare o lavorare. Infatti
 \, per quanto riguarda la realizzazione scolastica/lavorativa\, sappiamo c
 he molti pazienti con DOC&nbsp\;non riescono a studiare né a lavorare\,&n
 bsp\;o hanno un’occupazione ben al di sotto dei loro titoli di studio e 
 delle loro capacità. Inoltre\, hanno problemi nello svolgere le normali a
 ttività quotidiane\, e le loro relazioni sociali e sentimentali risultano
  profondamente danneggiate.\n\nDiversi studi hanno dimostrato che la quali
 tà di vita di questi pazienti&nbsp\;è peggiore di quella delle persone c
 on depressione\, schizofrenia\, e dipendenza da sostanze.\n\nSecondo il DS
 M-5\,&nbsp\;pensieri suicidari&nbsp\;sono presenti nella metà degli indiv
 idui con DOC\, e circa il 25% di pazienti tenta il suicidio.&nbsp\;&nbsp\;
 &nbsp\;&nbsp\;\n\nIl DOC oggi è considerato un disturbo curabile\, e la&n
 bsp\;terapia cognitivo comportamentale è il trattamento elettivo.&nbsp\;C
 iononostante\, un certo numero di pazienti risulta resistente al trattamen
 to. Inoltre\, va considerato il tempo lunghissimo\, fino a 15 anni\, che d
 i solito intercorre tra l’esordio dei sintomi ossessivo-compulsivi e il 
 ricorso all’aiuto specialistico. In questo lungo lasso di tempo i pazien
 ti con il DOC affrontano ostacoli e sofferenze in tutte le aree di funzion
 amento importanti.\n\nEcco perché è fondamentale diffondere tra gli psic
 oterapeuti e gli psichiatri le conoscenze sul disturbo ossessivo-compulsiv
 o e sugli&nbsp\;interventi psicoterapici&nbsp\;evidence-based&nbsp\;per cu
 rarlo.\n\nIl Summit sul DOC 2024 ha un duplice obiettivo:\n\n 	Offrire spi
 egazioni dettagliate e accurate di come il DOC funzioni\, attraverso prese
 ntazioni teoriche arricchite da esempi clinici sulla sua fenomenologia e s
 ui suoi meccanismi di mantenimento.\n 	Presentare nuove strategie e tecnic
 he di trattamento attraverso workshop pratici.&nbsp\;\n\n\n\n\n\nObiettivi
  didattici\n\n 	Descrivere il DOC e il&nbsp\;ruolo del senso di colpa&nbsp
 \;nella sua genesi e mantenimento.\n 	Imparare a gestire i&nbsp\;cicli int
 erpersonali familiari&nbsp\;che contribuiscono a esacerbare i suoi sintomi
 .\n 	Adattare alcune tecniche derivate dalla&nbsp\;self-compassion therapy
  e dalla schema focused therapy&nbsp\;al trattamento del DOC\;\n 	Includer
 e&nbsp\;nuovi strumenti di misura dei sintomi&nbsp\;nella propria pratica 
 clinica.\n 	Gestire e&nbsp\;ridurre i sintomi del DOC da relazione&nbsp\;(
 R-OCD).\n 	“Agganciare” in terapia i pazienti con DOC che presentano&n
 bsp\;in comorbilità un disturbo di personalità.\n 	Adattare l’Esposizi
 one con Prevenzione della Risposta (E/RP)&nbsp\;alle sedute condotte in mo
 dalità online.\n 	Identificare e superare le specifiche sfide nel trattam
 ento di pazienti con temi di&nbsp\;scrupolosità e religiosi.\n 	Comprende
 re le strategie di cambiamento più efficaci per il&nbsp\;disturbo dismorf
 ofobico.&nbsp\;\n\n\n\n\n\n\n\nCaratteristiche del Corso\n\n\n\n\n\nIl cor
 so si svolgerà Venerdì 10 Maggio e Sabato 11 Maggio 2024\, per un&nbsp\;
 totale di 14 ore di Alta Formazione!&nbsp\;\n\n\n\n\n\n\n\n\n\n\n\n\n\n\n\
 n\n\n\n\n\nLe sessioni del Summit vengono svolte su&nbsp\;ZOOM\, con servi
 zio di&nbsp\;interpretariato&nbsp\;simultaneo. Verranno inoltre video regi
 strate e tutti i video ti rimarranno disponibili per&nbsp\;12 mesi&nbsp\;n
 ella tua area riservata di FCP.&nbsp\;\n\n\n\n\n\n\n\n\n\n\n\n\n&nbsp\;\nD
 estinatari\n\n\n\n\n\nIl Summit è riservato a&nbsp\;psicologi e medici ab
 ilitati all’esercizio della psicoterapia e a specializzandi in psicotera
 pia.\n14 crediti ECM\nPESI Italia srl . società che gestisce&nbsp\;Formaz
 ione&nbsp\;Continua in&nbsp\;Psicologia è Provider ECM&nbsp\; n° 6888&nb
 sp\;accreditato dall’ l’Age.Na.S. (Agenzia nazionale per i servizi san
 itari regionali) per la progettazione e l’erogazione dei corsi di formaz
 ioni per il personale sanitario\, nell’ambito del programma di educazion
 e continua in medicina (ECM).\n\nIl presente corso è accreditato in FAD A
 sincrona.\n\nID Evento: 408470\n\nCrediti ECM: 14\n\nObiettivi formativi d
 i sistema:2 – Linee guida – protocolli – procedure\;\n\nProfessioni:
  Psicologo: psicologia e psicoterapia. Medico Chirurgo: psicoterapia\n\n\n
 La prova di apprendimento consisterà in un questionario composto da&nbsp\
 ;42 domande&nbsp\;a risposta multipla con 4 possibilità di risposta di cu
 i una sola giusta. Bisogna superare almeno il 75% delle risposte.\n\n\nVIS
 ITA IL SITO ED ISCRIVITI AL SUMMIT\n\n\n\n\n\n\n\n\n\n\n\n
ATTACH;FMTTYPE=image/jpeg:https://apc.it/wp-content/uploads/2024/04/PRESEN
 TAZIONE-SUMMIT-INTERNAZIONALE-DOC-10-11-MAGGIO-2024.png
CATEGORIES:Corsi ecm
END:VEVENT
END:VCALENDAR