BEGIN:VCALENDAR
VERSION:2.0
PRODID:-//wp-events-plugin.com//7.2.3.1//EN
BEGIN:VEVENT
UID:356@apc.it
DTSTART:20241122T090000Z
DTEND:20241123T180000Z
DTSTAMP:20241016T084609Z
URL:https://apc.it/lista-eventi/strumenti-pratici-per-la-diagnosi-nei-dist
 urbi-di-personalita-3/
SUMMARY:STRUMENTI PRATICI PER LA DIAGNOSI NEI DISTURBI DI PERSONALITÀ
DESCRIPTION:Corso ECM Online\n\nSTRUMENTI PRATICI PER LA DIAGNOSI NEI DISTU
 RBI DI PERSONALITÀ\n\nMMPI-2\; PID-5\; SCID-5-PD\; SCID-5 AMPD\nDiagnosi 
 dimensionale\, categoriale e di funzionamento\n22-23 novembre 2024\nore 09
 .00-18.00\n&nbsp\;\n Dott. Giuseppe Femia\n\nQuota agevolata per iscrizion
 i entro il 31 ottobre!\n\nIl Corso si terrà ONLINE su piattaforma ZOOM in
  diretta\n24 crediti ECM in FAD Sincrona: è possibile partecipare solamen
 te in diretta\n\nInfo: www.apc.it - corsi@apc.it - Tel e Whatsapp 34735667
 81\n\n\n\n\n\n\n\n\nCORSO RIVOLTO A:\n\nPsicologi iscritti all'Albo\, Spec
 ializzandi in Psicoterapia\, Psicologi abilitati alla Psicoterapia\, Medic
 i Psicoterapeuti\, Medici Psichiatri e Medici Neuropsichiatri Infantili.\n
 CREDITI ECM:\n\n\nÈ previsto l’accreditamento di 24 crediti ECM in FAD 
 SINCRONA\n\nMODALITA' DI PARTECIPAZIONE:\nIl corso si svolgerà in modalit
 à online su piattaforma ZOOM. Sarà possibile partecipare al corso esclus
 ivamente in diretta.\nQUOTE E MODALITÀ DI ISCRIZIONE\n\n 	€&nbsp\;200\,
 00 +iva (totale € 244\,00) Quota agevolata per iscrizioni entro il 31/10
 /2024\;\n 	€ 250\,00 +iva (totale € 305\,00) Quota standard per iscriz
 ioni successive al 31/10/2024.\n\n&nbsp\;\n\nIN CASO DI RINUNCIA NON È PR
 EVISTO IL RIMBORSO DELLA QUOTA DI PARTECIPAZIONE\n\nÈ possibile pagare la
  quota di iscrizione in un'unica soluzione con Bonifico Bancario\, Carta d
 i Credito o PayPal.\n\nCLICCA QUI PER ISCRIVERTI AL CORSO\n\nN.B. Le iscri
 zioni vengono prese sulla nostra nuova piattaforma di erogazione corsi (ht
 tps://eventi.apc.it/)\, se non sei ancora registrato alla nuova piattaform
 a dovrai registrarti con i tuoi dati e poi procedere all’iscrizione e al
  pagamento del corso.\n\nPer info: corsi@apc.it – Tel e Whatsapp: 347356
 6781\nSegreteria Organizzativa e Provider ECM: \nSPC s.r.l. – Provider E
 CM Standard ID 3958 - Viale Castro Pretorio\, 116 - Roma\nBROCHURE\n\n&nbs
 p\;
ATTACH;FMTTYPE=image/jpeg:https://apc.it/wp-content/uploads/2023/11/PSICOD
 IAGNOSTICA-2024.png
CATEGORIES:Corsi a pagamento,Corsi ecm
END:VEVENT
END:VCALENDAR