BEGIN:VCALENDAR
VERSION:2.0
PRODID:-//wp-events-plugin.com//7.2.3.1//EN
BEGIN:VEVENT
UID:147@apc.it
DTSTART:20211106T090000Z
DTEND:20211107T170000Z
DTSTAMP:20211026T075919Z
URL:https://apc.it/lista-eventi/salute-mentale-trauma-e-migrazione-la-pres
 a-in-carico-psicologica-di-adulti-e-minori-stranieri-non-accompagnati/
SUMMARY:SALUTE MENTALE\, TRAUMA E MIGRAZIONE La presa in carico psicologica
  di adulti e minori stranieri non accompagnati
DESCRIPTION:\nCORSO SOLD OUT - Le iscrizioni sono chiuse\nPer lista di atte
 sa scrivere a iscrizioniworkshop@apc.it\nSALUTE MENTALE\, TRAUMA E MIGRAZI
 ONE\nLa presa in carico psicologica di adulti e\nminori stranieri non acco
 mpagnati\nMarzia Albanese\, Maria Grazia Foschino Barbaro\n\n6-7 novembre 
 2021\norario 9.00-17.00\n\nPRESENTAZIONE\n\nLa migrazione rappresenta un a
 spetto caratterizzante l’attuale demografia del nostro paese\, ponendoci
  davanti ad un’importante compito di integrazione psico-sanitaria che no
 n può non tener conto di rilevanti vulnerabilità psicologiche specifiche
  per questo\ncampione clinico: mancata realizzazione del progetto migrator
 io\, stress transculturale\, perdita dello stato sociale\, discriminazione
 \, eventi traumatici come torture\, abusi e fenomeni di violenza intenzion
 ale estrema.\nSaper intervenire nella presa in carico di questa tipologia 
 di pazienti\, pone non poche sfide per il clinico che necessita dunque\, p
 er poterlo fare\, di una specifica formazione.\nObiettivi del corso:\nOffr
 ire competenze nell’ambito della salute mentale e della migrazione spend
 ibili in contesti lavorativi interculturali pubblici e privati (CAS\, SAI\
 , ONLUS\, Associazioni\, ecc…) grazie all’acquisizione di:\n• conosc
 enze sul fenomeno della migrazione\, delle sue specificità e delle necess
 ità cliniche che ne conseguono\n• conoscenze in merito ad una efficace 
 presa in carico psicodiagnostica e psicoterapeutica per il trattamento dei
  disturbi posttraumatici dei richiedenti asilo e rifugiati sia adulti (pri
 ma giornata)\, che minori stranieri non accompagnati (seconda giornata).\n
 \nDOCENTI\n\nDr.ssa Marzia Albanese\nPsicologa e psicoterapeuta presso la 
 Scuola di Psicoterapia Cognitiva di Roma\, dove svolge attività clinica e
  di ricerca.\nDopo aver collaborato con il Centro Salute Migranti Forzati 
 (SaMiFo) della ASL Roma 1 e lavorato presso i Centri di Accoglienza Straor
 dinaria di Roma e provincia per la valutazione\ne il trattamento del Distu
 rbo da Stress Post-traumatico nei richiedenti asilo e rifugiati\, è attua
 lmente psicologa e psicoterapeuta dell’Associazione Crossing Dialogues p
 er l’individuazione e la presa in carico terapeutica delle vittime di to
 rtura e violenza intenzionale nel Progetto “Implementation in a Public M
 ental Health Service of the Italian Guidelines for refugees and asylum see
 kers victims of torture and other forms of\nintentional violence”.\nSvol
 ge inoltre la sua attività clinica presso il Consiglio Italiano per i Rif
 ugiati (CIR)\, dove segue i soggetti vulnerabili all’interno del Progett
 o “SAI Roma Città Aperta”.\n\nDr.ssa Maria Grazia Foschino Barbaro\nR
 esponsabile dell'U.O.S.D. Psicologia dell'Ospedale Pediatrico di Bari. Res
 ponsabile scientifico di GIADA (Gruppo Interdisciplinare Assistenza Donne 
 e bambini Abusati)\, Centro specialistico regionale per la prevenzione\, l
 a diagnosi e la cura delle forme di violenza ai danni dei minorenni. Respo
 nsabile scientifico della Commissione multidisciplinare per l'accertamento
  sociosanitario dell'età dei minori stranieri non accompagnati (MSNA). E'
 \nvicepresidente CISMAI (Coordinamento Italiano Servizi contro il Maltratt
 amento e l'Abuso Infantile)\, referente presso il Tavolo nazionale minori 
 migranti\, ha coordinato la commissioni scientifica sulla salute mentale d
 ei MSNA. Recentemente ha contribuito alla\nredazione delle Linee guida e d
 el Manuale Operativo della Puglia in materia di maltrattamento ai danni de
 lle persone di minore età e al documento del CISMAI sui Requisiti minimi 
 per la presa in carico integrata dei minori stranieri non accompagnati. Di
 rige la Scuola di Specializzazione in Psicoterapia Cognitiva (AIPC) sede\n
 di Bari.\n\nPROGRAMMA\n\nSabato 06 novembre 2021 ore 09-17 – Dr.ssa Alba
 nese\n➢ 9.00 – 9.30 Presentazione degli scopi del corso e introduzione
  al fenomeno della migrazione\n➢ 9.30 – 10.30 Fattori di vulnerabilit
 à e profilo di salute mentale di richiedenti asilo e rifugiati\nIl distur
 bo post-traumatico da stress nel migrante: caratteristiche specifiche\n➢
  10.30 – 10.45 Pausa\n➢ 10.45 – 13.00 La presa in carico del migrant
 e – parte I:\nValutazione psicodiagnostica (PCL – 5\, DES-II\, NFQ)\nE
 sercitazione pratica\n➢ 13.00 – 14. 00 Pausa Pranzo\n➢ 14.00 – 15.
 30 La presa in carico del migrante – parte II:\nIl trattamento della dis
 sociazione strutturale (L’approccio di Onno Van Der Hart e la sua applic
 azione con le vittime di tortura)\n➢ 15.30 – 16.30 Esercitazioni\n➢ 
 16-30 – 17.00 Discussione e saluti\n\nDomenica 07 novembre 2021 ore 09-1
 7 – Dr.ssa Foschino Barbaro\n➢ 9.00 – 9.30 Introduzione\n➢ 9.30 
 – 10.30 Crescere altrove: la condizione di vulnerabilità dei MSNA\n➢ 
 10.30 – 11.00 Le norme e le tutele: accoglienza e presa in carico\n➢ 1
 1.00 – 11.15 Pausa\n➢ 11.15 – 12. 00 La valutazione psicologica per 
 l'accertamento sociosanitario dell’età - Esercitazioni\n➢ 12.00 – 1
 3.00 Traumi migratori e disturbo da stress post traumatico\n➢ 13.00 – 
 14.00 Pausa Pranzo\n➢ 14-00 – 15.00 Modelli di intervento cognitivo- c
 omportamentale evidence based:\nLa Trauma Focused Cognitive Behavioral The
 rapy (TF-CBT)\nLa Narrative Exposure Therapy (NET)\n➢ 15-00 – 16.30 Pr
 esentazione casi clinici - Esercitazioni\n➢ 16-30 – 17.00 Discussione 
 e saluti\n\nMODALITA' DI SVOLGIMENTO\n\nIl corso si svolgerà in modalità
  online attraverso la piattaforma ZOOM.\nAl termine del corso verrà rilas
 ciato un attestato di partecipazione.\nCorso rivolto a Neolaureati in Psic
 ologia e Medicina\, Psicologi iscritti all’ Albo\, Specializzandi in Psi
 coterapia\, Psicologi abilitati alla Psicoterapia\, Medici Psicoterapeuti\
 , Medici Psichiatri r Medici Neuropsichiatri Infantili\n\nIL CORSO È A NU
 MERO CHIUSO (max 30 iscritti)\n\nÈ PREVISTO L’ ACCREDITAMENTO DI 21 CRE
 DITI ECM\nN.B. Per l’attribuzione dei crediti è richiesta la&nbsp\;freq
 uenza del 90%&nbsp\;delle sessioni scientifiche in programma e almeno il&n
 bsp\;75%&nbsp\;di risposte corrette al questionario di valutazione apprend
 imento.\n\n&nbsp\;\n\nQUOTA E MODALITA' DI ISCRIZIONE\n\n❖ € 200\,00 +
  iva (tot. € 244\,00)\nquota agevolata per iscrizioni ENTRO il 06 ottobr
 e 2021\n❖ € 250\,00 + iva (tot. € 305\,00)\nquota standard per iscri
 zioni successive al 06 ottobre\n\nPer iscriversi è necessario compilare l
 a scheda online e versare contestualmente la quota di partecipazione.\nIl 
 versamento deve avvenire tramite bonifico bancario sul conto intestato a:\
 nScuola di Psicoterapia Cognitiva srl\nIBAN IT87K0538703202000001606300\nc
 ausale “TRAUMA E MIGRAZIONE 2021”\n\nIN CASO DI RINUNCIA NON È PREVIS
 TO IL RIMBORSO DELLA QUOTA DI PARTECIPAZIONE\n\n&nbsp\;\nScarica la locand
 ina di questo evento
ATTACH;FMTTYPE=image/jpeg:https://apc.it/wp-content/uploads/2021/05/presen
 tazione-salute-mentale-6-7-novembre-2021.png
CATEGORIES:Corsi a pagamento,Corsi ecm
END:VEVENT
END:VCALENDAR