BEGIN:VCALENDAR
VERSION:2.0
PRODID:-//wp-events-plugin.com//7.2.3.1//EN
BEGIN:VEVENT
UID:350@apc.it
DTSTART:20240309T100000Z
DTEND:20240310T180000Z
DTSTAMP:20240212T111304Z
URL:https://apc.it/lista-eventi/salute-mentale-trauma-e-migrazione-2/
SUMMARY:SALUTE MENTALE\, TRAUMA E MIGRAZIONE
DESCRIPTION:Corso ECM Online\n\nSALUTE MENTALE\, TRAUMA E MIGRAZIONE\n La p
 resa in carico psicologica di adulti e minori stranieri non accompagnati\n
 \n9-10 marzo 2024\nore 10.00-18.00\n Dott.ssa Marzia Albanese\nDott.ssa Ma
 ria Grazia Foschino Barbaro\n\nIl Corso si terrà ONLINE su piattaforma ZO
 OM in diretta\n21 crediti ECM in FAD Sincrona: è possibile partecipare so
 lamente in diretta\nQUOTA AGEVOLATA PER ISCRIZIONI ENTRO IL 20 FEBBRAIO\n\
 nInfo: www.apc.it - corsi@apc.it - Tel e Whatsapp 3473566781\n\n\n\n\n&nbs
 p\;\n\n\n\nCORSO RIVOLTO A:\n\nNeolaureati in Psicologia e Medicina\, Psic
 ologi\, Specializzandi in Psicoterapia\, Psicologi abilitati alla Psicoter
 apia\, Medici Psicoterapeuti\, Medici Psichiatri e Medici Neuropsichiatri 
 Infantili.\nCREDITI ECM:\n\n\nÈ previsto l’accreditamento di 21 crediti
  ECM in FAD SINCRONA\n\nMODALITA' DI PARTECIPAZIONE:\nIl corso si svolger
 à in modalità online su piattaforma ZOOM. Sarà possibile partecipare al
  corso esclusivamente in diretta.\nQUOTE E MODALITÀ DI ISCRIZIONE\n\n 	
 € 200\,00 +iva (totale € 244\,00) Quota agevolata per iscrizioni entro
  il 20/02/2024\;\n 	€ 250\,00 +iva (totale € 305\,00) Quota standard p
 er iscrizioni successive al 20/02/2024.\n\n&nbsp\;\n\nIN CASO DI RINUNCIA 
 NON È PREVISTO IL RIMBORSO DELLA QUOTA DI PARTECIPAZIONE\n\nÈ possibile 
 pagare la quota di iscrizione in un'unica soluzione con Bonifico Bancario\
 , Carta di Credito o PayPal.\n\nCLICCA QUI PER ISCRIVERTI AL CORSO\n\nN.B.
  Le iscrizioni vengono prese sulla nostra nuova piattaforma di erogazione 
 corsi (https://eventi.apc.it/)\, se non sei ancora registrato alla nuova p
 iattaforma dovrai registrarti con i tuoi dati e poi procedere all’iscriz
 ione e al pagamento del corso.\n\nPer info: corsi@apc.it – Tel e Whatsap
 p: 3473566781\nSegreteria Organizzativa e Provider ECM: \nSPC s.r.l. – P
 rovider ECM Standard ID 3958 - Viale Castro Pretorio\, 116 - Roma\nBROCHUR
 E
ATTACH;FMTTYPE=image/jpeg:https://apc.it/wp-content/uploads/2023/11/PRIMA-
 PAGINA-TRAUMA-E-MIGRAZIONE-marzo-2024.png
CATEGORIES:Corsi a pagamento,Corsi ecm
END:VEVENT
END:VCALENDAR