BEGIN:VCALENDAR
VERSION:2.0
PRODID:-//wp-events-plugin.com//7.2.3.1//EN
BEGIN:VEVENT
UID:413@apc.it
DTSTART:20250621T000000Z
DTEND:20250621T000000Z
DTSTAMP:20250904T082313Z
URL:https://apc.it/lista-eventi/reggio-calabria-corso-in-presenza-intensiv
 o-sulla-schema-therapy-giugno-novembre-2025/
SUMMARY:REGGIO CALABRIA - CORSO IN PRESENZA INTENSIVO SULLA SCHEMA THERAPY 
 – GIUGNO-NOVEMBRE 2025
DESCRIPTION:CORSO SOLD OUT - LE ISCRIZIONI SONO CHIUSE\nPER INFO SCRIVERE A
  CORSI@APC.IT\n&nbsp\;\nREGGIO CALABRIA - GIUGNO-NOVEMBRE 2025\nCORSO IN P
 RESENZA INTENSIVO SULLA SCHEMA THERAPY \nTRAINING ACCREDITATO DALLA INTERN
 ATIONAL SOCIETY OF SCHEMA THERAPY (ISST)PER DIVENTARE TERAPEUTI CERTIFICAT
 I IN SCHEMA THERAPY\n &nbsp\; &nbsp\; &nbsp\;&nbsp\; \n\nIl corso si svolg
 erà IN PRESENZA presso Associazione Ecopoiesis\nin via Prato\, 2\, 89127 
 - Reggio di Calabria (RC)\n\nDocenti: Dr.sse Alessandra Mancini\, Barbara 
 Basile\, Katia Tenore\, Olga Ines Luppino\n\n 	DATE E ORARI:\n\n 	WS1 – 
 Dr.ssa Alessandra Mancini\n\n 	Sabato 21 giugno 2025 - orario 09.00-13.00 
 – 14.00-19.00\n 	Domenica 22 giugno 2025 - orario 09.00-13.00 – 14.00-
 16.00\n\n\n\n&nbsp\;\n\n 	WS2 – Dr.ssa Katia Tenore\n\n 	Venerdì 11 lug
 lio 2025 - orario 09.00-13.00 – 14.00-19.00\n 	Sabato 12 luglio 2025 - o
 rario 09.00-13.00 – 14.00-16.00\n\n\n\n&nbsp\;\n\n 	WS3 – Dr.ssa Olga 
 Ines Luppino\n\n 	Venerdì 19 settembre 2025 - orario 09.00-13.00 – 14.0
 0-19.00\n 	Sabato 20 settembre 2025 - orario 09.00-13.00 – 14.00-16.00\n
 \n\n\n&nbsp\;\n\n 	WS4 – Dr.ssa Barbara Basile\n\n 	Venerdì 7 novembre 
 2025 - orario 09.00-13.00 – 14.00-19.00\n 	Sabato 8 novembre 2025 - orar
 io 09.00-13.00 – 14.00-16.00\n\n\n\n\n\nPRESENTAZIONE\nLa&nbsp\;SCHEMA&n
 bsp\;THERAPY&nbsp\;(ST)&nbsp\;é&nbsp\;uno&nbsp\;sviluppo&nbsp\;innovativo
 &nbsp\;della&nbsp\;psicoterapia&nbsp\;cognitivo comportamentale&nbsp\;alta
 mente&nbsp\;efficace&nbsp\;nel&nbsp\;trattamento&nbsp\;dei&nbsp\;disturbi&
 nbsp\;di&nbsp\;personalità&nbsp\;e&nbsp\;di&nbsp\;disturbi psicologici&nb
 sp\;cronici&nbsp\;o&nbsp\;difficili&nbsp\;da&nbsp\;trattare.\nEssa&nbsp\;i
 ntegra\,&nbsp\;oltre&nbsp\;la&nbsp\;CBT\,&nbsp\;diversi&nbsp\;approcci&nbs
 p\;psicoterapeutici&nbsp\;quali&nbsp\;la&nbsp\;Gestalt\,&nbsp\;l’analisi
 &nbsp\;transazionale\,l’ipnoterapia&nbsp\;e&nbsp\;concetti&nbsp\;della&n
 bsp\;teoria&nbsp\;dell’attaccamento&nbsp\;e&nbsp\;delle&nbsp\;scuole&nbs
 p\;psicodinamiche\,&nbsp\;offrendoun&nbsp\;concetto&nbsp\;esplicativo&nbsp
 \;molto&nbsp\;chiaro&nbsp\;e&nbsp\;in&nbsp\;sé&nbsp\;consistente&nbsp\;co
 erente&nbsp\;e&nbsp\;un&nbsp\;approccio&nbsp\;di&nbsp\;trattamento facilme
 nte&nbsp\;applicabile.\n\nLa&nbsp\;Schema&nbsp\;Therapy&nbsp\;mira&nbsp\;a
 &nbsp\;individuare&nbsp\;con&nbsp\;il&nbsp\;Paziente&nbsp\;i&nbsp\;propri&
 nbsp\;gli&nbsp\;schemi&nbsp\;e&nbsp\;le&nbsp\;modalità disfunzionali&nbsp
 \;e&nbsp\;le&nbsp\;loro&nbsp\;origini&nbsp\;nell’infanzia\,&nbsp\;a&nbsp
 \;riconoscerne&nbsp\;gli&nbsp\;effetti&nbsp\;nella&nbsp\;vita&nbsp\;e&nbsp
 \;a&nbsp\;trovare attivamente&nbsp\;modalità&nbsp\;funzionali&nbsp\;per&n
 bsp\;smantellarli&nbsp\;giungere&nbsp\;ad&nbsp\;un&nbsp\;cambiamento. Per&
 nbsp\;fare&nbsp\;questo&nbsp\;a&nbsp\;tal&nbsp\;fine&nbsp\;utilizza&nbsp\;
 tecniche&nbsp\;cognitive\,&nbsp\;comportamentali&nbsp\;e&nbsp\;di&nbsp\;at
 tivazione&nbsp\;e motiva adattate&nbsp\;e&nbsp\;calibrate&nbsp\;alla&nbsp\
 ;ST&nbsp\;o&nbsp\;create&nbsp\;proprio&nbsp\;per&nbsp\;la&nbsp\;ST.\n\n\nU
 n&nbsp\;ruolo&nbsp\;centrale&nbsp\;nel&nbsp\;processo&nbsp\;terapeutico&nb
 sp\;è&nbsp\;da&nbsp\;individuare&nbsp\;nella&nbsp\;particolare&nbsp\;impo
 stazione&nbsp\;dellarelazione&nbsp\;terapeutica&nbsp\;che&nbsp\;punta\,&nb
 sp\;in&nbsp\;modo&nbsp\;esplicito&nbsp\;e&nbsp\;nei&nbsp\;limiti&nbsp\;del
 &nbsp\;possibile\,&nbsp\;a&nbsp\;soddisfare&nbsp\;i&nbsp\;bisogni del&nbsp
 \;Paziente\,&nbsp\;non&nbsp\;colti&nbsp\;soddisfatti&nbsp\;nell&nbsp\;́in
 fanzia\,&nbsp\;in&nbsp\;termini&nbsp\;di&nbsp\;“limited&nbsp\;reparentin
 g”\n\nIL TRAINING\n Sono previste 60 ore di formazione teorico- pratica 
 \, distribuiti in 4 workshop di 15 ore ciascuno.\nI moduli sono a caratter
 e altamente pratico ed esperienziale con numerosi esempi dal vivo\, video 
 e role – play.\n\n Il numero dei partecipanti è limitato ad un massimo 
 di 20.\n Corso altamente esperienziale\, è richiesta la partecipazione at
 tiva di tutti i partecipanti.\n\nI 4 MODULI RAPPRESENTANO LE BASI TEORICHE
  NECESSARIE (MIN 60 ORE) PER DIVENTARE TERAPEUTA ED EVENTUALMENTE. TRAINER
  E SUPERVISORE IN SCHEMA THERAPY RICONOSCI UTO DALL’INTERNATIONAL SOCIET
 Y OF SCHEMA THERAPY (ISST).\n\nA conclusione della formazione in aula\, ch
 i intendesse conseguire il riconoscimento internazionale di terapeuta per 
 la Schema Therapy\, come da indicazione della International Society of Sch
 ema Therapy è tenuto a svolgere 20 ore di supervisione con un trainer e s
 upervisore riconosciuto dalla ISST\, un minimo di 5 ore di valutazione dei
  video\, di cui 4 da un supervisore interno e 1 da un supervisore indipend
 ente.\nMaggiori informazioni alla&nbsp\;pagina:  https://schematherapysoci
 ety.org/page–19653\nIndicazioni per il conseguimento del titolo di terap
 euta certificato dalla ISST per la schema therapy\n\n 	La supervisione pu
 ò avere cadenza quindicinale (consigliata per concludere la formazione en
 tro un anno dall’inizio) o\, in accordo con il supervisore\, può arriva
 re ad una cadenza massimo mensile\;\n 	Ogni corsista deve produrre 1 o pi
 ù audio/video relativi a sedute terapeutiche con pazienti in cui utilizza
  la Schema Therapy\;\n 	Ogni corsista è tenuto alla trascrizione di 1 vid
 eo/audio da far visionare ad un supervisore esterno.\n\nProgramma WS 1\nIN
 TRODUZIONE ALLA SCHEMA THERAPY (ST)\n\n 	Sabato 21 giugno 2025 - orario 09
 .00-13.00 – 14.00-19.00\n 	Domenica 22 giugno 2025 - orario 09.00-13.00 
 – 14.00-16.00\n\nDOCENTE: DR.SSA ALESSANDRA MANCINI\n\nObiettivi formati
 vi:Presentazione della base teorica della Schema Therapy ed introduzione a
 lle strategie relazionali\;Introduzione al modello degli Schemi e dei Mode
  e riconoscimento delle loro manifestazioni clinicheConcettualizzazione de
 l caso secondo il modello riconosciuto dalla Società Internazionale di Sc
 hema Therapy.Programma:• Teoria di base : origine ed efficacia della ST\
 ; Schemi Coping Styles e Modes (role play o video)\; ruolo dei bisogni emo
 tivi primari nella Teoria degli Schemi\;• L’ Assessment : raccolta del
 la storia di vita\; I questionari (YSQ\; YPI)\; Imagery del posto sicuro e
  Imagery diagnostico\;• Concettualizzazione del caso : introduzione alla
  formulazione del caso secondo il modello della ST (criteri ISST) e concet
 tualizzazione di un proprio caso clinico\;• Strategie terapeutiche della
  ST: introduzione alle tecniche cognitive\; esperienziali\; relazionali e 
 comportamentali.\n\nProgramma WS 2\nIL MODELLO DEI MODE E LE TECNICHE IMMA
 GINATIVE PER IL CAMBIAMENTO\n\n 	Venerdì 11 luglio 2025 - orario 09.00-13
 .00 – 14.00-19.00\n 	Sabato 12 luglio 2025 - orario 09.00-13.00 – 14.0
 0-16.00\n\nDOCENTE: DR.SSA KATIA TENORE\n\nObiettivi formativi:Fornire le 
 basi teoriche ed effettuare esercitazioni pratiche sui mode e sulle divers
 e tecniche immaginative durante le diverse fasi del trattamento. Aumentare
  la sicurezza e la competenza nello scegliere tra le diverse tecniche imma
 ginative e nel metterle in pratica.Programma:Tecniche immaginative (con li
 ve demo\, esercitazioni e video)• Basi teoriche ed efficacia delle tecni
 che immaginative▪ Imagery del posto sicuro▪ Imagery diagnostico▪ Ima
 gery rescripring▪ Imagery rescripting fine tuning▪ Pratica esperienzia
 le in immaginazione\n\nProgramma WS 3\nIL LAVORO CON GLI SCHEMI DEL TERAPE
 UTA – STRUMENTI COGNITIVI E COMPORTAMENTALI\n\n 	Venerdì 19 settembre 2
 025 - orario 09.00-13.00 – 14.00-19.00\n 	Sabato 20 settembre 2025 - ora
 rio 09.00-13.00 – 14.00-16.00\n\nDOCENTE: DR.SSA OLGA INES LUPPINO\n\nOb
 iettivi formativi:• Imparare a impostare la relazione terapeutica in ter
 mini di “Limited Reparenting“\;• Aiutare il terapeuta a identificare
  i propri schemi e mode\, a collegare le condizioni attivanti con le propr
 ie risposte emotive allo scopo di mantenere una funzionale posizione terap
 eutica• Programma:• Le tecniche relazionali: Limited Reparenting e Con
 fronto Empatico• Dimostrazioni pratiche e role play• Imparare a porre 
 regole e limiti al paziente• Il cambiamento cognitivo e comportamentale
 • Tecniche cognitive e di pattern breaking• Pratica esperienziale in i
 mmaginazione per lavorare sui propri schemi• Historical Role Play\n\nPro
 gramma WS 4\nSCHEMA MODE WORK CON I DISTURBI DI PERSONALITÀ\n\n 	Venerdì
  7 novembre 2025 - orario 09.00-13.00 – 14.00-19.00\n 	Sabato 8 novembre
  2025 - orario 09.00-13.00 – 14.00-16.00\n\nDOCENTE: DR.SSA BARBARA BASI
 LE\n\nObiettivi formativi:Aumentare le competenze di trattamento già acqu
 isite specificatamente al disturbo borderline e narcisistico di personalit
 à e focalizzare sulla fase finale della terapia potenziando un funzioname
 nto più sano e funzionale.Particolare attenzione viene dedicata anche all
 a tecnica delle sedie.ProgrammaApprofondimento del Mode Work (formulazione
  del caso\, live demo e chair work) con:• Disturbo Borderline di Persona
 lità• Disturbo Narcisistico di Personalità• Potenziamento del mode d
 ell’Adulto sano• Accenno ai disturbi di Personalità del Cluster C\n\n
 MODALITÀ DI SVOLGIMENTO:Il corso si svolgerà IN PRESENZA presso Associaz
 ione Ecopoiesis\n&nbsp\;in via Prato\, 2\, 89127 - Reggio di Calabria (RC)
 \n\n\nIL CORSO È RIVOLTO A:- Specializzandi in Psicoterapia che nel 2025 
 frequentano il IV anno\;- Psicologi abilitati alla Psicoterapia\;- Medici 
 Psicoterapeuti\;- Medici Psichiatri\;- Medici Neuropsichiatri Infantili.Il
  numero dei partecipanti è limitato ad un massimo di 20.\n\nCorso altamen
 te esperienziale\, è richiesta la partecipazione attiva di tutti i partec
 ipanti.\n\nÈ PREVISTO L’ACCREDITAMENTO DI 50 CREDITI ECM\n\nATTESTAZION
 IA conclusione di ogni workshop sarà rilasciato un attestato di partecipa
 zione.Al termine del ciclo intensivo (WS1\, WS2\, WS3\, WS4) sarà rilasci
 ato un attestato riconosciuto dalla ISST (International Society of Schema 
 Therapy)\, relativo alla parte teorica (60 ore)\, necessaria nel percorso 
 formativo per diventare supervisore e docente /trainer in schema therapy.\
 n\n&nbsp\;\n\nPer info: corsi@apc.it – Tel e WhatsApp 3473566781\n\nSegr
 eteria Organizzativa e Provider ECM: \n\nSPC s.r.l. – Provider ECM Stand
 ard ID 3958 – Viale Castro Pretorio\, 116 – Roma\n\nBROCHURE
ATTACH;FMTTYPE=image/jpeg:https://apc.it/wp-content/uploads/2024/11/Traini
 ng-Schema-Therapy-Reggio-Calabria-2025.jpg
CATEGORIES:Corsi a pagamento,Corsi ecm,Corsi Schema Therapy
END:VEVENT
END:VCALENDAR