BEGIN:VCALENDAR
VERSION:2.0
PRODID:-//wp-events-plugin.com//7.2.3.1//EN
BEGIN:VEVENT
UID:385@apc.it
DTSTART:20240404T100000Z
DTEND:20240404T130000Z
DTSTAMP:20240326T112939Z
URL:https://apc.it/lista-eventi/psicologia-e-istituzioni-30-anni-di-formaz
 ione-in-psicoterapia-cura-e-promozione-della-salute-mentale/
SUMMARY:PSICOLOGIA E ISTITUZIONI: 30 ANNI DI FORMAZIONE IN PSICOTERAPIA\, C
 URA E PROMOZIONE DELLA SALUTE MENTALE
DESCRIPTION:Su iniziativa del Senatore Gianni Berrino\n\nCONVEGNO\nPSICOLOG
 IA E ISTITUZIONI:\n30 ANNI DI FORMAZIONE IN PSICOTERAPIA\, CURA E PROMOZIO
 NE DELLA SALUTE MENTALE\nGiovedì 4 aprile\norario 10.00-13.00\n\nSala Cap
 itolare presso il Chiostro del Convento di Santa Maria Sopra Minerva\nPiaz
 za della Minerva\, 38 - ROMA\n\nOre 10:00 - Saluto delle autorità\n\nINTE
 RVENTI\n\n 	Sen. Gianni Berrino\n(10° commissione affari sociali\, sanit
 à\, lavoro\, previdenza sociale)\n 	On. Matteo Rosso\n(Resp. Nazionale di
 p. Sanità FDI\, coordinatore regionale FDI Liguria)\n 	On. Luciano Ciocch
 etti\n(Vicepresidente XII° commissione affari sociali\, sanità\, lavoro\
 , previdenza sociale)\n 	Dr. Gianluca Cerracchio\n(Direzione generale degl
 i ordinamenti della formazione superiore e del diritto allo studio)\n 	Dot
 t. David Lazzari (Video messaggio)\n(Presidente Consiglio nazionale dell
 ’Ordine degli Psicologi – CNOP)\n\nIntroduce: Nausica Cangini\nLa nasc
 ita delle scuole di specializzazione in psicoterapia: la storia - Cesare M
 affei\n\nTAVOLA ROTONDA\nLe scuole di Psicoterapia sono una risorsa per il
  Sistema Sanitario Nazionale?\nChair: Francesco Mancini\nPartecipano: Paol
 o Michelin\, Sergio Salvatore\, Alberto Siracusano\, Alberto Zucconi\n\nTA
 VOLA ROTONDA\nL’attuale contributo della Psicoterapia alla salute\nChair
 : Carlo Ricci\nPartecipano: Luigi Cancrini\, Laura Parolin\, Cristina Lemm
 e\, Serantis Thanopulos\n\nCONCLUSIONE\nFelicia Pelagalli\n\nL'evento potr
 à essere seguito on line attraverso il sito del Senato\, dove sarà anche
  disponibile la video registrazione.\n\nL'evento è in diretta streaming s
 ul sito Senato webtv al seguente link https://webtv.senato.it/webtv_live\n
 \nBROCHURE
ATTACH;FMTTYPE=image/jpeg:https://apc.it/wp-content/uploads/2024/03/PRESEN
 TAZIONE-PSICOLOGIA-E-ISTITUZIONI-4-APRILE-2024.png
CATEGORIES:Convegni
END:VEVENT
END:VCALENDAR