BEGIN:VCALENDAR
VERSION:2.0
PRODID:-//wp-events-plugin.com//7.2.3.1//EN
BEGIN:VEVENT
UID:408@apc.it
DTSTART:20240913T000000Z
DTEND:20250603T000000Z
DTSTAMP:20250310T110243Z
URL:https://apc.it/lista-eventi/pacchetto-avanzamento-act-intensivo-corso-
 basecorso-avanzatolibro/
SUMMARY:Pacchetto "ACT INTENSIVO" (corso base+corso avanzato+libro)
DESCRIPTION:Pacchetto\n\nACT INTENSIVO\nAcquista il pacchetto ACT INTENSIVO
  a soli 480\,00 euro iva inclusa e potrai:\n&nbsp\;\n\n\n\n 	partecipare a
 l corso base online del 6-7 giugno 2025 “LA GUIDA ESSENZIALE ALL’ACT
 ”\n\n 	INFO E PROGRAMMA\n\n\n\n&nbsp\;\n\n&nbsp\;\n\n&nbsp\;\n\n\n\n 	pa
 rtecipare al corso avanzato in presenza a Roma del 27-28 settembre 2025 
 “ACT AVANZATA”\n\n 	INFO E PROGRAMMA\n\n\n\n&nbsp\;\n\n&nbsp\;\n\n&nbs
 p\;\n\n&nbsp\;\n\n 	ottenere 43\,9 crediti ECM\;\n\n&nbsp\;\n\n 	ricevere 
 a casa il Libro “La guida essenziale all’ACT. Teoria e pratica dell’
 Acceptance and Commitment Therapy”\n\n 	Autore: Emanuele Rossi\n 	Prefaz
 ione di Steven C. Hayes\, PhD.\n 	Postfazione di Francesco Mancini\, MD.\n
  	Giovanni Fioriti Editore\n 	Prima guida clinica scritta direttamente in 
 italiano\n 	CLICCA QUI Per info sul volume \n\n\n\n&nbsp\;\n\n&nbsp\;\n\nN
 .B. Per chi volesse è possibile fare una scelta alternativa per quanto ri
 guarda il libro:\n\n1. In alternativa al LIBRO "La guida essenziale all’
 ACT. Teoria e pratica dell’Acceptance and Commitment Therapy" è possibi
 le richiedere di ricevere a casa il LIBRO "ACT Avanzata. La guida del prof
 essionista esperto all’Acceptance and Commitment Therapy"\n\nIn caso di 
 scelte alternative è necessario mandare una mail a corsi@apc.it dopo aver
  compilato la scheda di iscrizione online (in fondo a questa pagina).\n\n\
 n&nbsp\;\n\nIL PACCHETTO "ACT INTENSIVO" È RIVOLTO A:- Specializzandi in 
 Psicoterapia\;- Psicologi abilitati alla Psicoterapia\;- Medici Psicoterap
 euti\;- Medici Psichiatri\;- Medici Neuropsichiatri Infantili.\n\nMODALITA
 ' ACQUISTO PACCHETTO "ACT INTENSIVO":\n\n➢ € 480\,00 (iva inclusa)Per 
 iscriversi è necessario compilare la scheda online sottostante e versare 
 contestualmente tramite bonifico bancario la quota di € 480\,00 iva incl
 usa.\n\nI versamenti devono avvenire tramite bonifico bancario sul conto i
 ntestato a:\n\nScuola di Psicoterapia Cognitiva srl\n\nIBAN IT87K053870320
 2000001606300\n\ncausale “PACCHETTO ACT INTENSIVO”\n\nN.B. La quota di
  480\,00 euro iva inclusa comprende:\n\n 	iscrizione al corso base online\
 ;\n\n 	iscrizione al corso avanzato in presenza a Roma\;\n 	spedizione del
  Libro.\n\n&nbsp\;\n\nInfo: corsi@apc.it - Tel e Whatsapp 3473566781
ATTACH;FMTTYPE=image/jpeg:https://apc.it/wp-content/uploads/2024/09/ACT-1-
 PACCHETTO-ACT-INTENSIVO-2025.png
CATEGORIES:Corsi a pagamento,Corsi ACT,Corsi ecm
END:VEVENT
END:VCALENDAR