BEGIN:VCALENDAR
VERSION:2.0
PRODID:-//wp-events-plugin.com//7.2.3.1//EN
BEGIN:VEVENT
UID:384@apc.it
DTSTART:20240510T090000Z
DTEND:20240510T180000Z
DTSTAMP:20240429T083205Z
URL:https://apc.it/lista-eventi/open-day-palermo-in-presenza-igb-scuola-di
 -psicoterapia-cognitiva-il-disturbo-di-panico/
SUMMARY:OPEN DAY PALERMO IN PRESENZA - IGB Scuola di Psicoterapia Cognitiva
  - "Il Disturbo di Panico"
DESCRIPTION:OPEN DAY PALERMO\nIN PRESENZA\nIGB Scuola di Psicoterapia Cogni
 tiva\n"Il Disturbo di Panico"\nLezione del corso quadriennale di Specializ
 zazione in Psicoterapia Cognitiva aperta ad esterni &nbsp\;\nVenerdì 10 m
 aggio 2024\norario 09.00-18.00\nDr. Andrea Gragnani - Didatta della sede I
 GB di Palermo per il 2025\n&nbsp\;\n\nLa Scuola di Specializzazione in Psi
 coterapia Cognitiva IGB Istituto Gabriele Buccola di Palermo\, consente la
  partecipazione gratuita a lezioni su temi clinici di rilevanza\, tenute d
 a Docenti e Didatti che svolgono attività didattica presso la nostra scuo
 la\, permettendo cosi un contatto diretto con la scuola stessa e con i mod
 elli didattici\n\nL’Open Day è rivolto a laureati in psicologia e medic
 ina che desiderano specializzarsi in psicoterapia ed a psicoterapeuti inte
 ressati a frequentare un master quadriennale in psicoterapia cognitiva.\n\
 nL’Open Day si svolgerà venerdì 10 maggio 2024 con orario 09.00-13.00 
 / 14.00-18.00 presso la sede della scuola in Via Siracusa n° 7 – 90141 
 – Palermo\n\nISCRIZIONEL’Open Day è GRATUITO con iscrizione obbligato
 ria e a numero chiuso.\n\nPer iscriverti e prenotare il tuo posto in prese
 nza compila il modulo sottostante\n\n&nbsp\;\n\nPer info: corsi@apc.it –
  3473566781\n\nPRENOTA IL COLLOQUIO DI SELEZIONE ALLE SCUOLE DI SPECIALIZZ
 AZIONEPer chi fosse interessato è possibile prenotarsi per effettuare un 
 colloquio online di selezione alla Scuola di Specializzazione. Per prenota
 re il colloquio compilare il form online&nbsp\;PRENOTA IL COLLOQUIO DI SEL
 EZIONE&nbsp\;\n\noppure chiamare il numero 351/6208206
ATTACH;FMTTYPE=image/jpeg:https://apc.it/wp-content/uploads/2024/03/IN-PRE
 SENZA-PALERMO-10-maggio-Gragnani.png
CATEGORIES:Corsi Gratuiti,Open Day
END:VEVENT
END:VCALENDAR