BEGIN:VCALENDAR
VERSION:2.0
PRODID:-//wp-events-plugin.com//7.2.3.1//EN
BEGIN:VEVENT
UID:153@apc.it
DTSTART:20211105T090000Z
DTEND:20211105T133000Z
DTSTAMP:20210511T110859Z
URL:https://apc.it/lista-eventi/open-day-online-sede-di-reggio-calabria-si
 ndrome-di-asperger/
SUMMARY:OPEN DAY ONLINE – SEDE DI REGGIO CALABRIA – "Acceptance and Com
 mitment Therapy"»
DESCRIPTION:&nbsp\;\n\n\nOPEN DAY ONLINE – SEDE DI REGGIO CALABRIA\n«Acc
 eptance and Commitment Therapy»\nOpen Day&nbsp\; dedicato esclusivamente 
 agli interessati alla nostra sede\ndi REGGIO CALABRIA\nBarbara Basile\n\n5
  novembre 2021\norario 9.00 - 13.30\n\nLe Scuole di Specializzazione in Ps
 icoterapia Cognitiva\, APC-SPC-SICC-IGB-AIPC consentono la partecipazione 
 a titolo gratuito a lezioni su temi clinici di rilevanza\, tenute da Docen
 ti e Didatti che svolgono attività didattica presso le nostre scuole\, pe
 rmettendo cosi un contatto diretto con la scuola stessa e con i modelli di
 dattici. Le giornate sono rivolte a laureati in medicina e psicologia che 
 desiderano specializzarsi in psicoterapia ed a psicoterapeuti che possono 
 essere interessati a frequentare un master quadriennale in psicoterapia co
 gnitiva.\n\nDalle 13 alle 13\,30 è prevista la presentazione dell'organiz
 zazione della didattica\, a cura della Coordinatrice delle Scuole Dr.ssa F
 rancesca Romana Righi\n\nL’Open Day si svolgerà in modalità webinar at
 traverso la piattaforma ZOOM\n\nLa partecipazione è gratuita e a numero c
 hiuso (max 10 posti)\nPer iscriversi è necessario compilare la scheda on 
 line&nbsp\;entro il 3 novembre&nbsp\;c.a\nNon sarà possibile partecipare 
 a più di un open day&nbsp\;\nPer chi fosse interessato\, è possibile eff
 ettuare il&nbsp\;colloquio di selezione alla Scuola&nbsp\;il giorno stesso
  dell’open day\, prenotandosi chiamando il numero&nbsp\;351/6208206 oppu
 re compilando la scheda di iscrizione on line\, specificando la sede per c
 ui siete interessati ad effettuare il colloquio di selezione\nScarica la l
 ocandina di questo evento&nbsp\;
ATTACH;FMTTYPE=image/jpeg:https://apc.it/wp-content/uploads/2021/05/presen
 tazione-open-day-reggio-5-novembre-2021.png
CATEGORIES:Corsi Gratuiti,Open Day
END:VEVENT
END:VCALENDAR