BEGIN:VCALENDAR
VERSION:2.0
PRODID:-//wp-events-plugin.com//7.2.3.1//EN
BEGIN:VEVENT
UID:142@apc.it
DTSTART:20210514T090000Z
DTEND:20210514T133000Z
DTSTAMP:20210430T083911Z
URL:https://apc.it/lista-eventi/open-day-online-sede-di-reggio-calabria-ri
 conoscimento-e-valutazione-degli-stati-mentali-a-rischio/
SUMMARY:OPEN DAY ONLINE – SEDE DI REGGIO CALABRIA – «Riconoscimento e 
 Valutazione degli Stati Mentali a Rischio»
DESCRIPTION:\nOPEN DAY ONLINE – SEDE DI REGGIO CALABRIA – «Riconoscime
 nto e Valutazione degli Stati Mentali a Rischio»\nOpen Day&nbsp\; dedicat
 o esclusivamente agli interessati alla nostra sede\ndi REGGIO CALABRIA\nMa
 ria Pontillo\n\n14 maggio 2021\norario 9.00 - 13.30\n\nLe Scuole di Specia
 lizzazione in Psicoterapia Cognitiva\, APC-SPC-SICC-IGB-AIPC consentono la
  partecipazione a titolo gratuito a lezioni su temi clinici di rilevanza\,
  tenute da Docenti e Didatti che svolgono attività didattica presso le no
 stre scuole\, permettendo cosi un contatto diretto con la scuola stessa e 
 con i modelli didattici. Le giornate sono rivolte a laureati in medicina e
  psicologia che desiderano specializzarsi in psicoterapia ed a psicoterape
 uti che possono essere interessati a frequentare un master quadriennale in
  psicoterapia cognitiva.\n\nDalle 13 alle 13\,30 è prevista la presentazi
 one dell'organizzazione della didattica\, a cura della Coordinatrice delle
  Scuole Dr.ssa Francesca Romana Righi\n\nL’Open Day si svolgerà in moda
 lità webinar attraverso la piattaforma ZOOM\n\nLa partecipazione è gratu
 ita e a numero chiuso (max 10 posti)\nPer iscriversi è necessario compila
 re la scheda on line&nbsp\;entro il 13 maggio&nbsp\;c.a\nNon sarà possibi
 le partecipare a più di un open day&nbsp\;\nPer chi fosse interessato\, 
 è possibile effettuare il&nbsp\;colloquio di selezione alla Scuola&nbsp\;
 il giorno stesso dell’open day\, prenotandosi chiamando il numero&nbsp\;
 351/6208206 oppure compilando la scheda di iscrizione on line\, specifican
 do la sede per cui siete interessati ad effettuare il colloquio di selezio
 ne\nScarica la locandina di questo evento&nbsp\;
ATTACH;FMTTYPE=image/jpeg:https://apc.it/wp-content/uploads/2021/04/presen
 tazione-open-day-reggio-14-maggio-2021.png
CATEGORIES:Corsi Gratuiti,Open Day
END:VEVENT
END:VCALENDAR