BEGIN:VCALENDAR
VERSION:2.0
PRODID:-//wp-events-plugin.com//7.2.3.1//EN
BEGIN:VEVENT
UID:149@apc.it
DTSTART:20210618T090000Z
DTEND:20210618T133000Z
DTSTAMP:20210510T111640Z
URL:https://apc.it/lista-eventi/open-day-online-sede-di-palermo-dop-e-dist
 urbo-condotta/
SUMMARY:OPEN DAY ONLINE – SEDE DI PALERMO - «Disturbo Oppositivo-Provoca
 torio e Disturbo della Condotta»
DESCRIPTION:\nOPEN DAY ONLINE – SEDE DI PALERMO - «Disturbo Oppositivo-P
 rovocatorio e Disturbo della Condotta»\nOpen Day dedicato esclusivamente 
 agli interessati alla nostra sede di PALERMO\nCarlo Buonanno\n\n18 giugno 
 2021\norario 9.00-13.30\n\nLe Scuole di Specializzazione in Psicoterapia C
 ognitiva\, APC-SPC-SICC-IGB-AIPC consentono la partecipazione a titolo gra
 tuito a lezioni su temi clinici di rilevanza\, tenute da Docenti e Didatti
  che svolgono attività didattica presso le nostre scuole\, permettendo co
 si un contatto diretto con la scuola stessa e con i modelli didattici. Le 
 giornate sono rivolte a laureati in medicina e psicologia che desiderano s
 pecializzarsi in psicoterapia ed a psicoterapeuti che possono essere inter
 essati a frequentare un master quadriennale in psicoterapia cognitiva.\n\n
 Dalle 13 alle 13\,30 è prevista la presentazione dell’organizzazione de
 lla didattica\, a cura della Coordinatrice delle Scuole Dr.ssa Francesca R
 omana Righi\n\nL’Open Day si svolgerà in modalità webinar attraverso l
 a piattaforma ZOOM\n\nLa partecipazione è gratuita e a numero chiuso (max
  10 posti)\nPer iscriversi è necessario compilare la scheda on line&nbsp\
 ;entro il 16 giugno&nbsp\;c.a\nNon sarà possibile partecipare a più di u
 n open day&nbsp\;\nPer chi fosse interessato\, è possibile effettuare il&
 nbsp\;colloquio di selezione alla Scuola&nbsp\;il giorno stesso dell’ope
 n day\, prenotandosi chiamando il numero&nbsp\;351/6208206 oppure compilan
 do la scheda di iscrizione on line\, specificando la sede per cui siete in
 teressati ad effettuare il colloquio di selezione\n\nScarica la locandina 
 di questo evento&nbsp\;
ATTACH;FMTTYPE=image/jpeg:https://apc.it/wp-content/uploads/2021/05/presen
 tazione-open-day-18-giugno-2021.png
CATEGORIES:Corsi Gratuiti,Open Day
END:VEVENT
END:VCALENDAR