BEGIN:VCALENDAR
VERSION:2.0
PRODID:-//wp-events-plugin.com//7.2.3.1//EN
BEGIN:VEVENT
UID:152@apc.it
DTSTART:20211029T090000Z
DTEND:20211029T133000Z
DTSTAMP:20210510T113116Z
URL:https://apc.it/lista-eventi/open-day-online-sede-di-palermo-disturbo-o
 ssessivo-compulsivo/
SUMMARY:OPEN DAY ONLINE – SEDE DI PALERMO - «Disturbo Ossessivo Compulsi
 vo»
DESCRIPTION:\nOPEN DAY ONLINE – SEDE DI PALERMO -\n«Disturbo Ossessivo C
 ompulsivo»\nOpen Day dedicato esclusivamente agli interessati alla nostra
  sede di PALERMO\nFrancesco Mancini\n\n29 ottobre 2021\norario 9.00-13.30\
 n\nLe Scuole di Specializzazione in Psicoterapia Cognitiva\, APC-SPC-SICC-
 IGB-AIPC consentono la partecipazione a titolo gratuito a lezioni su temi 
 clinici di rilevanza\, tenute da Docenti e Didatti che svolgono attività 
 didattica presso le nostre scuole\, permettendo cosi un contatto diretto c
 on la scuola stessa e con i modelli didattici. Le giornate sono rivolte a 
 laureati in medicina e psicologia che desiderano specializzarsi in psicote
 rapia ed a psicoterapeuti che possono essere interessati a frequentare un 
 master quadriennale in psicoterapia cognitiva.\n\nDalle 13 alle 13\,30 è 
 prevista la presentazione dell’organizzazione della didattica\, a cura d
 ella Coordinatrice delle Scuole Dr.ssa Francesca Romana Righi\n\nL’Open 
 Day si svolgerà in modalità webinar attraverso la piattaforma ZOOM\n\nLa
  partecipazione è gratuita e a numero chiuso (max 10 posti)\nPer iscriver
 si è necessario compilare la scheda on line&nbsp\;entro il 27 ottobre&nbs
 p\;c.a\nNon sarà possibile partecipare a più di un open day&nbsp\;\nPer 
 chi fosse interessato\, è possibile effettuare il&nbsp\;colloquio di sele
 zione alla Scuola&nbsp\;il giorno stesso dell’open day\, prenotandosi ch
 iamando il numero&nbsp\;351/6208206 oppure compilando la scheda di iscrizi
 one on line\, specificando la sede per cui siete interessati ad effettuare
  il colloquio di selezione\n\nScarica la locandina di questo evento&nbsp\;
ATTACH;FMTTYPE=image/jpeg:https://apc.it/wp-content/uploads/2021/05/presen
 tazione-open-day-29-ottobre-2021.png
CATEGORIES:Corsi Gratuiti,Open Day
END:VEVENT
END:VCALENDAR