BEGIN:VCALENDAR
VERSION:2.0
PRODID:-//wp-events-plugin.com//7.2.3.1//EN
BEGIN:VEVENT
UID:151@apc.it
DTSTART:20211015T090000Z
DTEND:20211015T133000Z
DTSTAMP:20210511T111123Z
URL:https://apc.it/lista-eventi/open-day-online-sede-di-palermo-disturbo-d
 ansia-sociale/
SUMMARY:OPEN DAY ONLINE – SEDE DI PALERMO - «Disturbo d'Ansia Sociale»
DESCRIPTION:\nOPEN DAY ONLINE – SEDE DI PALERMO -\n«Disturbo d'Ansia Soc
 iale»\nOpen Day dedicato esclusivamente agli interessati alla nostra sede
  di PALERMO\nAndrea Gragnani\n\n15 ottobre 2021\norario 9.00-13.30\n\nLe S
 cuole di Specializzazione in Psicoterapia Cognitiva\, APC-SPC-SICC-IGB-AIP
 C consentono la partecipazione a titolo gratuito a lezioni su temi clinici
  di rilevanza\, tenute da Docenti e Didatti che svolgono attività didatti
 ca presso le nostre scuole\, permettendo cosi un contatto diretto con la s
 cuola stessa e con i modelli didattici. Le giornate sono rivolte a laureat
 i in medicina e psicologia che desiderano specializzarsi in psicoterapia e
 d a psicoterapeuti che possono essere interessati a frequentare un master 
 quadriennale in psicoterapia cognitiva.\n\nDalle 13 alle 13\,30 è previst
 a la presentazione dell’organizzazione della didattica\, a cura della Co
 ordinatrice delle Scuole Dr.ssa Francesca Romana Righi\n\nL’Open Day si 
 svolgerà in modalità webinar attraverso la piattaforma ZOOM\n\nLa partec
 ipazione è gratuita e a numero chiuso (max 10 posti)\nPer iscriversi è n
 ecessario compilare la scheda on line&nbsp\;entro il 13 ottobre&nbsp\;c.a\
 nNon sarà possibile partecipare a più di un open day&nbsp\;\nPer chi fos
 se interessato\, è possibile effettuare il&nbsp\;colloquio di selezione a
 lla Scuola&nbsp\;il giorno stesso dell’open day\, prenotandosi chiamando
  il numero&nbsp\;351/6208206 oppure compilando la scheda di iscrizione on 
 line\, specificando la sede per cui siete interessati ad effettuare il col
 loquio di selezione\n\nScarica la locandina di questo evento&nbsp\;
ATTACH;FMTTYPE=image/jpeg:https://apc.it/wp-content/uploads/2021/05/presen
 tazione-open-day-15-ottobre-2021.png
CATEGORIES:Corsi Gratuiti,Open Day
END:VEVENT
END:VCALENDAR