BEGIN:VCALENDAR
VERSION:2.0
PRODID:-//wp-events-plugin.com//7.2.3.1//EN
BEGIN:VEVENT
UID:381@apc.it
DTSTART:20241111T100000Z
DTEND:20241111T130000Z
DTSTAMP:20241023T162325Z
URL:https://apc.it/lista-eventi/open-day-online-scuole-di-psicoterapia-cog
 nitiva-lintervento-con-la-coppia-genitoriale-nella-presa-in-carico-di-un-m
 inore-2/
SUMMARY:OPEN DAY ONLINE Scuole di Psicoterapia Cognitiva - "L’intervento 
 con la coppia genitoriale nella presa in carico di un minore"
DESCRIPTION:OPEN DAY ONLINE Scuole di Psicoterapia Cognitiva\n"L’interven
 to con la coppia genitoriale nella presa in carico di un minore"\nLunedì 
 11 novembre 2024\norario 10.00-13.00\n\nDr. Giuseppe Romano - Didatta dell
 a sede di Ancona e Verona per il 2025\n\n&nbsp\;\n\nLezione gratuita apert
 a a laureati in psicologia e medicina che desiderano specializzarsi in psi
 coterapia in una delle nostre Scuole di Roma\, Verona\, Ancona\, Grosseto\
 , Napoli\, Bari\, Lecce\, Reggio Calabria\, Palermo.\n\nL’Open Day si sv
 olgerà in modalità online su piattaforma ZOOM.\n\nLe Scuole di Specializ
 zazione in Psicoterapia Cognitiva\, APC-SPC-SICC-IGB-AIPC\, con sedi a Rom
 a\, Verona\, Ancona\, Grosseto\, Napoli\, Bari\, Lecce\, Reggio Calabria e
  Palermo\, consentono la partecipazione gratuita a lezioni su temi clinici
  di rilevanza\, tenute da Docenti e Didatti che svolgono attività didatti
 ca presso le nostre scuole\, permettendo cosi un contatto diretto con la s
 cuola stessa e con i modelli didattici.\n\nL’Open Day è rivolto a laure
 ati in psicologia e medicina che desiderano specializzarsi in psicoterapia
  ed a psicoterapeuti interessati a frequentare un master quadriennale in p
 sicoterapia cognitiva.\n\nLa lezione sarà preceduta dalla presentazione d
 ella Scuola e dell'organizzazione della didattica a cura della Dr.ssa Fran
 cesca Romana Righi\, coordinatrice delle ns Scuole.ISCRIZIONEL’Open Day 
 è GRATUITO con iscrizione obbligatoria e a numero chiuso.\n\nPER ISCRIVER
 TI CLICCA QUI\n\nN.B. Le iscrizioni vengono prese sulla nostra nuova piatt
 aforma di erogazione corsi (https://eventi.apc.it/)\, se non sei ancora re
 gistrato alla nuova piattaforma dovrai registrarti con i tuoi dati e poi p
 rocedere all’iscrizione.\n\nPer info: corsi@apc.it – 3473566781\n\nPRE
 NOTA IL COLLOQUIO DI SELEZIONE ALLE SCUOLE DI SPECIALIZZAZIONEPer chi foss
 e interessato è possibile prenotarsi per effettuare un colloquio online d
 i selezione alla Scuola di Specializzazione. Per prenotare il colloquio co
 mpilare il form online&nbsp\;PRENOTA IL COLLOQUIO DI SELEZIONE&nbsp\;\n\no
 ppure chiamare il numero 351/6208206
ATTACH;FMTTYPE=image/jpeg:https://apc.it/wp-content/uploads/2024/03/DEF_Op
 en-Day-Online-11-novembre-2024-Romano.jpg
CATEGORIES:Corsi Gratuiti,Open Day
END:VEVENT
END:VCALENDAR