BEGIN:VCALENDAR
VERSION:2.0
PRODID:-//wp-events-plugin.com//7.2.3.1//EN
BEGIN:VEVENT
UID:386@apc.it
DTSTART:20240923T100000Z
DTEND:20240923T130000Z
DTSTAMP:20240509T091352Z
URL:https://apc.it/lista-eventi/open-day-online-scuole-di-psicoterapia-cog
 nitiva-la-relazione-terapeutica-il-contributo-della-teoria-cognitivo-evolu
 zionista/
SUMMARY:OPEN DAY ONLINE Scuole di Psicoterapia Cognitiva - "Comprendere il 
 funzionamento psicologico del paziente e integrare le tecniche di trattame
 nto. Il caso di Emanuela"
DESCRIPTION:OPEN DAY ONLINE Scuole di Psicoterapia Cognitiva\n"Comprendere 
 il funzionamento psicologico del paziente e integrare le tecniche di tratt
 amento. Il caso di Emanuela"\nLunedì 23 settembre 2024\norario 10.00-13.0
 0\n\nDr.ssa Giordana Ercolani - Didatta della sede di Ancona per il 2025\n
 \n&nbsp\;\n\nLezione gratuita aperta a laureati in psicologia e medicina c
 he desiderano specializzarsi in psicoterapia in una delle nostre Scuole di
  Roma\, Verona\, Ancona\, Grosseto\, Napoli\, Bari\, Lecce\, Reggio Calabr
 ia\, Palermo.\n\nL’Open Day si svolgerà in modalità online su piattafo
 rma ZOOM.\n\nLe Scuole di Specializzazione in Psicoterapia Cognitiva\, APC
 -SPC-SICC-IGB-AIPC\, con sedi a Roma\, Verona\, Ancona\, Grosseto\, Napoli
 \, Bari\, Lecce\, Reggio Calabria e Palermo\, consentono la partecipazione
  gratuita a lezioni su temi clinici di rilevanza\, tenute da Docenti e Did
 atti che svolgono attività didattica presso le nostre scuole\, permettend
 o cosi un contatto diretto con la scuola stessa e con i modelli didattici.
 \n\nL’Open Day è rivolto a laureati in psicologia e medicina che deside
 rano specializzarsi in psicoterapia ed a psicoterapeuti interessati a freq
 uentare un master quadriennale in psicoterapia cognitiva.\n\nLa lezione sa
 rà preceduta dalla presentazione della Scuola e dell'organizzazione della
  didattica a cura della Dr.ssa Francesca Romana Righi\, coordinatrice dell
 e ns Scuole.ISCRIZIONEL’Open Day è GRATUITO con iscrizione obbligatoria
  e a numero chiuso.\n\nPER ISCRIVERTI CLICCA QUI\n\nN.B. Le iscrizioni ven
 gono prese sulla nostra nuova piattaforma di erogazione corsi (https://eve
 nti.apc.it/)\, se non sei ancora registrato alla nuova piattaforma dovrai 
 registrarti con i tuoi dati e poi procedere all’iscrizione.\n\nPer info:
  corsi@apc.it – 3473566781\n\nPRENOTA IL COLLOQUIO DI SELEZIONE ALLE SCU
 OLE DI SPECIALIZZAZIONEPer chi fosse interessato è possibile prenotarsi p
 er effettuare un colloquio online di selezione alla Scuola di Specializzaz
 ione. Per prenotare il colloquio compilare il form online&nbsp\;PRENOTA IL
  COLLOQUIO DI SELEZIONE&nbsp\;\n\noppure chiamare il numero 351/6208206
ATTACH;FMTTYPE=image/jpeg:https://apc.it/wp-content/uploads/2024/03/DEF_Op
 en-Day-Online-23-settembre-2024-Ercolani.png
CATEGORIES:Corsi Gratuiti,Open Day
END:VEVENT
END:VCALENDAR