BEGIN:VCALENDAR
VERSION:2.0
PRODID:-//wp-events-plugin.com//7.2.3.1//EN
BEGIN:VEVENT
UID:380@apc.it
DTSTART:20240610T100000Z
DTEND:20240610T130000Z
DTSTAMP:20240315T084935Z
URL:https://apc.it/lista-eventi/open-day-online-scuole-di-psicoterapia-cog
 nitiva-il-disturbo-bipolare-attraverso-il-caso-di-annamaria-fenomenologia-
 profilo-cognitivo-e-terapia-2/
SUMMARY:OPEN DAY ONLINE Scuole di Psicoterapia Cognitiva - "Il disturbo bip
 olare attraverso il caso di AnnaMaria: fenomenologia\, profilo cognitivo e
  terapia"
DESCRIPTION:OPEN DAY ONLINE Scuole di Psicoterapia Cognitiva\n"Il disturbo 
 bipolare attraverso il caso di AnnaMaria: fenomenologia\, profilo cognitiv
 o e terapia"\nLunedì 10 giugno 2024\norario 10.00-13.00\n\nDr. Andrea Gra
 gnani - Didatta delle sedi di Grosseto e Palermo per il 2025\n\n&nbsp\;\n\
 nLezione gratuita aperta a laureati in psicologia e medicina che desideran
 o specializzarsi in psicoterapia in una delle nostre Scuole di Roma\, Vero
 na\, Ancona\, Grosseto\, Napoli\, Bari\, Lecce\, Reggio Calabria\, Palermo
 .\n\nL’Open Day si svolgerà in modalità online su piattaforma ZOOM.\n\
 nLe Scuole di Specializzazione in Psicoterapia Cognitiva\, APC-SPC-SICC-IG
 B-AIPC\, con sedi a Roma\, Verona\, Ancona\, Grosseto\, Napoli\, Bari\, Le
 cce\, Reggio Calabria e Palermo\, consentono la partecipazione gratuita a 
 lezioni su temi clinici di rilevanza\, tenute da Docenti e Didatti che svo
 lgono attività didattica presso le nostre scuole\, permettendo cosi un co
 ntatto diretto con la scuola stessa e con i modelli didattici.\n\nL’Open
  Day è rivolto a laureati in psicologia e medicina che desiderano special
 izzarsi in psicoterapia ed a psicoterapeuti interessati a frequentare un m
 aster quadriennale in psicoterapia cognitiva.\n\nLa lezione sarà precedut
 a dalla presentazione della Scuola e dell'organizzazione della didattica a
  cura della Dr.ssa Francesca Romana Righi\, coordinatrice delle ns Scuole.
 ISCRIZIONEL’Open Day è GRATUITO con iscrizione obbligatoria e a numero 
 chiuso.\n\nPER ISCRIVERTI CLICCA QUI\n\nN.B. Le iscrizioni vengono prese s
 ulla nostra nuova piattaforma di erogazione corsi (https://eventi.apc.it/)
 \, se non sei ancora registrato alla nuova piattaforma dovrai registrarti 
 con i tuoi dati e poi procedere all’iscrizione.\n\nPer info: corsi@apc.i
 t – 3473566781\n\nPRENOTA IL COLLOQUIO DI SELEZIONE ALLE SCUOLE DI SPECI
 ALIZZAZIONEPer chi fosse interessato è possibile prenotarsi per effettuar
 e un colloquio online di selezione alla Scuola di Specializzazione. Per pr
 enotare il colloquio compilare il form online&nbsp\;PRENOTA IL COLLOQUIO D
 I SELEZIONE&nbsp\;\n\noppure chiamare il numero 351/6208206
ATTACH;FMTTYPE=image/jpeg:https://apc.it/wp-content/uploads/2024/03/DEF_Op
 en-Day-Online-10-giugno-2024-Gragnani.png
CATEGORIES:Corsi Gratuiti,Open Day
END:VEVENT
END:VCALENDAR