BEGIN:VCALENDAR
VERSION:2.0
PRODID:-//wp-events-plugin.com//7.2.3.1//EN
BEGIN:VEVENT
UID:379@apc.it
DTSTART:20241009T140000Z
DTEND:20241009T170000Z
DTSTAMP:20240315T085011Z
URL:https://apc.it/lista-eventi/open-day-online-scuole-di-psicoterapia-cog
 nitiva-i-disturbi-di-personalita-attuali-approcci-terapeutici-ad-orientame
 nto-cognitivo/
SUMMARY:OPEN DAY ONLINE Scuole di Psicoterapia Cognitiva - "I disturbi di p
 ersonalità: attuali approcci terapeutici ad orientamento cognitivo"
DESCRIPTION:OPEN DAY ONLINE Scuole di Psicoterapia Cognitiva\n"I disturbi d
 i personalità: attuali approcci terapeutici ad orientamento cognitivo"\nM
 ercoledì 09 ottobre 2024\norario 14.00-17.00\n\nDr. Michele Procacci - Di
 datta della sede di Reggio Calabria per il 2025\n\n&nbsp\;\n\nLezione grat
 uita aperta a laureati in psicologia e medicina che desiderano specializza
 rsi in psicoterapia in una delle nostre Scuole di Roma\, Verona\, Ancona\,
  Grosseto\, Napoli\, Bari\, Lecce\, Reggio Calabria\, Palermo.\n\nL’Open
  Day si svolgerà in modalità online su piattaforma ZOOM.\n\nLe Scuole di
  Specializzazione in Psicoterapia Cognitiva\, APC-SPC-SICC-IGB-AIPC\, con 
 sedi a Roma\, Verona\, Ancona\, Grosseto\, Napoli\, Bari\, Lecce\, Reggio 
 Calabria e Palermo\, consentono la partecipazione gratuita a lezioni su te
 mi clinici di rilevanza\, tenute da Docenti e Didatti che svolgono attivit
 à didattica presso le nostre scuole\, permettendo cosi un contatto dirett
 o con la scuola stessa e con i modelli didattici.\n\nL’Open Day è rivol
 to a laureati in psicologia e medicina che desiderano specializzarsi in ps
 icoterapia ed a psicoterapeuti interessati a frequentare un master quadrie
 nnale in psicoterapia cognitiva.\n\nLa lezione sarà preceduta dalla prese
 ntazione della Scuola e dell'organizzazione della didattica a cura della D
 r.ssa Francesca Romana Righi\, coordinatrice delle ns Scuole.ISCRIZIONEL
 ’Open Day è GRATUITO con iscrizione obbligatoria e a numero chiuso.\n\n
 PER ISCRIVERTI CLICCA QUI\n\nN.B. Le iscrizioni vengono prese sulla nostra
  nuova piattaforma di erogazione corsi (https://eventi.apc.it/)\, se non s
 ei ancora registrato alla nuova piattaforma dovrai registrarti con i tuoi 
 dati e poi procedere all’iscrizione.\n\nPer info: corsi@apc.it – 34735
 66781\n\nPRENOTA IL COLLOQUIO DI SELEZIONE ALLE SCUOLE DI SPECIALIZZAZIONE
 Per chi fosse interessato è possibile prenotarsi per effettuare un colloq
 uio online di selezione alla Scuola di Specializzazione. Per prenotare il 
 colloquio compilare il form online&nbsp\;PRENOTA IL COLLOQUIO DI SELEZIONE
 &nbsp\;\n\noppure chiamare il numero 351/6208206
ATTACH;FMTTYPE=image/jpeg:https://apc.it/wp-content/uploads/2024/03/DEF_Op
 en-Day-Online-9-ottobre-2024-Procacci.png
CATEGORIES:Corsi Gratuiti,Open Day
END:VEVENT
END:VCALENDAR