BEGIN:VCALENDAR
VERSION:2.0
PRODID:-//wp-events-plugin.com//7.2.3.1//EN
BEGIN:VEVENT
UID:382@apc.it
DTSTART:20240514T100000Z
DTEND:20240514T130000Z
DTSTAMP:20240315T084812Z
URL:https://apc.it/lista-eventi/open-day-online-scuole-di-psicoterapia-cog
 nitiva-disregolazione-emotiva-non-integrazione-e-comportamenti-disfunziona
 li-tranche-cliniche-e-obiettivi-strategici-di-trattamento/
SUMMARY:OPEN DAY ONLINE Scuole di Psicoterapia Cognitiva - "Disregolazione 
 emotiva\, non integrazione e comportamenti disfunzionali: tranche cliniche
  e obiettivi strategici di  trattamento"
DESCRIPTION:OPEN DAY ONLINE Scuole di Psicoterapia Cognitiva\n"Disregolazio
 ne emotiva\, non integrazione e comportamenti disfunzionali: tranche clini
 che e obiettivi strategici di&nbsp\; trattamento"\nMartedì 14 maggio 2024
 \norario 10.00-13.00\n\nDr.ssa Donatella Fiore - Didatta della sede di Reg
 gio Calabria per il 2025\n\n&nbsp\;\n\nLezione gratuita aperta a laureati 
 in psicologia e medicina che desiderano specializzarsi in psicoterapia in 
 una delle nostre Scuole di Roma\, Verona\, Ancona\, Grosseto\, Napoli\, Ba
 ri\, Lecce\, Reggio Calabria\, Palermo.\n\nL’Open Day si svolgerà in mo
 dalità online su piattaforma ZOOM.\n\nLe Scuole di Specializzazione in Ps
 icoterapia Cognitiva\, APC-SPC-SICC-IGB-AIPC\, con sedi a Roma\, Verona\, 
 Ancona\, Grosseto\, Napoli\, Bari\, Lecce\, Reggio Calabria e Palermo\, co
 nsentono la partecipazione gratuita a lezioni su temi clinici di rilevanza
 \, tenute da Docenti e Didatti che svolgono attività didattica presso le 
 nostre scuole\, permettendo cosi un contatto diretto con la scuola stessa 
 e con i modelli didattici.\n\nL’Open Day è rivolto a laureati in psicol
 ogia e medicina che desiderano specializzarsi in psicoterapia ed a psicote
 rapeuti interessati a frequentare un master quadriennale in psicoterapia c
 ognitiva.\n\nLa lezione sarà preceduta dalla presentazione della Scuola e
  dell'organizzazione della didattica a cura della Dr.ssa Francesca Romana 
 Righi\, coordinatrice delle ns Scuole.ISCRIZIONEL’Open Day è GRATUITO c
 on iscrizione obbligatoria e a numero chiuso.\n\nPER ISCRIVERTI CLICCA QUI
 \n\nN.B. Le iscrizioni vengono prese sulla nostra nuova piattaforma di ero
 gazione corsi (https://eventi.apc.it/)\, se non sei ancora registrato alla
  nuova piattaforma dovrai registrarti con i tuoi dati e poi procedere all
 ’iscrizione.\n\nPer info: corsi@apc.it – 3473566781\n\nPRENOTA IL COLL
 OQUIO DI SELEZIONE ALLE SCUOLE DI SPECIALIZZAZIONEPer chi fosse interessat
 o è possibile prenotarsi per effettuare un colloquio online di selezione 
 alla Scuola di Specializzazione. Per prenotare il colloquio compilare il f
 orm online&nbsp\;PRENOTA IL COLLOQUIO DI SELEZIONE&nbsp\;\n\noppure chiama
 re il numero 351/6208206
ATTACH;FMTTYPE=image/jpeg:https://apc.it/wp-content/uploads/2024/03/DEF_Op
 en-Day-Online-14-maggio-2024-Fiore.png
CATEGORIES:Corsi Gratuiti,Open Day
END:VEVENT
END:VCALENDAR