BEGIN:VCALENDAR
VERSION:2.0
PRODID:-//wp-events-plugin.com//7.2.3.1//EN
BEGIN:VEVENT
UID:127@apc.it
DTSTART:20210419T100000Z
DTEND:20210419T130000Z
DTSTAMP:20210226T101439Z
URL:https://apc.it/lista-eventi/open-day-on-line-sede-di-roma/
SUMMARY:OPEN DAY ON LINE - sede di Roma - «Open Day – Scuola SPC di Roma
 »
DESCRIPTION:\nOPEN DAY ON LINE - sede di Roma\n«Open Day – Scuola SPC di
  Roma»\nOpen Day dedicato principalmente agli interessati alla nostra sed
 e di ROMA\nLa Dr.ssa Barcaccia sarà didatta del corso quadriennale 2022-2
 5\ndella scuola SPC di Roma\nBarbara Barcaccia\n\n19 aprile 2021\norario 1
 0.00-13.00\n\nLe Scuole di Specializzazione in Psicoterapia Cognitiva\, AP
 C-SPC-SICC-IGB-AIPC consentono la partecipazione a titolo gratuito a lezio
 ni su temi clinici di rilevanza\, tenute da Docenti e Didatti che svolgono
  attività didattica presso le nostre scuole\, permettendo cosi un contatt
 o diretto con la scuola stessa e con i modelli didattici. Le giornate sono
  rivolte a laureati in medicina e psicologia che desiderano specializzarsi
  in psicoterapia ed a psicoterapeuti che possono essere interessati a freq
 uentare un master quadriennale in psicoterapia cognitiva.\n\nLe lezioni so
 no precedute dalla presentazione dell'organizzazione della didattica\, a c
 ura della Coordinatrice delle Scuole Dr.ssa Francesca Romana Righi\nL’Op
 en Day si svolgerà in modalità webinar attraverso la piattaforma ZOOM\nL
 a partecipazione è gratuita e a numero chiuso (max 60 posti)\nPer iscrive
 rsi è necessario compilare la scheda on line entro il 17 aprile c.a\nNon 
 sarà possibile partecipare a più di un open day&nbsp\;\nPer chi fosse in
 teressato\, è possibile effettuare il&nbsp\;colloquio di selezione alla S
 cuola&nbsp\;il giorno stesso dell’open day\, prenotandosi chiamando il n
 umero&nbsp\;351/6208206 oppure compilando la scheda di iscrizione on line\
 , specificando la sede per cui siete interessati ad effettuare il colloqui
 o di selezione\nScarica la locandina di questo evento&nbsp\;&nbsp\;\n&nbsp
 \;
ATTACH;FMTTYPE=image/jpeg:https://apc.it/wp-content/uploads/2021/02/presen
 tazione-open-day-19-aprile-2021.png
CATEGORIES:Corsi Gratuiti,Open Day
END:VEVENT
END:VCALENDAR