BEGIN:VCALENDAR
VERSION:2.0
PRODID:-//wp-events-plugin.com//7.2.3.1//EN
BEGIN:VEVENT
UID:140@apc.it
DTSTART:20210617T100000Z
DTEND:20210617T130000Z
DTSTAMP:20210325T165525Z
URL:https://apc.it/lista-eventi/open-day-on-line-sede-di-lecce-la-terapia-
 metacognitiva-interpersonale-per-i-disturbi-di-personalita-un-caso-clinico
 /
SUMMARY:OPEN DAY ON LINE – sede di LECCE - «La Terapia Metacognitiva Int
 erpersonale per i disturbi di personalità: un caso clinico»
DESCRIPTION:\nOPEN DAY ON LINE – sede di LECCE\n«La Terapia Metacognitiv
 a Interpersonale per i disturbi di personalità: un caso clinico»\nOpen D
 ay è dedicato principalmente agli interessati alla nostre sede di LECCE\n
 La Dr.ssa Riccardi sarà didatta del corso quadriennale 2022-25\ndella scu
 ola APC di Lecce\nIlaria Riccardi\n\n17 giugno 2021\norario 10.00-13.00\n\
 nLe Scuole di Specializzazione in Psicoterapia Cognitiva\, APC-SPC-SICC-IG
 B-AIPC consentono la partecipazione a titolo gratuito a lezioni su temi cl
 inici di rilevanza\, tenute da Docenti e Didatti che svolgono attività di
 dattica presso le nostre scuole\, permettendo cosi un contatto diretto con
  la scuola stessa e con i modelli didattici. Le giornate sono rivolte a la
 ureati in medicina e psicologia che desiderano specializzarsi in psicotera
 pia ed a psicoterapeuti che possono essere interessati a frequentare un ma
 ster quadriennale in psicoterapia cognitiva.\n\nLe lezioni sono precedute 
 dalla presentazione dell’organizzazione della didattica\, a cura della C
 oordinatrice delle Scuole Dr.ssa Francesca Romana Righi\n\nL’Open Day si
  svolgerà in modalità webinar attraverso la piattaforma ZOOM\n\nLa parte
 cipazione è gratuita e a numero chiuso (max 60 posti)\nPer iscriversi è 
 necessario compilare la scheda on line&nbsp\;entro il 15 giugno&nbsp\;c.a\
 nNon sarà possibile partecipare a più di un open day&nbsp\;\nPer chi fos
 se interessato\, è possibile effettuare il&nbsp\;colloquio di selezione a
 lla Scuola&nbsp\;il giorno stesso dell’open day\, prenotandosi chiamando
  il numero&nbsp\;351/6208206 oppure compilando la scheda di iscrizione on 
 line\, specificando la sede per cui siete interessati ad effettuare il col
 loquio di selezione\nScarica la locandina di questo evento&nbsp\;
ATTACH;FMTTYPE=image/jpeg:https://apc.it/wp-content/uploads/2021/03/presen
 tazione-open-day-17-giugno-2021.png
CATEGORIES:Corsi Gratuiti,Open Day
END:VEVENT
END:VCALENDAR