BEGIN:VCALENDAR
VERSION:2.0
PRODID:-//wp-events-plugin.com//7.2.3.1//EN
BEGIN:VEVENT
UID:129@apc.it
DTSTART:20210427T100000Z
DTEND:20210427T130000Z
DTSTAMP:20210226T101854Z
URL:https://apc.it/lista-eventi/open-day-on-line-sede-di-ancona-attaccamen
 to-e-relazioni-sentimentali-dalla-teoria-alla-pratica-clinica/
SUMMARY:OPEN DAY ON LINE - sede di Ancona - «Attaccamento  e relazioni sen
 timentali: dalla teoria alla pratica clinica»
DESCRIPTION:\nOPEN DAY ON LINE - sede di Ancona&nbsp\;\n«Attaccamento&nbsp
 \; e relazioni sentimentali: dalla teoria alla pratica clinica»\nOpen Day
  dedicato principalmente agli interessati alla nostra sede di ANCONA\nLa D
 r.ssa Serrani sarà didatta del corso quadriennale 2022-25\ndella scuola S
 PC di Ancona\nFrancesca Micaela Serrani\n\n27 aprile 2021\norario 10.00-13
 .00\n\nLe Scuole di Specializzazione in Psicoterapia Cognitiva\, APC-SPC-S
 ICC-IGB-AIPC consentono la partecipazione a titolo gratuito a lezioni su t
 emi clinici di rilevanza\, tenute da Docenti e Didatti che svolgono attivi
 tà didattica presso le nostre scuole\, permettendo cosi un contatto diret
 to con la scuola stessa e con i modelli didattici. Le giornate sono rivolt
 e a laureati in medicina e psicologia che desiderano specializzarsi in psi
 coterapia ed a psicoterapeuti che possono essere interessati a frequentare
  un master quadriennale in psicoterapia cognitiva.\n\nLe lezioni sono prec
 edute dalla presentazione dell’organizzazione della didattica\, a cura d
 ella Coordinatrice delle Scuole Dr.ssa Francesca Romana Righi\n\nL’Open 
 Day si svolgerà in modalità webinar attraverso la piattaforma ZOOM\n\nLa
  partecipazione è gratuita e a numero chiuso (max 60 posti)\nPer iscriver
 si è necessario compilare la scheda on line&nbsp\;entro il 24 aprile&nbsp
 \;c.a\nNon sarà possibile partecipare a più di un open day&nbsp\;\nPer c
 hi fosse interessato\, è possibile effettuare il&nbsp\;colloquio di selez
 ione alla Scuola&nbsp\;il giorno stesso dell’open day\, prenotandosi chi
 amando il numero&nbsp\;351/6208206 oppure compilando la scheda di iscrizio
 ne on line\, specificando la sede per cui siete interessati ad effettuare 
 il colloquio di selezione\nScarica la locandina di questo evento&nbsp\;&nb
 sp\;
ATTACH;FMTTYPE=image/jpeg:https://apc.it/wp-content/uploads/2021/02/presen
 tazione-open-day-27-aprile-2021.png
CATEGORIES:Corsi Gratuiti,Open Day
END:VEVENT
END:VCALENDAR