BEGIN:VCALENDAR
VERSION:2.0
PRODID:-//wp-events-plugin.com//7.2.3.1//EN
BEGIN:VEVENT
UID:126@apc.it
DTSTART:20210430T083000Z
DTEND:20210430T133000Z
DTSTAMP:20210428T144454Z
URL:https://apc.it/lista-eventi/oltre-lemergenza-sfide-sociali-dinamiche-p
 sicologiche-e-ripercussioni-cliniche-della-pandemia/
SUMMARY:Oltre l'emergenza - sfide sociali\, dinamiche psicologiche e riperc
 ussioni cliniche della pandemia
DESCRIPTION:\nOltre l'emergenza\nsfide sociali\, dinamiche psicologiche e r
 ipercussioni cliniche della pandemia\nIscrizione GRATUITA\nE' ancora possi
 bile iscriversi al seguente link: https://us02web.zoom.us/webinar/register
 /WN_-jGO16AbQF2oRDc5Vns-qw\n\nFrancesco Mancini\, Mauro Giacomantonio\, Ca
 terina Suitner\, Silvia Moscatelli\, Stefano Pagliaro\, Maria Giuseppina&n
 bsp\;Pacilli\, Emanuele Rossi\, Erica Pugliese\, Daniela Pajardi\, Giusepp
 e Romano\n\n30 aprile 2021\norario 8.30-13.30\n\nIl simposio è rivolto a 
 Laureandi\, Neolaureati\, Psicologi\, Medici\, Psicoterapeuti\, Psichiatri
 \, Specializzandi\n&nbsp\;\nPROGRAMMA DEL SIMPOSIO\n8:30 - 8:45 – Accogl
 ienza\n8:45 - 9:00 - Francesco Mancini\nSaluto ai partecipanti e apertura 
 dei lavori\n9:05 - 9:25 - Mauro Giacomantonio\nDare Senso all'Epidemia: co
 me gli individui si spiegano l'insorgenza dell'epidemia.\n9:30 - 9:50 - Ca
 terina Suitner\nCOVID-19: da pandemia a infodemia\n9:55 - 10:15 - Silvia M
 oscatelli\nNessuno si salva da solo: Risposte alla pandemia tra teorie del
 la cospirazione e identità sociali\n10:20 - 10:40 - Stefano Pagliaro\nIl 
 ruolo della fiducia e del ragionamento morale nella gestione della pandemi
 a: evidenze da uno studio cross-culturale\n10:45 - 11.05 - Maria Giuseppin
 a Pacilli\nVaccino? Umano\, troppo umano\n11:10 - 11:25 - PAUSA CAFFE'\n11
 :30 - 11:50 - Emanuele Rossi\nRoba che dà fastidio. ACT in età evolutiva
  ai tempi del Covid\n11:55 - 12:15 - Erika Pugliese\nFamiglie in quaranten
 a per il Covid-19. Il ruolo della resilienza dei genitori nel ridurre lo s
 tress familiare\n12:20 - 12:40 - Daniela Pajardi\nStress\, trauma e resili
 enza nel personale sanitario e di soccorso\n12:45 - 13:05 - Giuseppe Roman
 o\nConseguenze del COVID sul Disturbo Ossessivo Compulsivo in età evoluti
 va\n13:10 - 13:30 - Discussione e chiusura lavori\n\nRELATORI\n\nFrancesco
  Mancini\, direttore delle Scuole di Specializzazione in Psicoterapia Cogn
 itiva APC\, SPC\, IGB\, AIPC\, SICC. Professore associato di Psicologia Cl
 inica presso l’Università degli Studi Guglielmo Marconi. Membro del com
 itato editoriale di numerose riviste tra cui Cognitivismo Clinico\, Psichi
 atria e Psicoterapia\, Psicoterapia Cognitiva e Comportamentale\, Quaderni
  di Psicoterapia Cognitiva. Autore di circa 200 pubblicazioni su riviste e
  libri nazionali e internazionali. Curatore di numerosi volumi tra cui: La
  mente ossessiva\, La mente depressa\, Terapia cognitivo comportamentale d
 el trauma interpersonale infantile\, Elementi di Psicoterapia Cognitiva.\n
 Mauro Giacomantonio\, ha conseguito il dottorato in Psicologia Sociale pre
 sso l'Università degli Studi "Sapienza" di Roma dove attualmente è profe
 ssore associato in psicologia sociale. E' specializzato in psicoterapia pr
 esso la Scuola di Psicoterapia Cognitiva di Roma. La sua ricerca verte pri
 ncipalmente sui processi cognitivi e motivazionali coinvolti nell' autoreg
 olazione del comportamento individuale e interpersonale\nCaterina Suitner\
 , si è dottorata in scienze cognitive nel 2009 e ora è professoressa ass
 ociata in psicologia sociale presso l’Università degli Studi di Padova\
 , dove insegna Persuasione e Influenza Sociale\, Psicologia del Lavoro e d
 elle Organizzazioni e Social Network Analysis. I suoi interessi di ricerca
  vertono sulla relazione tra linguaggio e cognizione\, con particolare att
 enzione agli aspetti para-semantici della\ncomunicazione verbale e non ver
 bale e al ruolo dei processi di influenza sociale nella comunicazione onli
 ne.\nSilvia Moscatelli\, è Professoressa Associata di psicologia sociale 
 presso il Dipartimento di Psicologia dell’Università di Bologna. I suoi
  interessi di ricerca principali riguardano la discriminazione di genere\,
  le azioni collettive a sostegno della parità di genere e il linguaggio n
 el contesto intergruppi.\nStefano Pagliaro\, ha conseguito il dottorato in
  Psicologia presso l'Università degli Studi di Chieti-Pescara\, dove attu
 almente è professore associato in psicologia sociale e insegna "Psicologi
 a Sociale" e "Dinamiche di gruppo nelle organizzazioni". La sua ricerca ve
 rte principalmente sui processi di regolazione intragruppo e intergruppi e
  sulla violenza di genere.\nMaria Giuseppina Pacilli\, è prof. associata 
 di Psicologia sociale presso l'Università degli Studi di Perugia dove è 
 anche coordinatrice del corso di laurea triennale in Servizio Sociale e de
 l corso di laurea magistrale in Politiche e Servizi sociali. La sua ricerc
 a verte principalmente sul tema della discriminazione e violenza di genere
 .\nEmanuele Rossi\, psicologo e psicoterapeuta libero professionista. È u
 n trainer riconosciuto di Acceptance and Commitment Therapy (ACT)\,\nchair
  del Communication Committee dell’Association for Contextual Behavioral 
 Science. Si occupa di ricerca e formazione ACT e RFT. È didatta\, docente
  e supervisore presso le Scuole di Psicoterapia Cognitiva\, terapeuta accr
 editato dall’European Association for Behavioural and Cognitive Therapie
 s (EABCT). Ha curato l’edizione italiana di Learning RFT\, Learning ACT 
 2nd Edition\, ACT for Adolescents\, Process-Based CBT e Advanced ACT.\nEri
 ca Pugliese\, ha conseguito il dottorato in Psicologia Sociale presso l’
 Università degli Studi di Roma “La Sapienza”. E’ specializzata in P
 sicoterapia Cognitiva e svolge attività clinica e di ricerca sul tema del
 le Dipendenze Affettive Patologiche e della violenza nelle relazioni intim
 e presso l’Associazione di Psicoterapia Cognitiva di Roma. E’ da tre a
 nni presidente dell’associazione Milleme con la quale porta avanti proge
 tti per contrastare il fenomeno della violenza di genere.\nDaniela Pajardi
 \, è professoressa associata di Psicologia Giuridica e di Psicologia Soci
 ale all’Università di Urbino dove è anche Referente del Corso di Laure
 a Magistrale in Psicologia Clinica e del Polo Universitario Penitenziario 
 Regionale presso la Casa di Reclusione di Fossombrone.\nDirige il Master i
 n “Psicologia Giuridica\, Penitenziaria e Criminologia” e il Centro Ri
 cerca e Formazione in Psicologia Giuridica “Assunto Quadrio”. Si è oc
 cupata di ricerca sullo stress nel personale di soccorso in seguito a disa
 stri aerei e ora nell’emergenza sanitaria.\nGiuseppe Romano\, psicologo 
 e psicoterapeuta cognitivo-comportamentale. Didatta\, docente e supervisor
 e delle Scuole di Specializzazione in Psicoterapia Cognitiva. Responsabile
  dell’Equipe per l’Età Evolutiva APC-SPC. Socio Didatta SITCC\, Ex-Co
 nsigliere del Comitato Direttivo Nazionale. Socio Professionista dell’As
 sociazione Italiana Disturbo Ossessivo Compulsivo. Professore Straordinari
 o presso l’Università “Guglielmo Marconi” di Roma. Autore di più d
 i 30 capitoli di varie pubblicazioni scientifiche e curatore del volume Ps
 icoterapia cognitiva dell’infanzia e dell’adolescenza.\n\nIl Simposio 
 si terrà in modalità webinar su ZOOM venerdì 30 aprile 2021 dalle ore 0
 8.30 alle ore 13.30\n\nISCRIZIONE GRATUITA\nE' ancora possibile iscriversi
  al seguente link: https://us02web.zoom.us/webinar/register/WN_-jGO16AbQF2
 oRDc5Vns-qw\nScarica la brochure di questo evento\n\n\n\n\n\nTutte le comu
 nicazioni organizzative relative a questo corso vengono effettuate via mai
 l.&nbsp\;SI PREGA DI CONTROLLARE LO SPAM.\nPer&nbsp\;INFO&nbsp\;o problemi
  relativi al collegamento potete contattare&nbsp\;SOLO NEI GIORNI DI SVOLG
 IMENTO DEL CORSO\nil numero&nbsp\;347-3566781\n\n\n
ATTACH;FMTTYPE=image/jpeg:https://apc.it/wp-content/uploads/2021/02/oltre-
 lemergenza-definitiva.png
CATEGORIES:Corsi Gratuiti,Simposi
END:VEVENT
END:VCALENDAR