BEGIN:VCALENDAR
VERSION:2.0
PRODID:-//wp-events-plugin.com//7.2.3.1//EN
BEGIN:VEVENT
UID:376@apc.it
DTSTART:20240320T190000Z
DTEND:20240320T200000Z
DTSTAMP:20240223T135747Z
URL:https://apc.it/lista-eventi/mbsr-corso-di-riduzione-dello-stress-basat
 o-sulla-mindfulness-2/
SUMMARY:MBSR - corso di riduzione dello stress basato sulla mindfulness
DESCRIPTION:Scarica la locandina
ATTACH;FMTTYPE=image/jpeg:https://apc.it/wp-content/uploads/2024/02/corso-
 mindfulness-2024.png
CATEGORIES:Corsi Gratuiti
END:VEVENT
END:VCALENDAR