BEGIN:VCALENDAR
VERSION:2.0
PRODID:-//wp-events-plugin.com//7.2.3.1//EN
BEGIN:VEVENT
UID:387@apc.it
DTSTART:20241026T090000Z
DTEND:20241026T130000Z
DTSTAMP:20240328T094948Z
URL:https://apc.it/lista-eventi/master-in-diagnosi-e-trattamento-dei-distu
 rbi-di-personalita-v-edizione/
SUMMARY:Master in diagnosi e trattamento dei disturbi di personalità - V°
  Edizione
DESCRIPTION:Master in diagnosi e trattamento dei disturbi di personalità -
  V° Edizione\n&nbsp\;\n\n13 weekend di lezione (23 giornate) + 3 gruppi d
 i discussione + 1 giornata finale\n\n133 ore di formazione - 100 crediti E
 CM (2024-2025)\n\n&nbsp\;\n\nIl Master in Diagnosi e Trattamento dei Dist
 urbi di Personalità\, giunto oggi alla sua V° edizione\, è promosso da
  Centri Clinici Tages e Scuole di Psicoterapia APC-SPC\, patrocinato da
  Tages Onlus ed ospitato sulla piattaforma PSYsimple. Il Master si svolg
 e interamente online (in diretta)\, e le sue lezioni sono tenute da docent
 i italiani e stranieri (per questi ultimi è prevista la traduzione simult
 anea). Il Master permette inoltre l'acquisizione di 100 crediti ECM.\n\n 
 	Iscrizione "SUPER EARLY BIRD" a 999 euro valida solo fino al 26/06/2024\;
 \n 	Iscrizione "EARLY BIRD" a 1.099 euro valida dal 26/06/2024 al 26/09/20
 24\;\n 	Oltre il 26/09/2024 il costo del Master sarà di 1.199 euro.\n\nPE
 R TUTTE LE INFO SUL MASTER E LE MODALITA' DI ISCRIZIONE: CLICCA QUI\nINFO:
  info@psysimple.com\n&nbsp\;\n\nPERCHÈ UN MASTER SUI DISTURBI DI PERSONAL
 ITÀ\n\nSecondo dati recenti\, si stima che i Disturbi di Personalità a
 bbiano una prevalenza pari al 10-12% nella popolazione generale\, rapprese
 ntando una quota rilevante delle persone afflitte da una qualsiasi soffere
 nza psicologica. Inoltre\, la comorbilità tra disturbi di personalità e 
 disturbi sintomatologici aumenta la severità di questi ultimi e ne peggio
 ra la prognosi. Nella pratica clinica\, è frequente sperimentare difficol
 tà con questi pazienti: non si tratta solo di riuscire a comprendere e in
 quadrare fenomeni spesso molto complessi\, ma anche e soprattutto di trova
 re una chiave relazionale che permetta il raggiungimento di obiettivi comu
 ni. Questo pone un’importante sfida ai clinici: al di là di quanto spec
 ifica sia la richiesta o la sintomatologia emersa\, è impossibile avviare
 \, condurre e concludere una terapia senza una comprensione del funzionam
 ento globale della persona. La personalità\, quindi\, non può essere un
 ’area opzionale di indagine\; essa rappresenta il tentativo incarnato de
 i nostri clienti di dare senso a se stessi e al mondo che li circonda. E d
 unque uno strumento cruciale per chi sia intenzionato ad aiutarli in modo 
 efficace.\n\nCHE COSA SONO I DISTURBI DI PERSONALITÀ\n\nL’ultima versio
 ne del “Manuale Diagnostico e Statistico dei Disturbi Mentali” (DSM-5
 -TR) definisce i disturbi di personalità come dei pattern di esperienza 
 interna e comportamentale che deviano in modo consistente da quelle che so
 no le aspettative della cultura di riferimento\, e che si manifestano in d
 ue o più aree tra: aspetti cognitivi\, aspetti affettivi\, funzionamento 
 interpersonale e controllo degli impulsi. Oltre a ciò\, per essere consid
 erato come un disturbo\, il pattern di personalità deve risultare pervasi
 vo (e cioè manifestarsi in più ambiti della propria vita)\, persistente 
 (di lunga durata\, con esordio nella tarda adolescenza o nella prima età 
 adulta) e patologico (fuori dalla gamma della variazione normale). Il DSM-
 5 (2013) e il DSM-5-TR (2022) individuano dieci disturbi di personalità (
 paranoide\, schizoide\, schizotipico\, borderline\, narcisistico\, istrion
 ico\, antisociale\, evitante\, dipendente\, ossessivo-compulsivo)\, manten
 endo la classificazione categoriale utilizzata anche nella precedente vers
 ione del manuale\; nella quinta edizione è stato però aggiunto un modell
 o alternativo (Sezione III del Manuale) che mira ad affrontare le carenze 
 che caratterizzano quello principale\, e ad incoraggiare lo studio dei dis
 turbi di personalità da un’altra prospettiva\, al fine di migliorarne l
 a comprensione e il trattamento.\n\nCOME NASCE QUESTO MASTER\n\nNei Centr
 i Clinici Tages lavoriamo da sempre ponendo grande attenzione alla person
 alità e ai suoi disturbi e tra i vari gruppi di lavoro che abbiamo costit
 uito\, “Tages Personality” è quello che si occupa di ricerca\, clinic
 a\, studio\, divulgazione e formazione nell’ambito dei Disturbi di Perso
 nalità. Confrontandoci ogni giorno con le sfide che questi disturbi pongo
 no\, e con le frequenti difficoltà che i clinici incontrano nell’orient
 arsi tra i vari approcci disponibili\, abbiamo deciso di proporre un progr
 amma formativo che fosse in grado di fornire ai professionisti dei solidi 
 strumenti in termini teorici e tecnici per implementare trattamenti effica
 ci e evidence-based orientati alla personalità. Nel farlo abbiamo pensato
  al tipo di corso a cui noi per primi avremmo voluto partecipare: un perco
 rso nel quale clinici e docenti esperti\, nazionali e internazionali\, ill
 ustrano in modo chiaro e replicabile le conoscenze a cui ogni giorno attin
 gono per trattare i loro pazienti. Nasce così il primo master italiano o
 nline sui Disturbi di Personalità\, attualmente alla sua quinta edizione.
 \n\nLA NOSTRA IDEA DI FORMAZIONE\n\nPer offrire ai professionisti della sa
 lute mentale una formazione di qualità ma al contempo spendibile\, il pro
 gramma del master prevede sia momenti di didattica frontale che spazi di
  tipo pratico (esercitazioni\, discussione di casi etc.)\, in modo da fo
 rnire a ciascun partecipante degli strumenti facilmente trasferibili nel p
 roprio contesto clinico. Riteniamo che nella psicoterapia\, in particolare
  nell’ambito dei disturbi di personalità\, sia essenziale per il clinic
 o saper costruire una concettualizzazione del caso che sia al contempo per
 sonalizzata sul paziente e basata su evidenze scientifiche\, al fine di po
 ter utilizzare al meglio gli strumenti che oggi la psicoterapia mette a di
 sposizione.\n\nOBIETTIVI FORMATIVI\n\nL’obiettivo del master è quello d
 i formare chi quotidianamente si occupa di salute mentale alla diagnosi e
  al trattamento dei disturbi di personalità in contesti sia pubblici che
  privati.\n\nAl termine del corso i partecipanti avranno acquisito le com
 petenze teoriche e pratiche necessarie per comprendere il funzionamento d
 el paziente e per attuare l’intervento psicoterapeutico ritenuto più ef
 ficace per la problematica presentata.\n\nI docenti guideranno gli iscritt
 i nella formulazione del caso\, nella comprensione delle tecniche e dei pr
 otocolli evidence-based e nella complessa ed articolata elaborazione di un
  piano terapeutico che tenga conto della specificità della persona e dell
 ’interazione tra questa e il suo terapeuta.\n\nParticolare attenzione ve
 rrà dedicata alla declinazione operativa dei modelli presentati nella pra
 tica clinica\, tramite strumenti teorici basati su dimensioni e processi t
 ransdiagnostici ed esercizi pratici.\n\nIl master nasce infatti dalla cons
 apevolezza che chi ogni giorno si confronta con casi complessi come i dist
 urbi di personalità debba possedere un sapere clinico pratico adattabile 
 all’unicità del paziente e del suo terapeuta.\n\nPIANO DIDATTICO\n\nIl 
 programma del corso è suddiviso in quattro parti principali\, ciascuna de
 lle quali prevede specifiche giornate di formazione:\n\n1° PARTE - Person
 alità e psicopatologia: fondamenti teorici e clinici per la comprensione 
 dei disturbi di personalità\n\n 	La personalità: un'introduzione\n 	I di
 sturbi di personalità del Cluster A\n 	I disturbi di personalità del Clu
 ster B\n 	I disturbi di personalità del Cluster C\n\n2° PARTE - Il tratt
 amento dei disturbi di personalità: dalla diagnosi alla costruzione dell'
 alleanza terapeutica\n\n 	La valutazione della personalità: categorie e d
 imensioni\, approccio interpersonale\, diagnosi precoce\n 	La relazione e 
 i sistemi motivazionali in terapia\n\n3° PARTE - Il trattamento dei distu
 rbi di personalità: interventi psicoterapeutici sulle dimensioni e sui pr
 ocessi psicopatologici\n\n 	Aspetti transdiagnostici (1): il perfezionismo
 \n 	Aspetti transdiagnostici (2): gli scopi\n 	Aspetti transdiagnostici (3
 ): il trauma\n 	Aspetti transdiagnostici (4): la dipendenza interpersonale
 \n 	Aspetti transdiagnostici (5): l'autocritica\n\n4° PARTE - Il trattame
 nto dei disturbi di personalità: approfondimento dei principali protocoll
 i psicoterapeutici\n\n 	Terapie basate su mentalizzazione (MBT) e metacogn
 izione (TMI)\n 	Schema Therapy (ST)\n 	Dialectical Behavior Therapies (DBT
  e RO DBT)\n 	Transference Focused Psychotherapy (TFP)\n\nGRUPPI DI DISCUS
 SIONE\n\nNel corso dell'anno di formazione previsto dal Master\, si svolgo
 no tre "Gruppi di discussione" durante i quali i partecipanti possono conf
 rontarsi sugli argomenti trattati fino a quel momento\, segnalare eventual
 i criticità o discutere della tesina di fine corso. Ai Gruppi partecipa s
 empre uno degli organizzatori del Master nel ruolo di moderatore.\n\nORGAN
 IZZATORI\n\nREFERENTI:\n\nIl corso è promosso da Centri Clinici Tages e
  Scuole di Psicoterapia APC-SPC.\n\nSEGRETERIA DIDATTICA:\n\n 	Dott. Simo
 ne Cheli (Direttore del Master)\n 	Prof. Francesco Mancini (Responsabile
  Scientifico)\n 	Dott.ssa Veronica Cavalletti (Responsabile Didattico)\n\
 nSEGRETERIA ORGANIZZATIVA:\n\n 	Dott.ssa Marta Floridi (Segreteria Studen
 ti)\n\nMODALITA’\n\nIl Master si svolge in modalità webinar (in diret
 ta. Durante le dirette con docenti stranieri\, è prevista la traduzione 
 simultanea dall'inglese all'italiano\; è comunque possibile scegliere qua
 le canale audio seguire. Le lezioni vengono inoltre  videoregistrate e 
 rese disponibili ai partecipanti per un periodo limitato di tempo. La lezi
 one relativa alla RO DBT si svolgerà in modalità blended (con video pr
 e-registrati e contributi in diretta).\n\nECM E ATTESTATI\n\nSono stati ri
 chiesti 100 crediti ECM. L'acquisizione dei crediti\, come da regolamen
 to\, è vincolata alla partecipazione in diretta ed al superamento dei 
 test.\n\nIl corso è strutturato in due moduli: Modulo I (ottobre 2024-dic
 embre 2024) e Modulo II (gennaio 2025 - ottobre 2025)\, per ognuno dei qua
 li sono stati richiesti 50 ECM. Al termine di ogni modulo i partecipanti a
 ccederanno ad un test di apprendimento ed uno di gradimento come regolamen
 to AGENAS.\n\nLa prova finale\, che consiste nella produzione ed esposizi
 one di una tesina di approfondimento su una tematica trattata durante il c
 orso o su un caso clinico\, permette di conseguire l’attestato del Mast
 er "Diagnosi e Trattamento dei Disturbi di Personalità".\n\nPer alcune le
 zioni\, compatibilmente con la verifica della frequenza effettiva ad esse\
 , verrà rilasciato un ulteriore attestato di partecipazione in quanto g
 iornate di formazione svolte da docenti riconosciuti da associazioni scien
 tifiche: Compassionate Mind Italia\, MOTIS (Metacognitively Oriented Trea
 tments - International Society\, IAST (Italian Academy of Schema Therapy).
 \n\nVerranno inoltre rilasciate le seguenti certificazioni:\n\n 	“Terapi
 a Metacognitiva Interpersonale di Gruppo” (Centro TMI)\n 	"Merit Livello
  Introduttivo" (Merit Institute)\n\nLe lezioni tenute da S. Simpson e B. B
 asile sono inoltre riconosciute dalla ISST come “CPD” (Continuing Pro
 fessional Development).\n\n&nbsp\;\n\n 	Iscrizione "SUPER EARLY BIRD" a 99
 9 euro valida solo fino al 26/06/2024\;\n 	Iscrizione "EARLY BIRD" a 1.099
  euro valida dal 26/06/2024 al 26/09/2024\;\n 	Oltre il 26/09/2024 il cost
 o del Master sarà di 1.199 euro.\n\nPER TUTTE LE INFO SUL MASTER E LE MOD
 ALITA' DI ISCRIZIONE: CLICCA QUI\nINFO: info@psysimple.com
ATTACH;FMTTYPE=image/jpeg:https://apc.it/wp-content/uploads/2024/03/MASTER
 -dp-V.png
CATEGORIES:Corsi a pagamento,Corsi ecm
END:VEVENT
END:VCALENDAR