BEGIN:VCALENDAR
VERSION:2.0
PRODID:-//wp-events-plugin.com//7.2.3.1//EN
BEGIN:VEVENT
UID:120@apc.it
DTSTART;VALUE=DATE:20211023
DTEND;VALUE=DATE:20211024
DTSTAMP:20211130T103529Z
URL:https://apc.it/lista-eventi/master-diagnosi-e-trattamento-dei-disturbi
 -di-personalita/
SUMMARY:MASTER: Diagnosi e Trattamento dei Disturbi di Personalità
DESCRIPTION:\nMASTER: Diagnosi e Trattamento dei Disturbi di Personalità\n
 Per iscriverti clicca qui \n\nProf. Arnoud Arntz\, Dott.ssa Barbara Basil
 e\, Prof. Anthony Bateman\, Dott. Antonino Carcione\, Dott.ssa Veronica Ca
 valletti\, Dott. Simone Cheli\, Dott. Giancarlo Dimaggio\, Dott. Francesco
  Gazzillo\, Prof. Paul Hewitt\, Prof. Chris Hopwood\, Prof. Cesare Maffei\
 , Prof. Francesco Mancini\, Dott. Fabio Monticelli\, Dott. Antonio Onofri\
 , Dott. Nicola Petrocchi\, Dott. Raffaele Popolo\, Dott.ssa Elena Prunetti
 \, Dr. Sophie Rushbrook\, Prof. Antonio Semerari\, Dott.ssa Cecilia Trevis
 ani\n\ndal 23/10/2021 al 16/10/2022\n\nINTRODUZIONE\n\nPERCHÈ UN MASTER S
 UI DISTURBI DI PERSONALITÀ\nSecondo dati recenti\, si stima che i Distur
 bi di Personalità abbiano una prevalenza pari al 10-12% nella popolazion
 e generale\, rappresentando una quota rilevante delle persone afflitte da 
 una qualsiasi sofferenza psicologica. Nella pratica clinica\, è frequente
  sperimentare difficoltà con questi pazienti: non si tratta solo di riusc
 ire a comprendere e inquadrare fenomeni spesso molto complessi\, ma anche 
 e soprattutto di trovare una chiave relazionale che permetta il raggiungim
 ento di obiettivi comuni. Questo pone un’importante sfida ai clinici: al
  di là di quanto specifica sia la richiesta o la sintomatologia emersa\, 
 è impossibile avviare\, condurre e concludere una terapia senza una comp
 rensione del funzionamento globale della persona. La personalità\, quindi
 \, non può essere un’area opzionale di indagine\; essa rappresenta il t
 entativo incarnato dei nostri clienti di dare senso a se stessi e al mondo
  che li circonda. E dunque uno strumento cruciale per chi sia intenzionato
  ad aiutarli in modo efficace.\n\nCHE COSA SONO I DISTURBI DI PERSONALITÀ
 \nL’ultima versione del “Manuale Diagnostico e Statistico dei Disturb
 i Mentali” (DSM-5) definisce i disturbi di personalità come dei patter
 n di esperienza interna e comportamentale che deviano in modo consistente 
 da quelle che sono le aspettative della cultura di riferimento\, e che si 
 manifestano in due o più aree tra: aspetti cognitivi\, aspetti affettivi\
 , funzionamento interpersonale e controllo degli impulsi. Oltre a ciò\, p
 er essere considerato come un disturbo\, il pattern di personalità deve r
 isultare pervasivo (e cioè manifestarsi in più ambiti della propria vita
 )\, persistente (di lunga durata\, con esordio nella tarda adolescenza o n
 ella prima età adulta) e patologico (fuori dalla gamma della variazione n
 ormale). Il DSM-5 (2013) individua dieci disturbi di personalità (paranoi
 de\, schizoide\, schizotipico\, borderline\, narcisistico\, istrionico\, a
 ntisociale\, evitante\, dipendente\, ossessivo-compulsivo)\, mantenendo la
  classificazione categoriale utilizzata anche nella precedente versione de
 l manuale\; nella quinta edizione è stato però aggiunto un modello alter
 nativo (Sezione III del Manuale) che mira ad affrontare le carenze che car
 atterizzano quello principale\, e ad incoraggiare lo studio dei disturbi d
 i personalità da un’altra prospettiva\, al fine di migliorarne la compr
 ensione e il trattamento.\n\n\n\n\n\n&nbsp\;\n\n\n\n\n\nCOME NASCE QUESTO 
 MASTER\nNei Centri Clinici di Tages Onlus lavoriamo da sempre ponendo gra
 nde attenzione alla personalità e ai suoi disturbi e tra i vari gruppi di
  lavoro che abbiamo costituito\, “Tages Personality” è quello che si 
 occupa di ricerca\, clinica\, studio\, divulgazione e formazione nell’am
 bito dei Disturbi di Personalità. Confrontandoci ogni giorno con le sfide
  che questi disturbi pongono\, e con le frequenti difficoltà che i clinic
 i incontrano nell’orientarsi tra i vari approcci disponibili\, abbiamo d
 eciso di proporre un programma formativo specifico che fosse in grado di f
 ornire ai professionisti dei solidi strumenti in termini teorici e tecnici
  per implementare trattamenti efficaci e evidence-based orientati alla per
 sonalità. Nel farlo abbiamo pensato al tipo di corso a cui noi per primi 
 avremmo voluto partecipare: un percorso nel quale clinici e docenti espert
 i\, nazionali e internazionali\, illustrano in modo chiaro e replicabile l
 e conoscenze a cui ogni giorno attingono per trattare i loro pazienti. Nas
 ce così il primo master italiano online sui Disturbi di Personalità\, a
 ttualmente alla sua seconda edizione.\n\nLA NOSTRA IDEA DI FORMAZIONE\nPer
  offrire ai professionisti della salute mentale una formazione di qualità
  ma al contempo spendibile\, il programma del master prevede sia momenti d
 i didattica frontale che spazi di tipo pratico (esercitazioni\, discuss
 ione di casi etc.)\, in modo da fornire a ciascun partecipante degli strum
 enti facilmente trasferibili nel proprio contesto clinico. Riteniamo che n
 ella psicoterapia\, in particolare nell’ambito dei disturbi di personali
 tà\, sia essenziale per il clinico saper costruire una concettualizzazion
 e del caso che sia al contempo personalizzata sul paziente e basata su evi
 denze scientifiche\, al fine di poter utilizzare al meglio gli strumenti c
 he oggi la psicoterapia mette a disposizione.\nOBIETTIVI\n\n\nL’obiettiv
 o del master è quello di formare chi quotidianamente si occupa di salute 
 mentale alla diagnosi e al trattamento dei disturbi di personalità in c
 ontesti sia pubblici che privati.\n\nAl termine del corso i partecipanti a
 vranno acquisito le competenze teoriche e pratiche necessarie per compre
 ndere il funzionamento del paziente e per attuare l’intervento psicotera
 peutico ritenuto più efficace per la problematica presentata.\n\nI docent
 i guideranno gli iscritti nella formulazione del caso\, nella comprensione
  delle tecniche e dei protocolli evidence-based e nella complessa ed artic
 olata elaborazione di un piano terapeutico che tenga conto della specifici
 tà della persona e dell’interazione tra questa e il suo terapeuta.\n\nP
 articolare attenzione verrà dedicata alla declinazione operativa dei mode
 lli presentati nella pratica clinica\, tramite strumenti teorici basati su
  dimensioni e processi transdiagnostici ed esercizi pratici.\n\nIl master 
 nasce infatti dalla consapevolezza che chi ogni giorno si confronta con ca
 si complessi come i disturbi di personalità debba possedere un sapere cli
 nico pratico adattabile all’unicità del paziente e del suo terapeuta.\n
 \n\nCONTENUTI\n\nIL PIANO DIDATTICO\n\n\n\n\n\n\nAl master prendono parte 
 come docenti dei clinici esperti\,  italiani ed internazionali\, di Distu
 rbi di Personalità al fine di offrire una formazione di alto livello\, b
 asata sulle più recenti evidenze della letteratura scientifica ed in line
 a con gli standard delle Linee Guida Internazionali sull’argomento\, con
  particolare riferimento alla cornice cognitivo-comportamentale e ai suo
 i sviluppi di Terza Onda. La modalità didattica è interattiva e prevede
 \, all’interno del programma\, numerosi momenti di interscambio tra doce
 nti e discenti ed esercitazioni su vignette o casi clinici portati sia dai
  partecipanti che dai docenti.\n\nIl master ha durata annuale e si svolger
 à da Ottobre 2021 a Ottobre 2022.\n\nLe lezioni si terranno nelle giorna
 te di sabato e domenica (1 weekend al mese per 12 mesi)\, ad eccezione del
 l’ultimo weekend per cui è previsto anche il venerdì.\n\nLa didattica 
 (116 ore di formazione) è suddivisa nei seguenti 4 moduli:\n\n 	Personali
 tà e Psicopatologia: fondamenti teorici e clinici per la comprensione dei
  disturbi di personalità [32 ore]\n 	Il trattamento dei disturbi di pers
 onalità: dalla diagnosi alla costruzione dell’alleanza terapeutica [16
  ore]\n 	Il trattamento dei disturbi di personalità: interventi psicotera
 peutici sulle dimensioni e sui processi psicopatologici [24 ore]\n 	Il tr
 attamento dei disturbi di personalità: approfondimento sui principali pro
 tocolli psicoterapeutici [44 ore]\n\nOltre alle ore dedicate alla didatti
 ca\, sono previsti dei gruppi di discussione (con partecipazione facolta
 tiva) durante i quali sarà possibile approfondire i temi del master e dis
 cutere di casi clinici.\n\n\n\n\n\n\nNel corso della formazione\, si farà
  riferimento ai seguenti approcci psicoterapeutici:\n\nPsicoterapia cognit
 ivo-comportamentale (CBT)\nPsicoterapia cognitivo-evoluzionista\nCompassio
 n Focused Therapy (CFT)\nApproccio dinamico-relazionale\nDialectical Behav
 ior Therapy (DBT)\nEye Movement Desensitization and Reprocessing (EMDR)\nM
 etacognitive Reflection and Insight Therapy (MERIT)\nMentalization Based T
 reatment (MBT)\nRadically Open Dialectical Behavior Therapy (RO DBT)\nSche
 ma Therapy (ST)\nTerapia Metacognitiva Interpersonale (TMI)\nTerapia Metac
 ognitiva Interpersonale di Gruppo (TMI-G)\n\n\n\n\n\n\nDOCENTI\n\n\n\nProf
 . Arnoud Arntz – University of Amsterdam (NL)\, PSyQ Amsterdam\, ISST\
 n\n&nbsp\;\n\n&nbsp\;\n\n\n\nDott.ssa Barbara Basile – APC SPC (Roma)\
 , ISST\n\n&nbsp\;\n\n&nbsp\;\n\n\n\nProf. Anthony Bateman – Anna Freud 
 National Centre (UK)\n\n&nbsp\;\n\n&nbsp\;\n\n\n\nDott. Antonino Carcione
  -Terzo Centro di Psicoterapia Cognitiva (Roma)\, Università degli Studi
  dell’Aquila\, SICC\n\n&nbsp\;\n\n&nbsp\;\n\n\n\nDott.ssa Veronica Caval
 letti – Tages Onlus (Firenze)\n\n&nbsp\;\n\n&nbsp\;\n\n\n\nDott. Simone
  Cheli – Università degli Studi di Firenze\, USL Toscana Centro\, Tage
 s Onlus (Firenze)\n\n&nbsp\;\n\n&nbsp\;\n\n\n\nDott. Giancarlo Dimaggio 
 – Centro di Terapia Metacognitiva Interpersonale (Roma)\n\n&nbsp\;\n\n&n
 bsp\;\n\n\n\nDott. Francesco Gazzillo – Università la Sapienza (Roma)\
 , Control Mastery Theory Italian Group\n\n&nbsp\;\n\n&nbsp\;\n\n\n\nProf. 
 Paul Hewitt -University of British Columbia (Canada)\n\n&nbsp\;\n\n&nbsp\
 ;\n\n\n\nProf. Chris Hopwood – University of California (UCDAVIS) (US)\
 n\n&nbsp\;\n\n&nbsp\;\n\n\n\nProf. Cesare Maffei – Università Vita-Sal
 ute San Raffaele (Milano)\, SIDBT\n\n&nbsp\;\n\n&nbsp\;\n\n\n\nProf. Franc
 esco Mancini – Università degli Studi Guglielmo Marconi (Roma)\, APC S
 PC (Roma)\n\n&nbsp\;\n\n&nbsp\;\n\n\n\nDott. Fabio Monticelli – Centro 
 Clinico De Sanctis (Roma)\n\n&nbsp\;\n\n&nbsp\;\n\n\n\nDott. Antonio Onofr
 i – Centro Clinico De Sanctis (Roma)\n\n&nbsp\;\n\n&nbsp\;\n\n\n\nDott.
  Nicola Petrocchi – John Cabot University (Roma)\, Compassionate Mind I
 talia\n\n&nbsp\;\n\n&nbsp\;\n\n\n\nDott. Raffaele Popolo – Centro di Te
 rapia Metacognitiva Interpersonale (Roma)\, ASL1 (Roma)\n\n&nbsp\;\n\n&nbs
 p\;\n\n\n\nDott.ssa Elena Prunetti – APC SPC (Verona)\, Villa Margherit
 a (Vicenza)\n\n&nbsp\;\n\n&nbsp\;\n\n\n\nDr. Sophie Rushbrook – Intensi
 ve Psychological Therapy Service\, Dorset (UK)\n\n&nbsp\;\n\n&nbsp\;\n\n\n
 \nProf. Antonio Semerari – Terzo Centro di Psicoterapia Cognitiva (Roma
 )\, SICC\n\n&nbsp\;\n\n&nbsp\;\n\n\n\nDott.ssa Cecilia Trevisani – Tage
 s Onlus (Bologna)\, Università di Bologna\n\n&nbsp\;\n\n&nbsp\;\nCALENDAR
 IO\n\n\nIl calendario prevede 11 weekend di lezione (sabato e domenica) ed
  1 weekend lungo (venerdì\, sabato e domenica) per un totale di 25 giorna
 te. Le lezioni sono suddivise in 4 moduli e si svolgono tra ottobre 2021 e
  ottobre 2022.\n\n\n\n\n\n\n\n1° Parte – “Personalità e psicopatolog
 ia: fondamenti teorici e clinici per la comprensione dei disturbi di perso
 nalità”\n\n\n1) La personalità: un’introduzione\n\n\n\n\n\nIntroduzi
 one al Master: uno sguardo integrato e transdiagnostico ai disturbi di per
 sonalità – Dott. Simone Cheli [Sabato 23/10/21 ore 9-13]:\n\n 	La st
 ruttura del corso e i suoi obiettivi\n 	La rilevanza clinica dei disturbi 
 di personalità\n 	Evoluzione dei disturbi di personalità nel DSM-5: dall
 a diagnosi categoriale alla diagnosi dimensionale\n 	L’importanza della 
 personalità nei percorsi di psicoterapia\n 	Rassegna delle linee guida e 
 dei dati di efficacia esistenti sui disturbi di personalità\n\nTeoria e p
 sicopatologia della personalità – Dott. Francesco Gazzillo [Domenica 
 24/10/21 ore 9-13]:\n\n 	Personalità\, carattere e temperamento\n 	Princi
 pali teorie e modelli sulla personalità\n 	Gli aspetti biologici e gli ev
 enti di vita precoci\n 	L’insorgenza e la strutturazione del disagio psi
 chico\n 	La personalità patologica: identità e relazioni\n 	I disturbi d
 i personalità nel PDM-2: una panoramica\n\n\n\n\n\n\n\n\n2) I disturbi di
  personalità: il Cluster A\n\nCaratteristiche dei disturbi – Dott. Sim
 one Cheli [Sabato 13/11/21 ore 9-13]:\n\n 	I disturbi di personalità: p
 aranoide\, schizoide e schizotipico\n 	Inquadramento\, relazione e linee d
 i intervento utilizzando la TMI\, la CFT e la MERIT\n\n\n\n\n\n\n\n\n\n\n\
 n\nCasi clinici ed esercitazioni – Dott. Simone Cheli [Domenica 14/11/
 21 ore 9-13]:\n\n 	Presentazione di casi clinici esemplificativi per ciasc
 un disturbo\n 	Discussione dei casi clinici portati dai partecipanti\n\n&n
 bsp\;\n\n\n\n\n\n\n3) I disturbi di personalità: il Cluster B\n\nCaratte
 ristiche dei disturbi – Prof. Antonio Semerari [Sabato 08/01/22 ore 9-
 13]:\n\n 	I disturbi di personalità: borderline\, narcisistico\, istrion
 ico e antisociale\n 	Inquadramento\, relazione e linee di intervento utili
 zzando la TMI\n\n\n\n\nCasi clinici ed esercitazioni – Prof. Antonio Se
 merari [Domenica 09/01/22 ore 9-13]:\n\n 	Presentazione di casi clinici e
 semplificativi per ciascun disturbo\n 	Discussione dei casi clinici portat
 i dai partecipanti\n\n&nbsp\;\n\n\n\n\n4) I disturbi di personalità: il C
 luster C\n\nCaratteristiche dei disturbi – Dott. Giancarlo Dimaggio [S
 abato 29/01/22 ore 9-13]\n\n 	I disturbi di personalità: evitante\, dipe
 ndente e ossessivo-compulsivo\n 	Inquadramento\, relazione e linee di inte
 rvento utilizzando la TMI\n\nCasi clinici ed esercitazioni – Dott. Gian
 carlo Dimaggio [Domenica 30/01/22 ore 9-13]\n\n 	Presentazione di casi cl
 inici esemplificativi per ciascun disturbo\n 	Discussione dei casi clinici
  portati dai partecipanti\n\n&nbsp\;\n\n2° Parte – “Il trattamento de
 i Disturbi di Personalità: dalla diagnosi alla costruzione dell’alleanz
 a terapeutica”\n\n\n\n\n\n\n\n\n5) La valutazione della personalità: ca
 tegorie e dimensioni\n\n\n\n\n\n\nI disturbi di personalità nel modello d
 iagnostico categoriale – Dott.ssa Cecilia Trevisani [Sabato 19/02/22 o
 re 9-13]\n\n 	Il DSM-5 e la SCID-5-PD\n 	Applicazioni e casi clinici\n\nI 
 disturbi di personalità nel modello diagnostico alternativo – Prof. Ch
 ris Hopwood [Domenica 20/02/22 ore 17-21]\n\n 	Il DSM-5 e la SCID-5-AMPD\
 n 	Applicazioni e casi clinici\n\n&nbsp\;\n\n6) La relazione e i sistemi m
 otivazionali in psicoterapia\n\n\n\n\n\nL’alleanza terapeutica nei distu
 rbi di personalità – Dott. Simone Cheli [Sabato 19/03/22 ore 9-13]\n\
 n 	Definizioni di relazione e alleanza terapeutica\n 	Elementi comuni e s
 pecifici nella relazione terapeutica\n 	Obiettivi\, compiti e legame nell
 ’alleanza terapeutica\n 	Rotture e riparazioni dell’alleanza terapeuti
 ca\n 	Formulazione condivisa e gestione delle tecniche\n 	Specificità nei
  vari disturbi e fasi della terapia\n 	Casi clinici\n\n\n\n\n\n\n\n\n\n\n\
 n\nI sistemi motivazionali nella pratica clinica – Dott. Fabio Monticel
 li  [Domenica 20/03/22 ore 9-13]\n\n 	La teoria evoluzionistica della mo
 tivazione: i sistemi motivazionali\n 	Cenni sul metodo AIMIT per la ricer
 ca in psicoterapia\n 	Le emozioni in psicopatologia e in psicoterapia\n 	C
 asi clinici\n 	La relazione terapeutica nella prospettiva della teoria evo
 luzionistica della motivazione\n\n&nbsp\;\n\n3° Parte – “Il trattamen
 to dei Disturbi di Personalità: interventi psicoterapeutici sulle dimensi
 oni e sui processi psicopatologici”\n\n\n\n\n7) Aspetti transdiagnostici
  nei disturbi di personalità [1]\n\n\n\n\n\n\n\n\n\n\nGli scopi e i proce
 ssi disfunzionali di pensiero nei disturbi di personalità: applicazioni d
 ella Psicoterapia Cognitiva alla concettualizzazione e al trattamento –
  Prof. Francesco Mancini [Sabato 09/04/22 ore 9-13]\n\n 	Una panoramica 
 sulla Psicoterapia Cognitiva\n 	Gli scopi e le credenze\n 	I processi cogn
 itivi\n 	Il disturbo di personalità in chiave cognitiva: modelli di conce
 ttualizzazione\n 	Le tecniche terapeutiche cognitive\, comportamentali ed 
 esperienziali\n 	Casi clinici ed esercitazioni\n\n\n\n\n\n\n\n\n\n\n\n\n\n
 \nIl perfezionismo: inquadramento teorico e modello di sviluppo secondo l
 ’approccio relazionale – Dott.ssa Veronica Cavalletti [Domenica 10/04
 /22 ore 9-13]\n\n 	Il perfezionismo: modelli unidimensionali e multidimens
 ionali\n 	Componenti di tratto\, interpersonali e intrapersonali del perfe
 zionismo\n 	Le traiettorie evolutive del perfezionismo\n 	Assessment e val
 utazione del perfezionismo\n 	Il perfezionismo e i disturbi di personalit
 à: specificità e casi clinici\n\nIl perfezionismo: applicazioni dell’a
 pproccio relazionale alla concettualizzazione e al trattamento – Prof. P
 aul Hewitt [Domenica 10/04/22 ore 16-20]\n\n 	La concettualizzazione del 
 caso clinico\n 	Il trattamento mediante l’approccio relazionale: psicote
 rapia individuale e di gruppo\n\n&nbsp\;\n\n\n\n\n8) Aspetti transdiagnost
 ici nei disturbi di personalità [2]\n\n\n\n\n\n\n\n\n\n\nIl trauma: appli
 cazioni dell’Eye Movement Desensitization and Reprocessing alla concettu
 alizzazione e al trattamento – Dott. Antonio Onofri [Sabato 21/05/22 o
 re 9-13]\n\n 	Che cos’è il trauma\n 	Cosa accade al corpo e alla mente 
 dopo un trauma\n 	Concettualizzare il trauma\n 	Il trauma nei disturbi di 
 personalità\n 	Casi clinici\n 	Intervenire sul trauma con l’EMDR\n\n\n\
 n\n\n\nL’autocritica: applicazioni della Compassion Focused Therapy alla
  concettualizzazione e al trattamento – Dott. Nicola Petrocchi [Domeni
 ca 22/05/22 ore 9-13]\n\n 	Un modello evoluzionistico per i sistemi emotiv
 i\n 	La compassione in psicoterapia\n 	Introduzione alla Compassion Focuse
 d Therapy\n 	Autocritica e personalità: specificità all’interno dei va
 ri disturbi\n 	Casi clinici\n 	L’intervento sull’autocritica: analisi 
 funzionale\, intervento cognitivo e lavoro sulle parti tramite la Compassi
 on Focused Therapy\n\n&nbsp\;\n\n9) Aspetti transdiagnostici nei disturbi 
 di personalità [3]\n\n\n\n\n\n\n\n\n\n\n\n\n\n\n\n\n\n\n\n\n\n\n\n\n\nLa 
 dipendenza interpersonale: applicazioni della Terapia Metacognitiva Interp
 ersonale alla concettualizzazione e al trattamento – Dott. Antonino Car
 cione [Sabato 18/06/22 ore 9-13]\n\n 	Dipendenza affettiva\, dipendenza e
 motiva e dipendenze comportamentali\n 	Caratteristiche del disturbo dipend
 ente di personalità\n 	La metacognizione e la regolazione delle scelte\n 
 	La dipendenza interpersonale: caratteristiche distintive\n 	La dipendenza
  interpersonale nei disturbi di personalità: specificità e casi clinici\
 n 	Come intervenire utilizzando la TMI\n\n&nbsp\;\n\n4° Parte – “Il t
 rattamento dei Disturbi di Personalità: approfondimento sui principali p
 rotocolli psicoterapeutici”\n\n&nbsp\;\n\n\n\n\n\n\n\n\n\n\n\n\n\n\n\n\n
 \n\n9) Terapie basate su Mentalizzazione e Metacognizione [1]\n\n\n\n\n\nM
 entalization Based Treatment – Introduzione al modello teorico ed elemen
 ti di psicoterapia – Prof. Anthony Bateman [Domenica 19/06/22 ore 9-13
 ]\n\n 	Mentalizzazione efficace ed inefficace\n 	Le dimensioni della menta
 lizzazione\n 	I mode della non-mentalizzazione\n 	La concettualizzazione M
 BT dei disturbi di personalità\n 	Il format dell’intervento MBT\n\n&nbs
 p\;\n\n10) Terapie basate su Mentalizzazione e Metacognizione [2]\n\n\n\n\
 n\n\n\n\n\n\n\n\n\n\n\n\n\n\n\n\n\n\n\n\n\nTerapia Metacognitiva Interpers
 onale di Gruppo – Modello teorico ed elementi di psicoterapia – parte 
 1 – Dott. Raffaele Popolo [Sabato 02/07/22 ore 10-18]\n\n 	Metacognizi
 one e i disturbi di personalità: la TMI e la TMI-G\n 	Nozioni di base sul
 la psicoterapia di gruppo\n 	La struttura del trattamento mediante la TMI-
 G\n 	Dati di efficacia\n\nTerapia Metacognitiva Interpersonale di Gruppo 
 – Modello teorico ed elementi di psicoterapia – parte 2 – Dott. Raff
 aele Popolo [Domenica 03/07/22 ore 10-18]\n\n 	La teoria delle motivazio
 ni interpersonali\n 	La rievocazione di episodi\n 	Il role-play\n 	Il migl
 ioramento delle capacità metacognitive\n\n&nbsp\;\n\n11) Schema Therapy\n
 \n\n\n\n\n\n\n\nSchema Therapy: introduzione al modello teorico e applicaz
 ioni cliniche – Dott.ssa Barbara Basile [Sabato 24/09/22 ore 9-13]\n\n
  	Che cos’è la Schema Therapy\n 	Gli Schemi Maladattivi Precoci e i Mod
 es\n 	Il trattamento dei disturbi di personalità con la ST\n 	Esercitazio
 ni pratiche sulle tecniche esperienziali\n\nTecniche avanzate di Imagery R
 escripting nei disturbi di personalità – Prof. Arnoud Arntz [Domenica 
 25/09/22 ore 10-18 * data da confermare]\n\n 	Imagery Rescripting: che co
 s’è e come funziona\n 	Ricerche ed evidenze scientifiche sull’utilizz
 o dell’Imagery Rescripting\n 	Come utilizzare l’Imagery Rescripting ne
 i disturbi di personalità\n 	Esercitazioni pratiche sulle tecniche esperi
 enziali\n\n&nbsp\;\n\n12) Dialectical Behavior Therapies\n\n\n\n\n\nDialec
 tical Behavior Therapy – Modello teorico ed elementi di psicoterapia –
  Prof. Cesare Maffei [Venerdì 14/10/22 ore 9-13]\n\n 	I fondamenti teor
 ici della DBT\n 	La personalità borderline\n 	La struttura del trattament
 o\n 	L’intervento individuale e lo Skills Training\n 	Casi clinici ed es
 ercitazioni\n\nTrattamento integrato DBT e MBT del disturbo borderline di 
 personalità: casi clinici – Dott. Elena Prunetti [Venerdì 14/10/22 or
 e 14-18]\n\n 	Assessment e concettualizzazione integrata DBT e MBT del dis
 turbo borderline di personalità\n\n\n 	Il trattamento del disturbo border
 line di personalità in setting ambulatoriali e residenziali\n\nRadically 
 Open Dialectical Behavior Therapy – Modello teorico ed elementi di psico
 terapia – Dr. Sophie Rushbrook [Sabato 15/10/22 ore 10-18 *data da co
 nfermare]\n\n 	I fondamenti teorici della RO DBT\n 	L’ipercontrollo\n 	L
 a struttura del trattamento\n 	L’intervento individuale e lo Skills trai
 ning\n 	Casi clinici ed esercitazioni\n\n\n\n\n\nProva finale\n\n12) Concl
 usione del corso\n\nProva scritta ed orale per il conseguimento dell’att
 estato [Domenica 16/10/22 ore 9-13]\n\n 	Produzione e discussione di un 
 breve elaborato scritto (tesina) su uno dei temi trattati durante il corso
  o su un caso clinico\n\n\n\nORGANIZZATORE\n\nIl corso è organizzato da 
  Tages Onlus e Scuole di Specializzazione in Psicoterapia Cognitiva APC
 -SPC.\n\n\n  \n\nPROVIDER ECM: Spazio Iris\nA CHI È RIVOLTO\n\n\nPosson
 o partecipare al master Psicologi e Medici (regolarmente iscritti al p
 roprio Ordine di appartenenza) che stiano svolgendo\, o abbiano concluso\,
  un percorso di formazione riconosciuto per diventare Psicoterapeuta\, Ps
 ichiatra o Neuropsichiatra Infantile.\nMODALITÀ\n\n\nIl Master si svolge 
 in modalità Webinar (in diretta).\n\nÈ prevista la traduzione simulta
 nea dall’inglese all’italiano (è possibile scegliere quale canale au
 dio seguire).\nISCRIZIONE\n\n\nLe iscrizioni al Master sono possibili a 
 partire dal 08/12/2020 e fino al 08/10/2021\, o comunque fino al raggiungi
 mento del numero massimo di partecipanti previsto.\n\nIl Master verrà at
 tivato con un minimo di 18 partecipanti\; la conferma dell’attivazione 
 del corso da parte degli organizzatori avverrà entro e non oltre il 15/10
 /2021. In caso di non attivazione del master da parte degli organizzatori\
 , i partecipanti riceveranno un rimborso completo della quota versata\; 
 in caso di rinuncia da parte del partecipante\, si applicano le seguenti c
 lausole di cancellazione: a più di quindici giorni dall’inizio del cor
 so\, verrà rimborsato il 50% dell’importo versato (al netto dell’IVA)
  ad eccezione della quota di iscrizione\; a quindici giorni o meno dall’
 inizio del corso o durante il suo svolgimento\, non sono previsti rimborsi
  e sarà dovuta l’intera quota prevista per il corso.\n\nPer iscriverti:
 \n\n 	puoi pagare in un’unica soluzione aggiungendo il master al carrel
 lo\; una volta al check-out potrai creare un Account o effettuare il Login
 \, e scegliere la modalità di pagamento che preferisci (carta di credito 
 o paypal)\n 	in alternativa\, puoi pagare il master a rate\; se desideri 
 utilizzare questa opzione\, inviaci una email a info@psysimple.com\n\nLE 
 ISCRIZIONI SARANNO POSSIBILI SOLO FINO AL RAGGIUNGIMENTO DEL NUMERO MASSIM
 O DI PARTECIPANTI.\nATTESTATI\n\n\nSono stati richiesti 50 crediti ECM.\
 n\nIl superamento della prova finale\, che consiste nella produzione ed e
 sposizione di una tesina di approfondimento su una tematica trattata duran
 te il corso o su un caso clinico\, permette di conseguire l’attestato de
 l Master Annuale “Diagnosi e Trattamento dei Disturbi di Personalità
 ”.\n\nPer alcune lezioni\, compatibilmente con la verifica della frequen
 za effettiva ad esse\, verrà rilasciato un ulteriore attestato di partec
 ipazione in quanto giornate di formazione riconosciute dalle rispettive a
 ssociazioni scientifiche: EMDR Italia\, Compassionate Mind Italia\, MITHS
  (Metacognitive Interpersonal Therapy Society)\, Centro TMI\, ISST (Intern
 ational Society of Schema Therapy).\n\nVerranno inoltre rilasciate le segu
 enti certificazioni: “RO DBT Introductory Training” (Radically Open L
 td) e “Terapia Metacognitiva Interpersonale di Gruppo” (Centro TMI). L
 e lezioni tenute da A. Arntz e B. Basile sono inoltre riconosciute dalla 
 ISST come “CPD” (Continuing Professional Development).\n\n\n&nbsp\;\n\
 n\n\n\n\nPer iscriverti clicca qui \n\n&nbsp\;
ATTACH;FMTTYPE=image/jpeg:https://apc.it/wp-content/uploads/2021/02/presen
 tazione-diagnosi-e-trattamento-dal-23-ottobre-2021.jpg
CATEGORIES:Corsi a pagamento,Corsi ecm
END:VEVENT
END:VCALENDAR