BEGIN:VCALENDAR
VERSION:2.0
PRODID:-//wp-events-plugin.com//7.2.3.1//EN
BEGIN:VEVENT
UID:361@apc.it
DTSTART:20241116T090000Z
DTEND:20241116T160000Z
DTSTAMP:20241016T083431Z
URL:https://apc.it/lista-eventi/lesposizione-e-prevenzione-della-risposta-
 nel-doc/
SUMMARY:L’ESPOSIZIONE E PREVENZIONE  DELLA RISPOSTA NEL DOC
DESCRIPTION:Corso ECM Online\n\nL’ESPOSIZIONE E PREVENZIONE DELLA RISPOST
 A NEL DOC\naccettazione\, impegno e valori\n16 novembre 2024\nore 09.00-16
 .00\nDott.ssa Barbara Barcaccia\n\nQuota agevolata per iscrizioni entro il
  27 ottobre!\n\nGli iscritti al corso riceveranno gratuitamente copia cart
 acea del libro \n“Affrontare il disturbo ossessivo compulsivo”\n\nIl C
 orso si terrà ONLINE su piattaforma ZOOM in diretta\n9 crediti ECM in FAD
  Sincrona: è possibile partecipare solamente in diretta\n\nInfo: www.apc.
 it - corsi@apc.it - Tel e Whatsapp 3473566781\n\n\n\n\n\n\nCORSO RIVOLTO A
 :\n\nSpecializzandi in Psicoterapia\, Psicologi abilitati alla Psicoterapi
 a\, Medici Psicoterapeuti\, Medici Psichiatri e Medici Neuropsichiatri Inf
 antili.\nCREDITI ECM:\n\n\nÈ previsto l’accreditamento di 9 crediti ECM
  in FAD SINCRONA\n\nMODALITA' DI PARTECIPAZIONE:\nIl corso si svolgerà in
  modalità online su piattaforma ZOOM. Sarà possibile partecipare al cors
 o esclusivamente in diretta.\nQUOTE E MODALITÀ DI ISCRIZIONE\n\n 	€ 116
 \,39 +iva (totale € 142\,00) Quota agevolata per iscrizioni entro il 27/
 10/2024\;\n 	€ 136\,07 +iva (totale € 166\,00) Quota standard per iscr
 izioni successive al 27/10/2024.\n\nN.B. La quota di iscrizione comprende 
 la partecipazione al corso con crediti ECM e la spedizione gratuita del li
 bro "Affrontare il disturbo ossessivo compulsivo" – Franco Angeli Editor
 e.\n\nIN CASO DI RINUNCIA NON È PREVISTO IL RIMBORSO DELLA QUOTA DI PARTE
 CIPAZIONE\n\nÈ possibile pagare la quota di iscrizione in un'unica soluzi
 one con Bonifico Bancario\, Carta di Credito o PayPal.\n\nCLICCA QUI PER I
 SCRIVERTI AL CORSO\n\nN.B. Le iscrizioni vengono prese sulla nostra nuova 
 piattaforma di erogazione corsi (https://eventi.apc.it/)\, se non sei anco
 ra registrato alla nuova piattaforma dovrai registrarti con i tuoi dati e 
 poi procedere all’iscrizione e al pagamento del corso.\n\nPer info: cors
 i@apc.it – Tel e Whatsapp: 3473566781\nSegreteria Organizzativa e Provid
 er ECM: \nSPC s.r.l. – Provider ECM Standard ID 3958 - Viale Castro Pret
 orio\, 116 - Roma\nBROCHURE
ATTACH;FMTTYPE=image/jpeg:https://apc.it/wp-content/uploads/2023/11/ERP-ne
 l-DOC-2024.png
CATEGORIES:Corsi a pagamento,Corsi ecm
END:VEVENT
END:VCALENDAR