BEGIN:VCALENDAR
VERSION:2.0
PRODID:-//wp-events-plugin.com//7.2.3.1//EN
BEGIN:VEVENT
UID:146@apc.it
DTSTART;VALUE=DATE:20211008
DTEND;VALUE=DATE:20211009
DTSTAMP:20210928T080600Z
URL:https://apc.it/lista-eventi/le-tecniche-di-immaginazione-in-psicoterap
 ia/
SUMMARY:LE TECNICHE DI IMMAGINAZIONE IN PSICOTERAPIA
DESCRIPTION:\nQUESTO CORSO E’ SOLD OUT\n\nAbbiamo attivato una NUOVA EDIZ
 IONE del corso che si terrà il 18 febbraio 2022\n\n\nPer info e iscrizion
 i CLICCA QUI\n\n&nbsp\;\nLE TECNICHE DI IMMAGINAZIONE IN PSICOTERAPIA\nAle
 ssandra Mancini\n\n8 ottobre 2021\norario 9.00-18.00\n\nPRESENTAZIONE\n\nL
 e tecniche immaginative consentono di accedere ai bisogni emotivi frustrat
 i del paziente e di produrre un cambiamento non solo a livello cognitivo\,
  ma anche a livello emotivo. In particolare la tecnica dell’ Imagery Res
 cripting si è dimostrata efficace nel ridurre i sintomi di diversi distur
 bi (Disturbo Post-traumatico\, Bulimia Nervosa\, Disturbo Ossessivo compul
 sivo\, FobiaSociale\, Depressione\, Disturbi di Personalità\, specie il D
 isturbo Borderline).\nIndipendentemente dal modello teorico di riferimento
  seguito dal clinico\, le tecniche\nimmaginative rispondono ad alcune dell
 e necessità che si presentano più spesso nelle diverse fasi del processo
  psicoterapico. In particolare consentono di:\n\n 	Ottenere una migliore c
 omprensione delle origini delle rappresentazioni disfunzionali del\npazien
 te\n 	Mostrare al paziente i nessi tra le sue esperienze passate e la sint
 omatologia attuale\n 	Aiutare il paziente a sentire e accettare le emozion
 i dolorose legate a tali esperienze\n 	Riscrivere il significato associato
  alle memorie in questione.\n\nIl Workshop\, dal taglio principalmente esp
 erienziale\, si propone di fornire ai partecipanti\nstrumenti pratici ed i
 mmediatamente spendibili che consentano di utilizzare le diverse\ntecniche
  immaginative (Imagery diagnostico\, lmmaginazione del posto sicuro\, lmma
 ginazione con l' Adulto Sano\, Imagery with Rescripting). Particolare Atte
 nzione sarà dedicata all’Imagery Rescripting\, che permette al paziente
 \, attraverso il recupero di episodi passati\, di vivere un’esperienza e
 motiva correttiva modulando al contempo le credenze disfunzionali\n\nVENER
 DI’ 08 OTTOBRE 2021\nOrari: 09\,00-13\,00 \; 14\,00-18\,00\nLa giornata 
 prevede 8 ore di formazione teorico-pratica con un attivo coinvolgimento d
 ei partecipanti. Nel corso della giornata\, divisa in due parti (ore 9-13 
 e 14-18)\, verranno mostrati degli esercizi immaginativi da parte del doce
 nte e verranno svolti degli esercizi immaginativi di gruppo e a coppie.\nL
 e tecniche di immaginazione trattate includono:\n L’Imagery del Luogo
  Sicuro\n L’Imagery Diagnostico\n L’Imagery Rescripting\n L
 ’Imagery dell’Adulto Sano\n\nIL CORSO È RIVOLTO A PSICOTERAPEUTI DI T
 UTTI GLI ORIENTAMENTI E ALLIEVI DELLE NOSTRE SCUOLE DI SPECIALIZZAZIONE IS
 CRITTI AL 3° o 4°ANNO.\n\nIL CORSO È A NUMERO CHIUSO.\n\nÈ PREVISTO L
 ’ACCREDITAMENTO di 12 CREDITI ECM PER LE SEGUENTI CATEGORIE PROFESSIONAL
 I:\n➢ PSICOLOGI ABILITATI ALLA PSICOTERAPIA\n➢ MEDICI PSICOTERAPEUTI\n
 ➢ MEDICI PSICHIATRI\n➢ MEDICI NEUROPSICHIATRI INFANTILI\n\nN.B. Per l
 ’attribuzione dei crediti è richiesta la&nbsp\;frequenza del 90%&nbsp\;
 delle sessioni scientifiche in programma e almeno il&nbsp\;75%&nbsp\;di ri
 sposte corrette al questionario di valutazione apprendimento\n\nQUOTE DI P
 ARTECIPAZIONE:\n❖ € 140\,00 + iva ( € 170\,80) quota agevolata per i
 scrizioni entro il 09 settembre 2021\n❖ € 170\,00+ iva (€ 207\,40) q
 uota standard\nPer iscriversi è necessario compilare la scheda online e v
 ersare contestualmente la quota di\npartecipazione.\nIl versamento deve av
 venire tramite bonifico bancario sul conto intestato a:\nScuola di Psicote
 rapia Cognitiva srl\nIBAN IT87K0538703202000001606300\ncausale “ONLINE I
 magery ottobre 2021”\nIN CASO DI RINUNCIA NON È PREVISTO IL RIMBORSO DE
 LLA QUOTA DI PARTECIPAZIONE\n\nATTESTAZIONI\nA conclusione della giornata 
 formativa sarà rilasciato un attestato di partecipazione da parte della I
 SST (International Society of Schema Therapy) e dell’Istituto Dialogo Sc
 hema Therapy.\nMODALITÀ DI SVOLGIMENTO:\nIl corso si svolgerà in modalit
 à webinar online attraverso la piattaforma ZOOM.\nNella conferma di iscri
 zione riceverete tutte le indicazioni e le istruzioni di partecipazione\nS
 carica la brochure di questo evento\n\n\n\n\n\nTutte le comunicazioni orga
 nizzative relative a questo corso vengono effettuate via mail.&nbsp\;SI PR
 EGA DI CONTROLLARE LO SPAM.\nPer&nbsp\;INFO&nbsp\;o problemi relativi al c
 ollegamento potete contattare&nbsp\;SOLO NEI GIORNI DI SVOLGIMENTO DEL COR
 SO\nil numero&nbsp\;347-3566781\n\n\n
ATTACH;FMTTYPE=image/jpeg:https://apc.it/wp-content/uploads/2021/05/presen
 tazione-tecniche-di-immaginazione-8-ottobre-2021.png
CATEGORIES:Corsi a pagamento,Corsi ecm,Corsi Schema Therapy
END:VEVENT
END:VCALENDAR