BEGIN:VCALENDAR
VERSION:2.0
PRODID:-//wp-events-plugin.com//7.2.3.1//EN
BEGIN:VEVENT
UID:417@apc.it
DTSTART:20250606T100000Z
DTEND:20250606T170000Z
DTSTAMP:20241113T154915Z
URL:https://apc.it/lista-eventi/le-tecniche-di-immaginazione-in-psicoterap
 ia-6/
SUMMARY:LE TECNICHE DI IMMAGINAZIONE IN PSICOTERAPIA
DESCRIPTION: &nbsp\; &nbsp\; &nbsp\;&nbsp\; \nCorso ECM Online\n\nLE TECNIC
 HE DI IMMAGINAZIONE IN PSICOTERAPIA\n\nVenerdì 06 giugno 2025\nore 10.00-
 17.00\n&nbsp\;\n Dott.ssa Alessandra Mancini\n\nIl Corso si terrà ONLINE 
 su piattaforma ZOOM in diretta\n9 crediti ECM in FAD Sincrona: è possibil
 e partecipare solamente in diretta\nInfo: www.apc.it - corsi@apc.it - Tel 
 e Whatsapp 3473566781\n&nbsp\;\n\nPRESENTAZIONE\n\nLe tecniche immaginativ
 e consentono di accedere ai bisogni emotivi frustrati del paziente e di pr
 odurre un cambiamento non solo a livello cognitivo\, ma anche a livello em
 otivo.\n\nIn particolare la tecnica dell’ Imagery Rescripting si è dimo
 strata efficace nel ridurre i sintomi di diversi disturbi (Disturbo Post-t
 raumatico\, Bulimia Nervosa\, Disturbo Ossessivo compulsivo\, Fobia Social
 e\, Depressione\, Disturbi di Personalità\, specie il Disturbo Borderline
 ).\n\nIndipendentemente dal modello teorico di riferimento seguito dal cli
 nico\, le tecniche immaginative rispondono ad alcune delle necessità che 
 si presentano più spesso nelle diverse fasi del processo psicoterapico. I
 n particolare consentono di:\n• Ottenere una migliore comprensione delle
  origini delle rappresentazioni disfunzionali del paziente\;\n• Mostrare
  al paziente i nessi tra le sue esperienze passate e la sintomatologia att
 uale\;\n• Aiutare il paziente a sentire e accettare le emozioni dolorose
  legate a tali esperienze\;\n• Riscrivere il significato associato alle 
 memorie in questione.\n\n Il Workshop\, dal taglio principalmente esperien
 ziale\, si propone di fornire ai partecipanti strumenti pratici ed immedia
 tamente spendibili che consentano di utilizzare le diverse tecniche immagi
 native (Imagery diagnostico\, lmmaginazione dell' Adulto Sano\, Imagery wi
 th Rescripting). \n\nParticolare attenzione sarà dedicata all’Imagery R
 escripting e alle sue varianti\, che permette al paziente\, attraverso il 
 recupero di episodi passati\, di vivere un’esperienza emotiva correttiva
  modulando al contempo le credenze disfunzionali.\n\n&nbsp\;\n\nDOCENTE\n\
 nDR.SSA ALESSANDRA MANCINI\nPsicologa e psicoterapeuta CBT.\nSupervisore e
  docente/trainer in Schema Therapy riconosciuta dalla Società Internazion
 ale di Schema Therapy (ISST).\nMembro fondatore dell’Italian Academy of 
 Schema Therapy (IAST).\nDottoressa di ricerca in neuroscienze cognitive e 
 sociali.\nDocente presso le Scuole APC e SPC.\nAutrice di diverse pubblica
 zioni scientifiche su Schema Therapy e sulla colpa nel Disturbo Ossessivo.
 \n\n\n&nbsp\;\n\n&nbsp\;\n\nPROGRAMMA\n\n Venerdì 06 giugno 2025 - ore 10
 .00-13.00 / 14.00-17.00 \n\nLa giornata prevede 6 ore di formazione teoric
 o-pratica con un attivo coinvolgimento dei partecipanti. Nel corso della g
 iornata\, divisa in due parti (ore 10-13 e 14-17)\, verranno mostrati degl
 i esercizi immaginativi da parte del docente e verranno svolti degli eserc
 izi immaginativi di gruppo e a coppie.\n\n\nLe tecniche di immaginazione t
 rattate includono:\n➢ L’Imagery Diagnostico\;\n➢ L’Imagery Rescrip
 ting\;\n➢ Fine Tuning Imagery Rescripting\n➢ L’Imagery dell’Adulto
  Sano.\n\n&nbsp\;\n\nCORSO RIVOLTO A:\n\nSpecializzandi in Psicoterapia al
  III o al IV anno\, Psicologi abilitati alla Psicoterapia\, Medici Psicote
 rapeuti\, Medici Psichiatri e Medici Neuropsichiatri Infantili.\nCREDITI E
 CM:\n\n\nÈ previsto l’accreditamento di 9 crediti ECM in FAD SINCRONA\n
 \nMODALITA' DI PARTECIPAZIONE:\nIl corso si svolgerà in modalità online 
 su piattaforma ZOOM. Sarà possibile partecipare al corso esclusivamente i
 n diretta.\n\n\n&nbsp\;\n\n&nbsp\;\n\n&nbsp\;\n\nQUOTE E MODALITÀ DI ISCR
 IZIONE\n\n 	€ 120\,00 +iva (totale € 146\,40) Quota agevolata per iscr
 izioni entro il 10/05/2025\;\n 	€ 150\,00 +iva (totale € 183\,00) Quot
 a standard per iscrizioni successive al 10/05/2025.\n\n&nbsp\;\n\nIN CASO 
 DI RINUNCIA NON È PREVISTO IL RIMBORSO DELLA QUOTA DI PARTECIPAZIONE\n\n
 È possibile pagare la quota di iscrizione in un'unica soluzione con Bonif
 ico Bancario.\n\nCLICCA QUI PER ISCRIVERTI AL CORSO\n\nN.B. Le iscrizioni 
 vengono prese sulla nostra nuova piattaforma di erogazione corsi (https://
 eventi.apc.it/)\, se non sei ancora registrato alla nuova piattaforma dovr
 ai registrarti con i tuoi dati e poi procedere all’iscrizione e al pagam
 ento del corso.\n\n&nbsp\;\n\nPer info: corsi@apc.it – Tel e Whatsapp: 3
 473566781\nSegreteria Organizzativa e Provider ECM: \nSPC s.r.l. – Provi
 der ECM Standard ID 3958 - Viale Castro Pretorio\, 116 - Roma\nBROCHURE
ATTACH;FMTTYPE=image/jpeg:https://apc.it/wp-content/uploads/2024/11/ECM-ON
 LINE_IMAGERY-6-giugno-2025.png
CATEGORIES:Corsi a pagamento,Corsi ecm,Corsi Schema Therapy
END:VEVENT
END:VCALENDAR