BEGIN:VCALENDAR
VERSION:2.0
PRODID:-//wp-events-plugin.com//7.2.3.1//EN
BEGIN:VEVENT
UID:364@apc.it
DTSTART:20240607T100000Z
DTEND:20240607T170000Z
DTSTAMP:20231214T093007Z
URL:https://apc.it/lista-eventi/le-tecniche-di-immaginazione-in-psicoterap
 ia-5/
SUMMARY:LE TECNICHE DI IMMAGINAZIONE IN PSICOTERAPIA
DESCRIPTION:&nbsp\;&nbsp\;&nbsp\;&nbsp\;&nbsp\;&nbsp\;&nbsp\;&nbsp\;&nbsp\;
 &nbsp\;&nbsp\;&nbsp\;&nbsp\;&nbsp\;&nbsp\;&nbsp\;&nbsp\;&nbsp\;&nbsp\;&nbs
 p\;&nbsp\;&nbsp\;&nbsp\;&nbsp\;&nbsp\;&nbsp\;&nbsp\;&nbsp\;  &nbsp\; &nbsp
 \; &nbsp\;&nbsp\; \nCorso ECM Online\n\nLE TECNICHE DI IMMAGINAZIONE IN PS
 ICOTERAPIA\n\n07 giugno 2024\nore 10.00-17.00\n&nbsp\;\n Dott.ssa Alessand
 ra Mancini\n\nIl Corso si terrà ONLINE su piattaforma ZOOM in diretta\n9 
 crediti ECM in FAD Sincrona: è possibile partecipare solamente in diretta
 \nInfo: www.apc.it - corsi@apc.it - Tel e Whatsapp 3473566781\n&nbsp\;\n\n
 PRESENTAZIONE\n\nLe tecniche immaginative consentono di accedere ai bisogn
 i emotivi frustrati del paziente e di produrre un cambiamento non solo a l
 ivello cognitivo\, ma anche a livello emotivo.\n\nIn particolare la tecnic
 a dell’ Imagery Rescripting si è dimostrata efficace nel ridurre i sint
 omi di diversi disturbi (Disturbo Post-traumatico\, Bulimia Nervosa\, Dist
 urbo Ossessivo compulsivo\, Fobia Sociale\, Depressione\, Disturbi di Pers
 onalità\, specie il Disturbo Borderline).\n\nIndipendentemente dal modell
 o teorico di riferimento seguito dal clinico\, le tecniche immaginative ri
 spondono ad alcune delle necessità che si presentano più spesso nelle di
 verse fasi del processo psicoterapico. In particolare consentono di:\n• 
 Ottenere una migliore comprensione delle origini delle rappresentazioni di
 sfunzionali del paziente\;\n• Mostrare al paziente i nessi tra le sue es
 perienze passate e la sintomatologia attuale\;\n• Aiutare il paziente a 
 sentire e accettare le emozioni dolorose legate a tali esperienze\;\n• R
 iscrivere il significato associato alle memorie in questione.\n\n Il Works
 hop\, dal taglio principalmente esperienziale\, si propone di fornire ai p
 artecipanti strumenti pratici ed immediatamente spendibili che consentano 
 di utilizzare le diverse tecniche immaginative (Imagery diagnostico\, lmma
 ginazione dell' Adulto Sano\, Imagery with Rescripting). \n\nParticolare a
 ttenzione sarà dedicata all’Imagery Rescripting e alle sue varianti\, c
 he permette al paziente\, attraverso il recupero di episodi passati\, di v
 ivere un’esperienza emotiva correttiva modulando al contempo le credenze
  disfunzionali.\n\n&nbsp\;\n\nDOCENTE\n\nDR.SSA ALESSANDRA MANCINI\nPsicol
 oga e psicoterapeuta CBT.\nSupervisore e docente/trainer in Schema Therapy
  riconosciuta dalla Società Internazionale di Schema Therapy (ISST).\nMem
 bro fondatore dell’Italian Academy of Schema Therapy (IAST).\nDottoressa
  di ricerca in neuroscienze cognitive e sociali.\nDocente presso le Scuole
  APC e SPC.\nAutrice di diverse pubblicazioni scientifiche su Schema Thera
 py e sulla colpa nel Disturbo Ossessivo.\n\n\n&nbsp\;\n\n&nbsp\;\n\nPROGRA
 MMA\n\n Venerdì 07 giugno 2024 - ore 10.00-13.00 / 14.00-17.00 \n\nLa gio
 rnata prevede 6 ore di formazione teorico-pratica con un attivo coinvolgim
 ento dei partecipanti. Nel corso della giornata\, divisa in due parti (ore
  10-13 e 14-17)\, verranno mostrati degli esercizi immaginativi da parte d
 el docente e verranno svolti degli esercizi immaginativi di gruppo e a cop
 pie.\n\n\nLe tecniche di immaginazione trattate includono:\n➢ L’Imager
 y Diagnostico\;\n➢ L’Imagery Rescripting\;\n➢ Fine Tuning Imagery Re
 scripting\n➢ L’Imagery dell’Adulto Sano.\n\n&nbsp\;\n\nCORSO RIVOLTO
  A:\n\nSpecializzandi in Psicoterapia al III o al IV anno\, Psicologi abil
 itati alla Psicoterapia\, Medici Psicoterapeuti\, Medici Psichiatri e Medi
 ci Neuropsichiatri Infantili.\nCREDITI ECM:\n\n\nÈ previsto l’accredita
 mento di 9 crediti ECM in FAD SINCRONA\n\nMODALITA' DI PARTECIPAZIONE:\nIl
  corso si svolgerà in modalità online su piattaforma ZOOM. Sarà possibi
 le partecipare al corso esclusivamente in diretta.\n\n\n&nbsp\;\n\n&nbsp\;
 \n\n&nbsp\;\n\nQUOTE E MODALITÀ DI ISCRIZIONE\n\n 	€ 120\,00 +iva (tota
 le € 146\,40) Quota agevolata per iscrizioni entro il 07/05/2024\;\n 	
 € 150\,00 +iva (totale € 183\,00) Quota standard per iscrizioni succes
 sive al 07/05/2024.\n\n&nbsp\;\n\nIN CASO DI RINUNCIA NON È PREVISTO IL R
 IMBORSO DELLA QUOTA DI PARTECIPAZIONE\n\nÈ possibile pagare la quota di i
 scrizione in un'unica soluzione con Bonifico Bancario.\n\nCLICCA QUI PER I
 SCRIVERTI AL CORSO\n\nN.B. Le iscrizioni vengono prese sulla nostra nuova 
 piattaforma di erogazione corsi (https://eventi.apc.it/)\, se non sei anco
 ra registrato alla nuova piattaforma dovrai registrarti con i tuoi dati e 
 poi procedere all’iscrizione e al pagamento del corso.\n\n&nbsp\;\n\nPer
  info: corsi@apc.it – Tel e Whatsapp: 3473566781\nSegreteria Organizzati
 va e Provider ECM: \nSPC s.r.l. – Provider ECM Standard ID 3958 - Viale 
 Castro Pretorio\, 116 - Roma\nBROCHURE
ATTACH;FMTTYPE=image/jpeg:https://apc.it/wp-content/uploads/2023/12/NEW_EC
 M-ONLINE_IMAGERY-7-giugno-2024.png
CATEGORIES:Corsi a pagamento,Corsi ecm,Corsi Schema Therapy
END:VEVENT
END:VCALENDAR