BEGIN:VCALENDAR
VERSION:2.0
PRODID:-//wp-events-plugin.com//7.2.3.1//EN
BEGIN:VEVENT
UID:394@apc.it
DTSTART:20241004T100000Z
DTEND:20241004T170000Z
DTSTAMP:20240613T083519Z
URL:https://apc.it/lista-eventi/lapplicazione-della-schema-therapy-per-let
 a-evolutiva-nei-disturbi-esternalizzanti/
SUMMARY:L’APPLICAZIONE DELLA SCHEMA THERAPY PER L’ETÀ EVOLUTIVA NEI DI
 STURBI ESTERNALIZZANTI
DESCRIPTION: &nbsp\; &nbsp\; &nbsp\; &nbsp\; &nbsp\; &nbsp\; &nbsp\; &nbsp\
 ; &nbsp\; &nbsp\; &nbsp\; &nbsp\; &nbsp\; &nbsp\; &nbsp\; &nbsp\; &nbsp\; 
 &nbsp\; &nbsp\; &nbsp\; &nbsp\; &nbsp\; &nbsp\; &nbsp\; &nbsp\; &nbsp\; &n
 bsp\; &nbsp\; &nbsp\; &nbsp\;&nbsp\; \nCorso ECM Online\n\nL’APPLICAZION
 E DELLA SCHEMA THERAPY PER L’ETÀ EVOLUTIVA NEI DISTURBI ESTERNALIZZANTI
 \n\n04 ottobre 2024\nore 10.00-17.00\n&nbsp\;\n Dott. Stefano Terenzi\n\nI
 l Corso si terrà ONLINE su piattaforma ZOOM in diretta\n9 crediti ECM in 
 FAD Sincrona: è possibile partecipare solamente in diretta\nInfo: www.apc
 .it - corsi@apc.it - Tel e Whatsapp 3473566781\n&nbsp\;\n\nPRESENTAZIONE\n
 \nLa Schema Therapy con i Bambini e gli Adolescenti (ST-BA) rappresenta un
  recente adattamento del modello psicoterapeutico della Schema Therapy.\n\
 nLa Schema Therapy è un approccio evidence-based di matrice cognitivo-com
 portamentale che incorpora postulazioni teoriche\, scoperte empiriche\, me
 todologie e tecniche terapeutiche derivanti da vari paradigmi psicologici 
 e psicoterapeutici. Ha dimostrato una notevole efficacia nel trattamento d
 i individui con disturbi della personalità o che presentano un'elevata re
 sistenza al cambiamento.\n\nIl corso si propone di introdurre il modello t
 eorico-pratico della ST-BA\, alla luce dei recenti studi e ricerche che se
 mbrano confermare la sua efficacia clinica\, delineando le sue specificit
 à rispetto al modello originale.\n\nIn particolare\, verrà illustrata la
  sua concettualizzazione di un caso con disturbi esternalizzanti attravers
 o il Mode Sketch\, la rappresentazione grafica dei mode (stati mentali) de
 l giovane paziente.\n\nIn seguito\, verrà presentato l’intervento pecul
 iare per questi disturbi attraverso l’utilizzo del Limited Reparenting\,
  la specifica modalità relazionale della Schema Therapy\, e delle tecnich
 e esperienziali tipiche del modello: l’Imagery with Rescripting e la Tec
 nica delle due Sedie.\n\nInfine\, sarà esposto l’intervento terapeutico
  rivolto a un caso clinico caratterizzato da problemi di aggressività\, c
 ondotta e disregolazione.\n\nDOCENTE\n\nDR. STEFANO TERENZI\n\n\nPsicologo
  Clinico dell’Infanzia\, dell’Adolescenza e della Famiglia.\n\nPsicote
 rapeuta. Terapeuta formato nella rilevazione precoce delle devianze compor
 tamentali in adolescenza.\n\nTerapeuta EMDR. Educatore Circle of Security-
 Parenting.\n\nSupervisore Schema Therapy Individuale Adulto.\n\nPrimo Trai
 ner Italiano in Schema Therapy con i Bambini e gli Adolescenti.\n\nPreside
 nte dell’Associazione Italiana di Schema Therapy con i Bambini e gli Ado
 lescenti - AIST-BA\n\nDidatta dell’Accademia di Neuropsicologia dello Sv
 iluppo.\n\nDocente presso le Scuole di Specializzazione in Psicoterapia de
 l Consorzio Universitario Humanitas (Humanitas\, Forma Mentis e Psicosomat
 ica Cristo Re) e presso l’Istituto Romano di Psicoterapia Psicodinamica 
 Integrata.\n\nAutore di pubblicazioni inerenti la Schema Therapy e la Sche
 ma Therapy con i Bambini e gli Adolescenti. Curatore della traduzione ital
 iana del manuale di Schema Therapy con i Bambini e gli Adolescenti di Loos
 e (et al.\, 2020).\n\n&nbsp\;\n\nPROGRAMMA\n\n Venerdì 04 ottobre 2024 - 
 ore 10.00-13.00 / 14.00-17.00 \n\n 	10.00-11.30 PRESENTAZIONE MODELLO TEOR
 ICO-PRATICO DELLA SCHEMA THERAPY PER L’ETA’ EVOLUTIVA\n 	11.30-13.00 L
 ’USO DEL MODE SKETCH: CONCETTUALIZZAZIONE GRAFICA DI UN CASO CLINICO CON
  DISTURBI ESTERNALIZZANTI\n 	13.00-14.00 PAUSA PRANZO\n 	14.00-15.30 APPLI
 CAZIONE DELLA SCHEMA THERAPY PER L’ETA’ EVOLUTIVA IN UN CASO DI DISTUR
 BO ESTERNALIZZANTE: LIMITED REPARENTING\, IMAGERY WITH RESCRIPTING E TECNI
 CA DELLE DUE SEDIE\n 	15.30-17.00 INTERVENTO SCHEMA THERAPY PER L’ETA’
  EVOLUTIVA IN UN CASO CLINICO CON DISTURBI ESTERNALIZZANTI\n\n&nbsp\;\n\nC
 ORSO RIVOLTO A:\n\nSpecializzandi in Psicoterapia\, Psicologi abilitati al
 la Psicoterapia\, Medici Psicoterapeuti\, Medici Psichiatri e Medici Neuro
 psichiatri Infantili.\nCREDITI ECM:\n\n\nÈ previsto l’accreditamento di
  9 crediti ECM in FAD SINCRONA\n\nMODALITA' DI PARTECIPAZIONE:\nIl corso s
 i svolgerà in modalità online su piattaforma ZOOM. Sarà possibile parte
 cipare al corso esclusivamente in diretta.\n\n\n&nbsp\;\n\n&nbsp\;\n\n&nbs
 p\;\n\nQUOTE E MODALITÀ DI ISCRIZIONE\n\n 	€ 100\,00 +iva (totale € 1
 22\,00) Quota agevolata per iscrizioni entro il 10/09/2024\;\n 	€ 130\,0
 0 +iva (totale € 158\,60) Quota standard per iscrizioni successive al 10
 /09/2024.\n\n&nbsp\;\n\nIN CASO DI RINUNCIA NON È PREVISTO IL RIMBORSO DE
 LLA QUOTA DI PARTECIPAZIONE\n\nÈ possibile pagare la quota di iscrizione 
 in un'unica soluzione con Bonifico Bancario.\n\nCLICCA QUI PER ISCRIVERTI 
 AL CORSO\n\nN.B. Le iscrizioni vengono prese sulla nostra nuova piattaform
 a di erogazione corsi (https://eventi.apc.it/)\, se non sei ancora registr
 ato alla nuova piattaforma dovrai registrarti con i tuoi dati e poi proced
 ere all’iscrizione e al pagamento del corso.\n\n&nbsp\;\n\nPer info: cor
 si@apc.it – Tel e Whatsapp: 3473566781\nSegreteria Organizzativa e Provi
 der ECM: \nSPC s.r.l. – Provider ECM Standard ID 3958 - Viale Castro Pre
 torio\, 116 - Roma\nBROCHURE
ATTACH;FMTTYPE=image/jpeg:https://apc.it/wp-content/uploads/2024/06/ECM-ON
 LINE_4-ottobre_-ST-eta-evolutiva-nei-disturbi-esternalizzanti.png
CATEGORIES:Corsi a pagamento,Corsi ecm,Corsi Schema Therapy
END:VEVENT
END:VCALENDAR