BEGIN:VCALENDAR
VERSION:2.0
PRODID:-//wp-events-plugin.com//7.2.3.1//EN
BEGIN:VEVENT
UID:122@apc.it
DTSTART:20210416T090000Z
DTEND:20210416T130000Z
DTSTAMP:20210415T084510Z
URL:https://apc.it/lista-eventi/laccettazione-ed-il-cambiamento-in-psicote
 rapia/
SUMMARY:L’Accettazione ed il Cambiamento in Psicoterapia
DESCRIPTION:\nL’Accettazione ed il Cambiamento in Psicoterapia\nCristiano
  Castelfranchi\, Francesco Mancini\, Elio Carlo\, Maurizio Brasini\, Mauro
  Giacomantonio\nCHAIRMAN Maurizio Sabia\n\n16 aprile 2021\norario 9.00-13.
 00\n\nIl Simposio si terrà in modalità webinar su ZOOM\nIscrizione GRATU
 ITA\nE' possibile iscriversi e partecipare cliccando qui: https://us02web.
 zoom.us/webinar/register/WN_pmSF-9qWSUCGM0f92qf5Kg\n\nPRESENTAZIONE\nLa fr
 ustrazione dei nostri bisogni\, scopi\, valori e desideri è causa di soff
 erenza emotiva ma è parte della vita di tutti.\nDa sempre l’umanità ha
  cercato nella accettazione un sollievo alla sofferenza. Infatti\, a parit
 à di altre condizioni\, la stessa frustrazione ha un impatto emotivo comp
 letamente diverso se la si accetta oppure no.\nMa che cosa caratterizza lo
  stato mentale di colui che accetta? Quali cambiamenti mentali portano all
 a accettazione? Dove la differenza con la rassegnazione? L’accettazione 
 si concilia con l’azione o implica passività?\nQueste domande acquistan
 o un’importanza speciale per gli psicoterapeuti. Infatti\, la psicopatol
 ogia si caratterizza per la mancata accettazione della frustrazione di sco
 pi e bisogni. In questo Webinar si proporranno alcune risposte.\n\nRELATOR
 I\n\n 	PROF. CRISTIANO CASTELFRANCHI\nIstituto Scienze e Tecnologie della 
 Cognizione - CNR\n 	PROF. FRANCESCO MANCINI\nScuola di Psicoterapia Cognit
 iva\, Napoli\;\nUniversità Guglielmo Marconi\, Roma\n 	DR. MAURIZIO BRASI
 NI\nScuola di Psicoterapia Cognitiva\, Roma\n 	PROF. MAURO GIACOMANTONIO\n
 Università degli Studi di Roma "Sapienza"\n 	DR. ELIO CARLO\nScuola di Ps
 icoterapia Cognitiva\, Roma\n\nPROGRAMMA\n\nCHAIR: Dr. Maurizio Sabia\n\n
 ➢ ore 09.00-09.15 Introduzione e presentazione – Dr. Maurizio Sabia\n
 ➢ ore 09.15-10.00 Accettazione stoica e accettazione buddhista: una pros
 pettiva cognitivista – Dr. Elio Carlo\n➢ ore 10.00-10.45 "Farsene una 
 ragione": tipi e livelli – Prof. Cristiano Castelfranchi\n➢ ore 10.45-
 11.00 PAUSA\n➢ ore 11.00-11.45 "Ma perché proprio a me?" Accettazione e
  Ordine Naturale delle Cose–\nDr. Maurizio Brasini – Prof. Mauro Giaco
 mantonio\n➢ ore 11.45-12.30 Inaccettabilità e sofferenza psicopatologic
 a – Prof. Francesco Mancini\n➢ ore 12.30-13.00 TAVOLA ROTONDA - Domand
 e e Discussione\n\nIl Simposio si terrà in modalità webinar su ZOOM\nven
 erdì 16 aprile 2021 dalle ore 09.00 alle ore 13.00\nIscrizione GRATUITA\n
 E' possibile iscriversi e partecipare cliccando qui: https://us02web.zoom.
 us/webinar/register/WN_pmSF-9qWSUCGM0f92qf5Kg\n\n&nbsp\;\nScarica la broch
 ure di questo evento&nbsp\;\n\n\n\n\n\nTutte le comunicazioni organizzativ
 e relative a questo corso vengono effettuate via mail.&nbsp\;SI PREGA DI C
 ONTROLLARE LO SPAM.\nPer&nbsp\;INFO&nbsp\;o problemi relativi al collegame
 nto potete contattare&nbsp\;SOLO NEI GIORNI DI SVOLGIMENTO DEL CORSO\nil n
 umero&nbsp\;347-3566781\n\n\n
ATTACH;FMTTYPE=image/jpeg:https://apc.it/wp-content/uploads/2021/02/presen
 tazione-accettazione-cambiamento-16-aprile-2021.png
CATEGORIES:Corsi Gratuiti,Simposi
END:VEVENT
END:VCALENDAR