BEGIN:VCALENDAR
VERSION:2.0
PRODID:-//wp-events-plugin.com//7.2.3.1//EN
BEGIN:VEVENT
UID:124@apc.it
DTSTART:20210410T100000Z
DTEND:20210410T170000Z
DTSTAMP:20210309T100612Z
URL:https://apc.it/lista-eventi/la-schema-therapy-con-bambini-e-adolescent
 i/
SUMMARY:LA SCHEMA THERAPY CON BAMBINI E ADOLESCENTI
DESCRIPTION:\nLA SCHEMA THERAPY CON BAMBINI E ADOLESCENTI\nMieke Boots\n\n1
 0 aprile 2021\norario 10.00-17.00\n\nPRESENTAZIONE\nNel corso si intende m
 ostrare come applicare la Schema Therapy a bambini e adolescenti e ai loro
  genitori.\nIl lavoro con questa tipologia di pazienti include l’utilizz
 o di strumenti creativi e di materiali che consentono di semplificare il m
 odello\, tenendo in considerazione la fase di sviluppo del paziente e il c
 ontesto familiare in cui questi vive.\nLa partecipazione al workshop perme
 tterà di imparare ad applicare il modello degli schemi e dei mode con bam
 bini e adolescenti\, avvalendosi delle specifiche tecniche della Schema Th
 erapy.\nAi partecipanti viene chiesto di avere a disposizione una penna\, 
 della carta\, dei pennarelli e dei pupazzetti\, animaletti e figurine da u
 tilizzare durane il corso.\nIl workshop è rivolto a psicoterapeuti che ab
 biano una conoscenza base del modello della Schema Therapy &nbsp\;che abbi
 ano un minimo di esperienza con questa tipologia di popolazione clinica.\n
 METODO:\nDopo una breve introduzione teorica si porrà particolare attenzi
 one all’esperienza e alla pratica delle ricevere tecniche. A questo scop
 o verranno mostrati delle video-vignette cliniche del trainer e verrà svo
 lta una esercitazione pratica tramite role-play (nelle stanze zoom). In qu
 esta fase saranno essenziali l’uso del gioco e di materiali/oggetti conc
 reti. Una presentazione in power point provvederà ulteriore supporto ai c
 ontenuti esposti\ndalla docente e verrà consegnata ai partecipanti.\n\nDO
 CENTE\n\nDr.ssa Mieke Boots\nMieke Boots è psicoterapeuta cognitivo-compo
 rtamentale e trainer/supervisore in Schema Therapy\, riconosciuta dalla IS
 ST (Società Internazionale di Schema Therapy)\, sia in terapia individual
 e che nell’infanzia e nell’adolescenza. Ha tradotto in Neerlandese il 
 libro di Loose C. sulla Schema Therapy per bambini e adolescenti ed è co-
 autrice del libro “Applied Schema therapy for children and adolescents
 ” (Roelofs\, J. van Wijk-Herbrink\, M. &amp\; Boots\, M.\, 2020). Mieke 
 insegna Schema Therapy per bambini e adolescenti e i loro genitori e ha sv
 iluppato dei workshop specifici sulla mode-play-therapy\, riconosciuti dal
 la ISST. La docente svolge attività di supervisione e conduce la propria 
 attività clinica nei Paesi Bassi e in Belgio.\n\n\n\nLetteratura di rifer
 imento\n\n 	Loose\, C.\, Graaf\, P.\, Zarbock\, G and Holt\, R.A. ed. (202
 0). Schema Therapy for children and adolescents. A practioner’s guide. P
 avilion Publishing and Media.\n 	Roelofs\, J. van Wijk-Herbrink\, M. &amp\
 ; Boots\, M. (2020). Toegepaste schematherapie bij kinderen en adolescente
 n (Applied Schema therapy for children and adolescents)\n\nPROGRAMMA\nsaba
 to 10 aprile ore 10-13 / 14-17\n10.00– 10.20: Benvenuto e presentazione 
 della giornata\n10.20 – 11.20: Introduzione teorica:\nBreve introduzione
  sugli aspetti piscologici in età evolutiva e sull’applicazione della S
 chema Therapy\;\nAccenno ai concetti chiave del modello e formulazione del
  caso\;\nRelazione terapeutica\;\nIl lavoro con i mode\;\nIl lavoro con i 
 genitori.\n11.20 – 11.30: Coffee-break\n11.30 – 12.30: Esercizio prati
 co sulla formulazione del caso: il modello dei mode\n12.30 – 13.00: Inte
 rvista ai mode\n13.0 – 14.00: Pausa pranzo\n14.00 – 14.15: Il bambino 
 felice\n14.15 – 14.35: Il lavoro con il bambino\n14.35 – 15.00: Il lav
 oro con il bambino arrabbiato\n15.00 – 15.15: Coffee-break\n15.15 – 15
 .25: Il lavoro con la parte critica\n15.25 – 15.45: Il lavoro con la par
 te sana\n15.45 – 16.45: Lavorare con i mode dei genitori: il mode dell
 ’interaction circle\n16.45 – 17.00: Valutazione della giornata\n\nMODA
 LITÀ DI SVOLGIMENTO\n\nIl workshop si terrà in lingua inglese con traduz
 ione simultanea in italiano e si svolgerà in modalità webinar attraverso
  la piattaforma ZOOM.\n\nAl termine del workshop verrà rilasciato un atte
 stato di partecipazione.\n\nWorkshop rivolto a Specializzandi in Psicotera
 pia\, Psicologi abilitati alla Psicoterapia\,\nMedici Psicoterapeuti\, Med
 ici Psichiatri e Medici Neuropsichiatri Infantili.\n\n\n\nÈ PREVISTO L’
  ACCREDITAMENTO DI\n9 CREDITI ECM\nN.B. Per l’attribuzione dei crediti 
 è richiesta la&nbsp\;frequenza del 90%&nbsp\;delle sessioni scientifiche 
 in programma e almeno il&nbsp\;75%&nbsp\;di risposte corrette al questiona
 rio di valutazione apprendimento\n\nQUOTA E MODALITÀ DI ISCRIZIONE\n\n❖
  € 140\,00+iva (€ 170\,80) quota agevolata per iscrizioni entro il 10 
 marzo 2021\n❖ € 180\,00+iva (€ 219\,60) quota standard\n\nPer iscriv
 ersi è necessario compilare la scheda online e versare contestualmente la
  quota di partecipazione.\nIl versamento deve avvenire tramite bonifico ba
 ncario sul conto intestato a:\nScuola di Psicoterapia Cognitiva srl\nIBAN 
 IT87K0538703202000001606300\ncausale “BOOTS aprile 2021”\nIN CASO DI R
 INUNCIA NON È PREVISTO IL RIMBORSO DELLA QUOTA DI PARTECIPAZIONE\nScarica
  la brochure di questo evento\n\n\n\n\n\nTutte le comunicazioni organizzat
 ive relative a questo corso vengono effettuate via mail.&nbsp\;SI PREGA DI
  CONTROLLARE LO SPAM.\nPer&nbsp\;INFO&nbsp\;o problemi relativi al collega
 mento potete contattare&nbsp\;SOLO NEI GIORNI DI SVOLGIMENTO DEL CORSO\nil
  numero&nbsp\;347-3566781\n\n\n
ATTACH;FMTTYPE=image/jpeg:https://apc.it/wp-content/uploads/2021/02/presen
 tazione-schema-therapy-boots-10-aprile-2021.png
CATEGORIES:Corsi a pagamento,Corsi ecm,Corsi Schema Therapy
END:VEVENT
END:VCALENDAR