BEGIN:VCALENDAR
VERSION:2.0
PRODID:-//wp-events-plugin.com//7.2.3.1//EN
BEGIN:VEVENT
UID:145@apc.it
DTSTART:20211210T100000Z
DTEND:20211210T170000Z
DTSTAMP:20211206T092931Z
URL:https://apc.it/lista-eventi/la-schema-therapy-con-bambini-e-adolescent
 i-2/
SUMMARY:LA SCHEMA THERAPY CON BAMBINI E ADOLESCENTI
DESCRIPTION:\nLA SCHEMA THERAPY CON BAMBINI E ADOLESCENTI\nMieke Boots&nbsp
 \;\n\n10 dicembre 2021\norario 10.00-17.00\n\nPRESENTAZIONE\nNel corso si 
 intende mostrare come applicare la Schema Therapy a bambini e adolescenti 
 e ai loro genitori.\nIl lavoro con questa tipologia di pazienti include l
 ’utilizzo di strumenti creativi e di materiali che consentono di semplif
 icare il modello\, tenendo in considerazione la fase di sviluppo del pazie
 nte e il contesto familiare in cui questi vive.\nLa partecipazione al work
 shop permetterà di imparare ad applicare il modello degli schemi e dei mo
 de con bambini e adolescenti\, avvalendosi delle specifiche tecniche della
  Schema Therapy.\nAi partecipanti viene chiesto di avere a disposizione un
 a penna\, della carta\, dei pennarelli e dei pupazzetti\, animaletti e fig
 urine da utilizzare durane il corso.\nIl workshop è rivolto a psicoterape
 uti che abbiano una conoscenza base del modello della Schema Therapy &nbsp
 \;che abbiano un minimo di esperienza con questa tipologia di popolazione 
 clinica.\nMETODO:\nDopo una breve introduzione teorica si porrà particola
 re attenzione all’esperienza e alla pratica delle ricevere tecniche. A q
 uesto scopo verranno mostrati delle video-vignette cliniche del trainer e 
 verrà svolta una esercitazione pratica tramite role-play (nelle stanze zo
 om). In questa fase saranno essenziali l’uso del gioco e di materiali/og
 getti concreti. Una presentazione in power point provvederà ulteriore sup
 porto ai contenuti esposti\ndalla docente e verrà consegnata ai partecipa
 nti.\n\nDOCENTE\n\nDr.ssa Mieke Boots\nMieke Boots è psicoterapeuta cogni
 tivo-comportamentale e trainer/supervisore in Schema Therapy\, riconosciut
 a dalla ISST (Società Internazionale di Schema Therapy)\, sia in terapia 
 individuale che nell’infanzia e nell’adolescenza. Ha tradotto in Neerl
 andese il libro di Loose C. sulla Schema Therapy per bambini e adolescenti
  ed è co-autrice del libro “Applied Schema therapy for children and ado
 lescents” (Roelofs\, J. van Wijk-Herbrink\, M. &amp\; Boots\, M.\, 2020)
 . Mieke insegna Schema Therapy per bambini e adolescenti e i loro genitori
  e ha sviluppato dei workshop specifici sulla mode-play-therapy\, riconosc
 iuti dalla ISST. La docente svolge attività di supervisione e conduce la 
 propria attività clinica nei Paesi Bassi e in Belgio.\n\n\n\nLetteratura 
 di riferimento\n\n 	Loose\, C.\, Graaf\, P.\, Zarbock\, G and Holt\, R.A. 
 ed. (2020). Schema Therapy for children and adolescents. A practioner’s 
 guide. Pavilion Publishing and Media.\n 	Roelofs\, J. van Wijk-Herbrink\, 
 M. &amp\; Boots\, M. (2020). Toegepaste schematherapie bij kinderen en ado
 lescenten (Applied Schema therapy for children and adolescents)\n\nPROGRAM
 MA\nvenerdì 10 dicembre ore 10-13 / 14-17\n\n10.00– 10.20: Benvenuto e 
 presentazione della giornata\n10.20 – 11.20: Introduzione teorica: Breve
  introduzione sugli aspetti piscologici in età evolutiva e sull’applica
 zione della Schema Therapy\;\nAccenno ai concetti chiave del modello e for
 mulazione del caso \; Relazione terapeutica\; Il lavoro con i mode\; Il la
 voro con i genitori.\n11.20 – 11.30: Coffee-break\n11.30 – 12.30: Eser
 cizio pratico sulla formulazione del caso: il modello dei mode\n12.30 – 
 13.00: Intervista ai mode\n13.0 – 14.00: Pausa pranzo\n14.00 – 14.15: 
 Il bambino felice\n14.15 – 14.35: Il lavoro con il bambino\n14.35 – 15
 .00: Il lavoro con il bambino arrabbiato\n15.00 – 15.15: Coffee-break\n1
 5.15 – 15.25: Il lavoro con la parte critica\n15.25 – 15.45: Il lavoro
  con la parte sana\n15.45 – 16.45: Lavorare con i mode dei genitori: il 
 mode dell’interaction circle\n16.45 – 17.00: Valutazione della giornat
 a\n\nMODALITÀ DI SVOLGIMENTO\n\nIl workshop si terrà in lingua inglese c
 on traduzione simultanea in italiano e si svolgerà in modalità webinar a
 ttraverso la piattaforma ZOOM.\n\nAl termine del workshop verrà rilasciat
 o un attestato di partecipazione.\n\nWorkshop rivolto a Specializzandi in 
 Psicoterapia\, Psicologi abilitati alla Psicoterapia\,\nMedici Psicoterape
 uti\, Medici Psichiatri e Medici Neuropsichiatri Infantili.\n\n\n\nÈ PREV
 ISTO L’ ACCREDITAMENTO DI\n9 CREDITI ECM\nN.B.&nbsp\;Per l’attribuzion
 e dei crediti è richiesta la&nbsp\;frequenza del 90%&nbsp\;delle sessioni
  scientifiche in programma e almeno il&nbsp\;75%&nbsp\;di risposte corrett
 e al questionario di valutazione apprendimento\n\nQUOTA E MODALITÀ DI ISC
 RIZIONE\n\n€ 140\,00+iva (€ 170\,80) quota agevolata per iscrizioni en
 tro il 1 novembre 2021\n❖ € 180\,00+iva (€ 219\,60) quota standard\n
 \nPer iscriversi è necessario compilare la scheda online e versare contes
 tualmente la quota di partecipazione.\nIl versamento deve avvenire tramite
  bonifico bancario sul conto intestato a:\nScuola di Psicoterapia Cognitiv
 a srl\nIBAN IT87K0538703202000001606300\ncausale “BOOTS dicembre 2021”
 \n\nIN CASO DI RINUNCIA NON È PREVISTO IL RIMBORSO DELLA QUOTA DI PARTECI
 PAZIONE\nScarica la brochure di questo evento
ATTACH;FMTTYPE=image/jpeg:https://apc.it/wp-content/uploads/2021/05/presen
 tazione-schema-therapy-bambini-e-adolescenti-10-dicembre-2021.png
CATEGORIES:Corsi a pagamento,Corsi ecm,Corsi Schema Therapy
END:VEVENT
END:VCALENDAR