BEGIN:VCALENDAR
VERSION:2.0
PRODID:-//wp-events-plugin.com//7.2.3.1//EN
BEGIN:VEVENT
UID:354@apc.it
DTSTART:20240607T090000Z
DTEND:20240608T180000Z
DTSTAMP:20240508T112025Z
URL:https://apc.it/lista-eventi/la-guida-essenziale-allact/
SUMMARY:LA GUIDA ESSENZIALE ALL’ACT
DESCRIPTION:Corso ECM Online\n\nLA GUIDA ESSENZIALE ALL’ACT \nTeoria e pr
 atica dell’Acceptance and Commitment Therapy\n\n7-8 giugno 2024\nore 09.
 00-18.00\n&nbsp\;\n Dott. Emanuele Rossi\n\nQUOTA AGEVOLATA ENTRO IL 20 MA
 GGIO 2024!\nIl Corso si terrà ONLINE su piattaforma ZOOM in diretta\n24 c
 rediti ECM in FAD Sincrona: è possibile partecipare solamente in diretta\
 n\nInfo: www.apc.it - corsi@apc.it - Tel e Whatsapp 3473566781\n\n\n\n\n\n
 \nCORSO RIVOLTO A:\n\nSpecializzandi in Psicoterapia\, Psicologi abilitati
  alla Psicoterapia\, Medici Psicoterapeuti\, Medici Psichiatri e Medici Ne
 uropsichiatri Infantili.\nCREDITI ECM:\n\n\nÈ previsto l’accreditamento
  di 24 crediti ECM in FAD SINCRONA\n\nMODALITA' DI PARTECIPAZIONE:\nIl cor
 so si svolgerà in modalità online su piattaforma ZOOM. Sarà possibile p
 artecipare al corso esclusivamente in diretta.\nQUOTE E MODALITÀ DI ISCRI
 ZIONE\n\n 	€&nbsp\;200\,00 +iva (totale € 244\,00) Quota agevolata per
  iscrizioni entro il 20/05/2024\;\n 	€ 250\,00 +iva (totale € 305\,00)
  Quota standard per iscrizioni successive al 20/05/2024.\n\n&nbsp\;\n\nIN 
 CASO DI RINUNCIA NON È PREVISTO IL RIMBORSO DELLA QUOTA DI PARTECIPAZIONE
 \n\nÈ possibile pagare la quota di iscrizione in un'unica soluzione con B
 onifico Bancario\, Carta di Credito o PayPal.\n\nCLICCA QUI PER ISCRIVERTI
  AL CORSO\n\nN.B. Le iscrizioni vengono prese sulla nostra nuova piattafor
 ma di erogazione corsi (https://eventi.apc.it/)\, se non sei ancora regist
 rato alla nuova piattaforma dovrai registrarti con i tuoi dati e poi proce
 dere all’iscrizione e al pagamento del corso.\n\nPer info: corsi@apc.it 
 – Tel e Whatsapp: 3473566781\nSegreteria Organizzativa e Provider ECM: \
 nSPC s.r.l. – Provider ECM Standard ID 3958 - Viale Castro Pretorio\, 11
 6 - Roma\nBROCHURE
ATTACH;FMTTYPE=image/jpeg:https://apc.it/wp-content/uploads/2023/11/GUIDA-
 ESSENZIALE-ACT-2024.png
CATEGORIES:Corsi a pagamento,Corsi ACT,Corsi ecm
END:VEVENT
END:VCALENDAR