BEGIN:VCALENDAR
VERSION:2.0
PRODID:-//wp-events-plugin.com//7.2.3.1//EN
BEGIN:VEVENT
UID:405@apc.it
DTSTART:20250606T090000Z
DTEND:20250607T180000Z
DTSTAMP:20250507T101757Z
URL:https://apc.it/lista-eventi/la-guida-essenziale-allact-2/
SUMMARY:LA GUIDA ESSENZIALE ALL’ACT
DESCRIPTION:Corso ECM Online\n\nLA GUIDA ESSENZIALE ALL’ACT \nTeoria e pr
 atica dell’Acceptance and Commitment Therapy\n\n6-7 giugno 2025\nore 09.
 00-18.00\n&nbsp\;\n Dott. Emanuele Rossi\n\nULTIMI POSTI DISPONIBILI!\nIl 
 Corso si terrà ONLINE su piattaforma ZOOM in diretta\n24 crediti ECM in F
 AD Sincrona: è possibile partecipare solamente in diretta\n\nInfo: www.ap
 c.it - corsi@apc.it - Tel e Whatsapp 3473566781\n\n\n&nbsp\;\n\nCORSO RIVO
 LTO A:\n\nSpecializzandi in Psicoterapia\, Psicologi abilitati alla Psicot
 erapia\, Medici Psicoterapeuti\, Medici Psichiatri e Medici Neuropsichiatr
 i Infantili.\nCREDITI ECM:\n\n\nÈ previsto l’accreditamento di 24 credi
 ti ECM in FAD SINCRONA\n\nMODALITA' DI PARTECIPAZIONE:\nIl corso si svolge
 rà in modalità online su piattaforma ZOOM. Sarà possibile partecipare a
 l corso esclusivamente in diretta.\nQUOTE E MODALITÀ DI ISCRIZIONE\n\n 	
 € 250\,00 +iva (totale € 305\,00) Quota standard per iscrizioni succes
 sive al 06/05/2025.\n\n&nbsp\;\n\nIN CASO DI RINUNCIA NON È PREVISTO IL R
 IMBORSO DELLA QUOTA DI PARTECIPAZIONE\n\nÈ possibile pagare la quota di i
 scrizione in un'unica soluzione con Bonifico Bancario\, Carta di Credito o
  PayPal.\n\nCLICCA QUI PER ISCRIVERTI AL CORSO\n\nN.B. Le iscrizioni vengo
 no prese sulla nostra nuova piattaforma di erogazione corsi (https://event
 i.apc.it/)\, se non sei ancora registrato alla nuova piattaforma dovrai re
 gistrarti con i tuoi dati e poi procedere all’iscrizione e al pagamento 
 del corso.\n\nPer info: corsi@apc.it – Tel e Whatsapp: 3473566781\nSegre
 teria Organizzativa e Provider ECM: \nSPC s.r.l. – Provider ECM Standard
  ID 3958 - Viale Castro Pretorio\, 116 - Roma\nBROCHURE
ATTACH;FMTTYPE=image/jpeg:https://apc.it/wp-content/uploads/2024/09/new-GU
 IDA-ESS-ACT-GIUGNO-2025.png
CATEGORIES:Corsi a pagamento,Corsi ACT,Corsi ecm
END:VEVENT
END:VCALENDAR