BEGIN:VCALENDAR
VERSION:2.0
PRODID:-//wp-events-plugin.com//7.2.3.1//EN
BEGIN:VEVENT
UID:412@apc.it
DTSTART;VALUE=DATE:20250328
DTEND;VALUE=DATE:20250330
DTSTAMP:20250217T103118Z
URL:https://apc.it/lista-eventi/ivam-intervista-per-la-valutazione-della-m
 etacognizione-2/
SUMMARY:IVAM: Intervista per la Valutazione della Metacognizione
DESCRIPTION:Corso ECM Online\n\nIVAM: Intervista per la Valutazione della M
 etacognizione\n28-29 marzo + 23-24 maggio 2025\norari: \n28 marzo 14\,00-1
 8\,00\; 29 marzo 09\,00-18\,00\;\n23 maggio 14\,00-18\,00\; 24 maggio 10\,
 00-13\,00\n&nbsp\;\n\n 	Il 28-29 marzo si svolgerà il corso\;\n 	il 23-24
  maggio si svolgeranno due mezze giornate di supervisione incluse nel cors
 o\n\nDocenti del corso: Dr.ssa Livia Colle\;&nbsp\; Dr.ssa Laura Conti\n&n
 bsp\;\nQUOTA AGEVOLATA PER ISCRIZIONI ENTRO IL 1° marzo 2025!\nIl Corso s
 i terrà ONLINE su piattaforma ZOOM in diretta\n18 crediti ECM in FAD Sinc
 rona: è possibile partecipare solamente in diretta\n\nInfo: www.apc.it - 
 corsi@apc.it - Tel e Whatsapp 3473566781\n&nbsp\;\n\nPRESENTAZIONE DEL COR
 SO\n\nLe abilità di metacognizione o mentalizzazione sono considerate fon
 damentali nella valutazione e nel trattamento dei disturbi di personalità
  (Carcione et al.\, 1997\; Semerari\, 1999\;&nbsp\; Bateman e Fonagy\, 200
 4)\n\nIl Terzo Centro ha sviluppato un’intervista semi-strutturata Inter
 vista per la Valutazione della Metacognizione (IVaM\, Semerari et al.\, 20
 08\; Semerari et al.\, 2012) in grado di valutare agilmente diverse abilit
 à metacognitive\, così come&nbsp\; previste dal modello di Trattamento M
 etacognitivo-Interpersonale sviluppato per il trattamento dei disturbi di 
 personalità (Semerari\, 1999\; Dimaggio e Semerari\, 2003\; Carcione\, Ni
 colò e Semerari\, 2016\; 2021).\n\nA partire dall’analisi di un singolo
  episodio interpersonale\, l’IVaM consente di valutare rapidamente le di
 verse funzioni metacognitive di un paziente ed è applicabile nelle divers
 e fasi della terapia. Può dunque essere utilizzata sia come strumento di 
 assessment\, sia per monitorare costantemente l’efficacia del trattament
 o. A tale scopo l’intervista è ad oggi utilizzata in diversi centri di 
 psicoterapia in Italia e all’estero.\n\nDurante il corso verranno presen
 tati il Modello Multifattoriale della Metacognizione\, le diverse funzioni
  metacognitive\, mettendo in evidenza l’importanza sul piano clinico. Il
  background teorico servirà come introduzione per presentare l’intervis
 ta\, la sua somministrazione e i criteri di siglatura.\n\nLo scopo princip
 ale del lavoro collettivo sarà quello di allenare i partecipanti all’ut
 ilizzo dell’intervista attraverso esercitazioni guidate e casi clinici a
 udio-registrati\,&nbsp\; rispetto alla procedura sia di somministrazione\,
  sia di siglatura.\n\n&nbsp\;\n\nOBIETTIVI FORMATIVI\n\n\n 	Acquisizioni d
 elle competenze teoriche relative alla metacognizione e alle sue sottofunz
 ioni\n 	Acquisizione delle competenze per la somministrazione dell’inter
 vista IVAM\n 	Acquisizione delle competenze nell’attribuzione dei punteg
 gi relativi alle sottofunzioni metacognitive\n 	Supervisioni di interviste
  IVAM somministrate dai partecipanti\n\n&nbsp\;\n\nMETODOLOGIA\n\n 	Il cor
 so avrà un taglio prettamente pratico\, le informazioni teoriche saranno 
 fornite attraverso lo svolgimento e la valutazione delle interviste IVAM a
 udio registrate di casi clinici opportunamente modificati per la tutela de
 lla privacy.\n 	üIl corso prevede due successive mezze giornate di superv
 isione incluse nel corso per consentire ai partecipanti di esercitarsi nel
 l’utilizzo dell’intervista e valutare insieme ai docenti l’adeguatez
 za della somministrazione e l’attribuzione dei punteggi delle singole so
 ttofunzioni. Le date delle giornate di supervisione sono venerdì 23 maggi
 o 2025 dalle 14.00 alle 18.00 e sabato 24 maggio 2025 dalle 10.00 alle 13.
 00. La quota del corso include già il costo della Supervisione. Coloro ch
 e faranno le supervisioni e saranno ritenuti idonei riceveranno un attesta
 to come siglatori dell’intevista.\n\n&nbsp\;\n\nDOCENTI:\n\nDR.SSA LIVIA
  COLLE\n\nPsicologa\; Psicoterapeuta presso il Terzo Centro di Psicoterapi
 a Cognitiva di Roma\; Ricercatrice presso il Dipartimento di Psicologia\, 
 Università degli studi di Torino\; Didatta SPC/APC\,&nbsp\; Didatta SITCC
 \, Docente SICC.\n\nDR.SSA LAURA CONTI\n\nPsicologa\; Psicoterapeuta press
 o il Terzo Centro di Psicoterapia Cognitiva di Roma\; Didatta SPC/APC\,&nb
 sp\; Didatta SITCC\, Docente SICC.\n\n&nbsp\;\n\nPROGRAMMA\n\n 	Venerdì 2
 8 marzo 2025 ore 14\,00-18\,00\n\n 	\n\n 	Modello teorico delle funzioni m
 etacognitive TMI\n 	Presentazione intervista IVAM\n\n\n\n\n\n\n 	Sabato 29
  marzo 2025 ore 09\,00-13\,00 / 14\,00-18\,00\n\n 	\n\n 	Esercitazioni sul
 le funzioni di monitoraggio\, integrazione e mastery/padroneggiamento\n 	E
 sercitazioni su differenziazione e decentramento\n 	Introduzione alla valu
 tazione\n 	Esempi clinici per esercitazione\n 	Conclusioni\n\n\n\n\n 	Vene
 rdì 23 maggio 2025 ore 14\,00-18\,00 + Sabato 24 maggio 2025 ore 10\,00-1
 3\,00\n\n 	\n\n 	Supervisione\n\n\n\n\n\n&nbsp\;\n\nMODALITÀ DI SVOLGIMEN
 TOIl corso si svolgerà in modalità online da remoto attraverso la piatta
 forma ZOOM.Al termine del corso verrà rilasciato un attestato di partecip
 azione.\n\nCORSO RIVOLTO A: Specializzandi in Psicoterapia\, Psicologi abi
 litati allaPsicoterapia\, Medici Psicoterapeuti\, Medici Psichiatri\, Medi
 ci Neuropsichiatri Infantili.\n\n\n\n&nbsp\;\n\nÈ PREVISTO L’ACCREDITAM
 ENTO DI 18 CREDITI ECM.\n\n&nbsp\;\n\nQUOTE DI PARTECIPAZIONE\n\n 	€ 210
 \,00 + iva (€ 256\,20) quota agevolata per iscrizioni entro il 01 marzo 
 2025\n\n 	€ 260\,00 + iva (€ 317\,20) quota standard per iscrizioni su
 ccessive al 01 marzo 2025\n 	N.B. La quota di iscrizione comprende le due 
 giornate di corso (28-29 marzo) + le mezze giornate di Supervisione (23-24
  maggio).\n\nIN CASO DI RINUNCIA NON È PREVISTO IL RIMBORSO DELLA QUOTA D
 I PARTECIPAZIONE\n\nÈ possibile pagare la quota di iscrizione in un'unica
  soluzione con Bonifico Bancario\, Carta di Credito o PayPal.\n\nCLICCA QU
 I PER ISCRIVERTI AL CORSO\n\nN.B. Le iscrizioni vengono prese sulla nostra
  nuova piattaforma di erogazione corsi (https://eventi.apc.it/)\, se non s
 ei ancora registrato alla nuova piattaforma dovrai registrarti con i tuoi 
 dati e poi procedere all’iscrizione e al pagamento del corso.\n\nPer inf
 o: corsi@apc.it – Tel e Whatsapp: 3473566781\n\n&nbsp\;\nSegreteria Orga
 nizzativa e Provider ECM: \nSPC s.r.l. – Provider ECM Standard ID 3958 -
  Viale Castro Pretorio\, 116 - Roma\nBROCHURE\n\n&nbsp\;
ATTACH;FMTTYPE=image/jpeg:https://apc.it/wp-content/uploads/2024/10/NEW_EC
 M-ONLINE_IVAM-28-29marzo-23-24maggio-2025.png
CATEGORIES:Corsi a pagamento,Corsi ecm
END:VEVENT
END:VCALENDAR