BEGIN:VCALENDAR
VERSION:2.0
PRODID:-//wp-events-plugin.com//7.2.3.1//EN
BEGIN:VEVENT
UID:415@apc.it
DTSTART:20250131T100000Z
DTEND:20250131T140000Z
DTSTAMP:20241115T084139Z
URL:https://apc.it/lista-eventi/introduzione-alla-schema-therapy-nel-tratt
 amento-dei-disturbi-della-nutrizione-e-dellalimentazione/
SUMMARY:INTRODUZIONE ALLA SCHEMA THERAPY NEL TRATTAMENTO DEI DISTURBI DELLA
  NUTRIZIONE E DELL’ALIMENTAZIONE
DESCRIPTION:&nbsp\;\n &nbsp\; &nbsp\; &nbsp\;&nbsp\; \nCorso online\nINTROD
 UZIONE ALLA SCHEMA THERAPY NEL TRATTAMENTO DEI DISTURBI DELLA NUTRIZIONE E
  DELL’ALIMENTAZIONE\nDocente: Dr.ssa Barbara Basile\n\nVenerdì 31 genna
 io 2025\norario 10.00-14.00\n\n\n\n&nbsp\;\n\nAl termine verrà rilasciata
  attestazione ufficiale ISST\n\n&nbsp\;\n\nIL CORSO SI SVOLGERÀ IN MODALI
 TÀ ONLINE SU PIATTAFORMA ZOOM\n\nNon sono previsti crediti ecm\n\n&nbsp\;
 \n\nPRESENTAZIONE\n\nIl workshop offre l’opportunità di inquadrare il f
 unzionamento dei pazienti con disturbi della Nutrizione e dell’Alimentaz
 ione in chiave Schema Therapy e di apprendere delle tecniche per affrontar
 e situazioni specifiche per questa popolazione di pazienti.\n\nIn particol
 are\, il workshop consente di lavorare con gli “schema mode” tipici de
 l disturbo e di implementare il trattamento utilizzando le tecniche di imm
 aginazione\, il lavoro con le sedie e imparare a mettere limiti ai mode de
 l critici-punitivi e dell’autolesionista.\n\n&nbsp\;\n\nDOCENTE: Dr.ssa 
 Barbara Basile\n\n\nPsicoterapeuta Cognitivo-Comportamentale\, trainer/sup
 ervisore in Schema Therapy\, Direttrice dell’Italian Academy of Schema T
 herapy (IAST) e didatta/docente presso le Scuole di Psicoterapia Cognitiva
  (SPC).\n\nOltre all’attività clinica e formativa\, Barbara è autrice 
 di numerose pubblicazioni scientifiche nell’ambito della psicopatologia\
 , della Schema Therapy e delle neuroscienze.\n\n&nbsp\;\n\nPROGRAMMAVenerd
 ì 31 gennaio 2025 ore 10.00-14.00\n\n 	Introduzione e razionale della Sch
 ema Therapy (ST)\n 	Costrutti della ST nei Disturbi della Nutrizione e Ali
 mentazione\n 	Formulazione del caso nei Disturbi della Nutrizione e Alimen
 tazione (mappa dei mode)\n 	Spunti di intervento terapeutico con la ST nel
  trattamento dei Disturbi della Nutrizione e Alimentazione\n 	Role play ed
  esercitazione pratica in piccoli gruppi\n\n&nbsp\;\n\nMODALITÀ DI SVOLGI
 MENTO\nIl corso si svolgerà in modalità online attraverso la piattaforma
  ZOOM.Al termine verrà rilasciata attestazione ufficiale ISST\n\n\nCorso 
 rivolto a Specializzandi in Psicoterapia\, Psicologi abilitati alla Psicot
 erapia\, Medici Psicoterapeuti\, Medici Psichiatri e Medici Neuropsichiatr
 i Infantili\n\nNON SONO PREVISTI CREDITI ECM\n\n&nbsp\;\n\nQUOTE E MODALIT
 À DI ISCRIZIONE\n\n 	€ 50\,00 +iva (€ 61\,00) - quota agevolata riser
 vata agli iscritti alla IAST Community\n 	€ 70\,00 +iva (€ 85\,40) - q
 uota standard\n\n\nPer iscriversi è necessario compilare la scheda online
  che trova in fondo a questa pagina e versare contestualmente la quota di 
 partecipazione.Il versamento deve avvenire tramite bonifico bancario sul c
 onto intestato a:ITALIAN ACADEMY OF SCHEMA THERAPY srlIBAN IT20J0306903213
 100000016184BANCA INTESA SAN PAOLOcausale ”ST 31 gennaio 2025”\n\nIN C
 ASO DI RINUNCIA NON È PREVISTO IL RIMBORSO DELLA QUOTA DI PARTECIPAZIONE\
 n\nBROCHURE\n\nINFO: corsi@apc.it -&nbsp\; 3473566781
ATTACH;FMTTYPE=image/jpeg:https://apc.it/wp-content/uploads/2024/11/ONLINE
 _31-gennaio-2025_-ST-disturbi-alimentari.png
CATEGORIES:Corsi a pagamento,Corsi non ecm,Corsi Schema Therapy
END:VEVENT
END:VCALENDAR