BEGIN:VCALENDAR
VERSION:2.0
PRODID:-//wp-events-plugin.com//7.2.3.1//EN
BEGIN:VEVENT
UID:389@apc.it
DTSTART;VALUE=DATE:20250403
DTEND;VALUE=DATE:20250404
DTSTAMP:20250904T082054Z
URL:https://apc.it/lista-eventi/interventi-basati-sulla-mindfulness-2025/
SUMMARY:Interventi basati sulla Mindfulness 2025
DESCRIPTION:Corso ECM in presenza\nInterventi basati sulla Mindfulness 2025
 \n\nPer diventare\n\n\n\n 	Mindfulness Professional Trainer\n 	Istruttore 
 di Mindfulness based Stress Reduction\n 	Istruttore di Mindfulness based C
 ognitive Therapy\n\nSOLD OUT - Le iscrizioni per questo corso sono chiuse\
 , è già possibile iscriversi all'edizione 2026 del medesimo corso:\nCLIC
 CA QUI PER INFO E ISCRIZIONI EDIZIONE 2026\n&nbsp\;\nCorso riconosciuto da
 \nCertificazioni riconosciute da Federmindfulness\n\n   \nCorso organizzat
 o in collaborazione con\n\n&nbsp\;\n100 crediti ECM per l'anno 2025\n&nbsp
 \;\n\n\n\nCompreso nel costo del corso il libro dal titolo\n\nGli interven
 ti basati sulla mindfulness. Quali sono\, come agiscono\, quando utilizzar
 li – II edizione\n\nAutori: Alberto Chiesa e Cristiano Crescentini\n\nEd
 itore: Giovanni Fioriti Editore\n\n&nbsp\;\n\n&nbsp\;\nCorso composto da 4
  weekend di ritiro residenziale presso la Comunità Monastica Eremo di Mon
 te Giove\, Strada Comunale di Montegiove\, 61032 Fano (PU). www.eremomonte
 giove.it\nDate:\n\n\n 	giovedì 3 aprile 2025 ore 18 – domenica 6 aprile
  2025 ore 13\;\n 	giovedì 15 maggio 2025 ore 19 – domenica 18 maggio 20
 25 ore 13\;\n 	giovedì 11 settembre 2025 ore 19 – domenica 14 settembre
  2025 ore 13\;\n 	giovedì 23 ottobre 2025 ore 19 – domenica 26 ottobre 
 2025 ore 13.\n\n&nbsp\;\nChe cos’è la mindfulness e quali sono gli appr
 occi clinici che la utilizzano\nLa mindfulness può essere descritta come 
 “la consapevolezza che emerge dal prestare attenzione di proposito\, nel
  momento presente e in maniera non giudicante\, allo scorrere dell’esper
 ienza\, momento dopo momento” (Kabat-zinn\, 2003).\nLo sviluppo di tale 
 consapevolezza permette una crescente comprensione e una graduale riduzion
 e dei propri automatismi\, reattività e giudizi che limitano la possibili
 tà di approcciarsi alla vita con apertura\, curiosità e comprensione rec
 iproca e che\, in maniera concomitante\, possono essere causa di malessere
  fisico e psicologico.\nSebbene ad oggi esistano numerosi protocolli basat
 i sulla mindfulness\, solo pochi di essi sono stati sufficientemente studi
 ati e si sono dimostrati efficaci per una larga varietà di condizioni med
 iche e psicologiche. La Mindfulness Based Stress Reduction (MBSR) e la Min
 dfulness Based Cognitive Therapy (MBCT) sono due tra gli interventi basati
  sulla mindfulness più largamente utilizzati e di provata efficacia.\nL
 ’MBSR è stata ideata dal dottor Kabat-Zinn come veicolo per integrare l
 a meditazione buddista di consapevolezza con la moderna pratica medica e p
 sicologica. Il corso di MBSR è un intervento psicologico di gruppo della 
 durata di 8 settimane\, che impiega tecniche di meditazione e semplici ese
 rcizi di yoga per aiutare le persone con problemi legati allo stress o alt
 ri disturbi psico-fisici a essere più consapevoli delle proprie reattivit
 à e a relazionarsi ad esse in maniera più accogliente e meno giudicante.
 \nL’MBCT è un trattamento psicologico di gruppo della durata di 8 setti
 mane nato dall’integrazione della terapia cognitivo-comportamentale con 
 il programma di MBSR. Scopo dell’MBCT è quello di aiutare i pazienti co
 n disturbi psicologici\, in primo luogo i pazienti che soffrono o hanno so
 fferto di depressione\, a osservare in modo più equanime e meno giudicant
 e i propri contenuti mentali\, precedentemente scambiati per "la realtà"\
 , promuovendo lo sviluppo di una crescente flessibilità e fiducia nella p
 ossibilità di liberarsi dalle proprie narrative personali e di approcciar
 si alla vita con maggiore stabilità e apertura.\nA chi si rivolge il cors
 o\nIl corso si rivolge principalmente a psicologi e medici che vogliono in
 tegrare le proprie competenze personali e professionali con la pratica del
 la mindfulness. Il corso è comunque aperto anche ad altre professioni.\nA
 ttestati - Certificazioni\nTutti i partecipanti al corso di formazione ric
 everanno al termine dei 4 incontri residenziali gli open badge/certificazi
 oni (aperte a tutte le professioni):\n\n 	Mindfulness Basic Training\;\n 	
 Mindfulness Professional Trainer.\n\nAi corsisti che completeranno il perc
 orso formativo successivo (di seguito descritto)\, ma NON sono iscritti al
 l’albo degli psicoterapeuti verrà rilasciato un terzo open badge/certif
 icazione di MBSR Teacher Trainer (Istruttore di Mindfulness based Stress R
 eduction).\n\nAi corsisti che hanno conseguito l'abilitazione all'esercizi
 o della psicoterapia (psicoterapeuti e medici specialisti in psichiatria\,
  neuropsichiatria o neuropsichiatria infantile)\, che hanno completato il 
 corso di formazione (4 incontri residenziali) ma NON hanno ancora completa
 to il percorso formativo successivo (di seguito descritto)\, verrà ricono
 sciuto il titolo di “Istruttore di Mindfulness based Cognitive Therapy i
 n formazione”.\n\nAi corsisti che hanno conseguito l'abilitazione all'es
 ercizio della psicoterapia (psicoterapeuti e medici specialisti in psichia
 tria\, neuropsichiatria o neuropsichiatria infantile) e che completeranno 
 il percorso formativo successivo (di seguito descritto)\, verrà rilasciat
 o anche un quarto open badge/certificazione di MBCT Therapist (Istruttore 
 di Mindfulness based Cognitive Therapy).\n\nDescrizione percorso formativo
  successivo (facoltativo e non incluso nella quota di iscrizione):\n\nPer 
 ottenere la terza e la quarta certificazione di MBSR Teacher Trainer (aper
 ta a tutte le professioni) e di MBCT Therapist (aperta esclusivamente a ch
 i ha conseguito l'abilitazione all'esercizio della psicoterapia) il partec
 ipante\, in modo tale da vivere in prima persona come la pratica della min
 dfulness viene recepita da parte dell'utente e insegnata da un istruttore 
 esperto e da poter approfondire in vivo la propria esperienza e comprensio
 ne della mindfulness dopo il termine del corso\, dovrà dimostrare di:\n\n
  	aver partecipato ad un corso di MBSR o MBCT come cliente\;\n 	aver porta
 te a termine un corso di MBSR o MBCT sotto supervisione da parte dei docen
 ti (Dr. Chiesa e/o Dr.ssa Serrani) per un totale di almeno 4 ore di superv
 isione.\n\nI partecipanti che avranno completato proficuamente il percorso
  di formazione saranno inseriti:\n\n 	Nell’Albo Nazionale Mindfulness di
  Federmindfulness\, consultabile a questo link: https://www.albonazionalem
 indfulness.it/ \;\n 	In un elenco nazionale di persone riconosciute dalle 
 Scuole di Specializzazione in Psicoterapia Cognitiva a proporre in maniera
  competente ed efficace i protocolli di interventi basati sulla mindfulnes
 s col titolo di "Istruttore di interventi basati sulla mindfulness in form
 azione" o di "Istruttore di interventi basati sulla mindfulness"\, secondo
  la qualifica raggiunta\, consultabile a questo link: https://apc.it/servi
 zi-clinici/cbt-terza-ondata/mindfulness/elenco-degli-istruttori/&nbsp\;\n\
 nRiassumendo i livelli di certificazione sono quattro:\n\n 	Mindfulness Ba
 sic Training - per tutte le professioni\, per chi completa il corso con i 
 4 incontri residenziali\;\n 	Mindfulness Professional Trainer - per tutte 
 le professioni\, per chi completa il corso con i 4 incontri residenziali\;
 \n 	MBSR Teacher Trainer - per tutte le professioni\, per chi completa il 
 corso con i 4 incontri residenziali e completa il percorso formativo succe
 ssivo (corso MBSR come cliente + supervisioni)\;\n 	MBCT Therapist - &nbsp
 \;esclusivamente per chi ha conseguito l'abilitazione all'esercizio della 
 psicoterapia\, per chi completa il corso con i 4 incontri residenziali e c
 ompleta il percorso formativo successivo (corso MBCT come cliente + superv
 isioni).\n\nGli obiettivi del corso\nGli obiettivi del corso si articolano
  su tre livelli.\nA un livello di base\, il fine è quello di fornire sia 
 le abilità per poter proporre in modo competente le pratiche di MBSR e MB
 CT\, sia una conoscenza e comprensione critica della letteratura scientifi
 ca disponibile sul campo degli interventi basati sulla mindfulness.\nAd un
  secondo livello\, l’obiettivo del corso è quello di lavorare sul carat
 tere dei futuri istruttori attraverso un percorso esperienziale\, in manie
 ra tale che possano incarnare nella propria persona quelle qualità di equ
 animità\, accettazione\, compassione\, pazienza e saggezza che rappresent
 ano il cuore della pratica della mindfulness.\nA un livello ancora più pr
 ofondo\, il corso ha lo scopo di creare uno spazio che permetta ai futuri 
 istruttori di prendere contatto e lavorare sulla propria sofferenza e di r
 endersi conto di come essa sia una componente intrinseca della condizione 
 umana che non può essere evitata ma piuttosto accolta a trasformata.\nImp
 egno richiesto ai partecipanti\nAll’istruttore in formazione verrà rich
 iesto di impegnarsi nelle seguenti aree:\n- una pratica personale di mindf
 ulness per almeno 30-45 minuti al giorno\, la stessa pratica che sarà ric
 hiesta ai propri clienti o pazienti\, così che l’istruttore non richied
 a in futuro ai propri assistititi nulla di più di quello che lui stesso 
 è disposto a fare\n- approfondire\, attraverso i testi proposti\, i proto
 colli degli interventi basati sulla mindfulness e i fondamenti storici e t
 eorici del concetto di mindfulness\, traslato dalle antiche pratiche conte
 mplative orientali nella moderna pratica clinica occidentale\n- la disponi
 bilità ad un maggiore contatto con sè stesso e con le proprie vulnerabil
 ità\, al fine di riconoscere in sé quelle caratteristiche fondamentali c
 omuni a tutti gli esseri umani.\nLibro incluso nel corso\n\n\n\nGli iscrit
 ti al corso riceveranno il libro dal titolo:\n\nGli interventi basati sull
 a mindfulness. Quali sono\, come agiscono\, quando utilizzarli – II ediz
 ione\n\nAutori: Alberto Chiesa e Cristiano Crescentini\n\nGiovanni Fioriti
  Editore\n&nbsp\;\nLa struttura del corso\nIl corso si svilupperà attrave
 rso un formato di ritiro residenziale. Il ritiro silenzioso residenziale h
 a lo scopo di permettere il contatto profondo con sè stessi e l’approfo
 ndimento della pratica personale di mindfulness in un contesto adeguato e 
 accogliente. Durante i ritiri si terranno anche lezioni frontali aventi lo
  scopo di permettere un approfondimento della teoria e delle evidenze scie
 ntifiche riguardanti l’efficacia\, i limiti e i meccanismi d’azione de
 gli interventi basati sulla mindfulness.\nLe principali caratteristiche de
 lle diverse sessioni sono elencate di seguito. Tuttavia\, poiché la mindf
 ulness è più un’esperienza da scoprire e attraversare che un concetto 
 da comprendere e incasellare\, è qui fornita soltanto una generale descri
 zione delle pratiche e delle tematiche che saranno affrontate nelle divers
 e sessioni\, in maniera tale da permettere agli allievi di avvicinarsi a q
 uesto corso senza un eccessivo bagaglio di preconcetti che possano limitar
 e la propria esperienza e comprensione della mindfulness. Durata totale de
 l corso: n° 100 ore.\n\nPrima sessione – Ritiro (giovedì 3 aprile 2025
  ore 18 – domenica 6 aprile 2025 ore 13)\n(durata 25 ore così suddivise
 : giovedì 1 ora\, venerdì e sabato 10 ore\, domenica 4 ore)\nIn questi g
 iorni gli allievi potranno vivere su di sé l’esperienza diretta della m
 indfulness in un contesto di ritiro che favorisce la possibilità di prend
 ere contatto con i propri automatismi e le proprie reattività.\nInoltre\,
  gli allievi inizieranno a praticare su di sé i principali esercizi di mi
 ndfulness\, che\nincluderanno\, tra gli altri\, lo yoga consapevole e le d
 iverse forme di meditazione seduta. Parte del ritiro sarà dedicato all’
 esplorazione della psicologia buddista da cui i moderni interventi basati 
 sulla mindfulness originariamente derivano. Verranno infine proposte delle
  letture volte a sviluppare la comprensione e le qualità caratteristiche 
 delle pratiche di mindfulness.\n\nSeconda sessione – Ritiro (giovedì 15
  maggio 2025 ore 18 – domenica 18 maggio 2025 ore 13)\n(durata 25 ore co
 sì suddivise: giovedì 1 ora\, venerdì e sabato 10 ore\, domenica 4 ore)
 \nNell’arco di queste giornate verranno riprese e approfondite le pratic
 he proposte nella sessione precedente. Inoltre\, saranno esposti i princip
 i del concetto di mindfulness secondo la psicologia moderna e verrà prese
 ntato il protocollo di MBSR. Verranno anche proposti articoli di approfond
 imento e libri da leggere riguardanti il protocollo di MBSR. Durante quest
 a sessione gli allievi avranno modo di iniziare a condurre le pratiche di 
 mindfulness sotto supervisione.\n\nTerza sessione – Ritiro (giovedì 11 
 settembre 2025 ore 18 – domenica 14 settembre 2025 ore 13)\n(durata 25 o
 re così suddivise: giovedì 1 ora\, venerdì e sabato 10 ore\, domenica 4
  ore)\nIn aggiunta alle pratiche formali\, in questa sessione verrà concl
 usa la descrizione del protocollo MBSR e presentato il protocollo di MBCT.
  Inoltre\, verranno trattate le evidenze scientifiche attualmente disponib
 ili riguardanti l’efficacia\, i limiti e i meccanismi psicologici e neur
 obiologici degli interventi basati sulla mindfulness. Verranno proposti li
 bri da leggere riguardanti il protocollo di MBCT e le evidenze scientifich
 e sulle pratiche di mindfulness. Durante questa sessione gli allievi avran
 no modo di approfondire la conduzione delle pratiche di mindfulness sotto 
 supervisione.\n\nQuarta sessione – Ritiro (giovedì 23 ottobre 2025 ore 
 18 – domenica 26 ottobre 2025 ore 13)\n(durata 25 ore così suddivise: g
 iovedì 1 ora\, venerdì e sabato 10 ore\, domenica 4 ore)\nIn questo inco
 ntro sarà ulteriormente approfondita la pratica della mindfulness così c
 ome viene proposta nei protocolli di MBSR e MBCT. Saranno inoltre spiegati
  i fondamenti teorici e pratici della conduzione dell'inquiry\, la modalit
 à di condivisione specifica dei protocolli di mindfulness attraverso cui 
 l'istruttore esplora l'esperienza soggettiva dei partecipanti e li aiuta e
  a favorire un processo di indagine curiosa e non giudicante delle proprie
  esperienze interiori. I partecipanti avranno inoltre modo di approfondire
  la conduzione delle diverse pratiche di mindfulness sotto supervisione. E
 same finale (consistente nella conduzione di pratiche di mindfulness e una
  prova scritta volta a verificare l’apprendimento dei fondamenti delle p
 ratiche di mindfulness). Ultime raccomandazioni e conclusione.\n\nN.B. L
 ’orario di arrivo per l'assegnazione delle camere\, salvo eccezioni\, è
  previsto dalle ore 15.00 alle 18.00\n\n&nbsp\;\nNumero chiuso\nPer dedica
 re maggiore attenzione ad ogni singolo partecipante\, il corso sarà apert
 o a un numero massimo di 20 allievi per anno. Inoltre\, sebbene non costit
 uisca una caratteristica vincolante\, verrà data priorità a coloro che h
 anno già sviluppato una propria pratica personale di meditazione (attrave
 rso la frequentazione di centri specialistici\, di ritiri o di precedenti 
 corsi)\, con particolare enfasi sulle pratiche di consapevolezza (Vipassan
 a\, Zen\, pratiche di meditazione Tibetana)\nSede del corso\nI ritiri resi
 denziali si svolgeranno presso la Comunità Monastica Eremo di Monte Giove
 \, Strada Comunale di Montegiove\, 61032 Fano (PU). www.eremomontegiove.it
 \nCosti\nIl costo totale del corso\, comprensivo di vitto e alloggio\, sar
 à così suddiviso:\n\n➢ SOLD OUT (SONO ESAURITI I POSTI IN camera “CO
 MFORT”) - € 2.900\,00 (iva compresa) per alloggi in camere “COMFORT
 ” con bagno privato (poiché sono disponibili solo 13 camere comfort\, l
 'assegnazione avverrà in base all'arrivo cronologico delle iscrizioni con
  relativo versamento dell'acconto)\;\n\n➢ SOLD OUT (SONO ESAURITI I POST
 I IN camera “STANDARD”) € 2.600\,00(iva compresa) per alloggi in cam
 ere “STANDARD” con bagno in comune (numero camere standard disponibili
  6).\n\nN.B. La quota di iscrizione comprende il libro dal titolo “Gli i
 nterventi basati sulla mindfulness. Quali sono\, come agiscono\, quando ut
 ilizzarli – II edizione” – Giovanni Fioriti Editore\nModalità di is
 crizione e pagamento\nSOLD OUT - Le iscrizioni per questo corso sono chius
 e\, è già possibile iscriversi all'edizione 2026 del medesimo corso:\n\n
 CLICCA QUI PER INFO E ISCRIZIONI EDIZIONE 2026\n\n&nbsp\;\n\nChi desidera 
 iscriversi dovrà compilare la scheda on line in fondo a questa pagina e v
 ersare contestualmente l’acconto di € 500\,00 (iva compresa).Dopo aver
  ricevuto conferma dell'attivazione al corso\, sarà possibile versare il 
 saldo della propria quota di partecipazione.Il saldo della quota di partec
 ipazione può essere versato interamente entro il 27/03/2025\, oppure può
  essere suddiviso nella seguente modalità:\n\n➢ Per la quota di € 2.9
 00\,00 il saldo sarà il seguente:- € 1.200\,00 da versare entro il 27/0
 3/2025\;- € 1.200\,00 da versare entro il 10/09/2025.\n\n➢ Per la quot
 a di € 2.600\,00 il saldo sarà il seguente:- € 1.050\,00 da versare e
 ntro il 27/03/2025\;- € 1.050\,00 da versare entro il 10/09/2025.\n\nI v
 ersamenti devono avvenire tramite bonifico bancario sul conto intestato a:
 ISTITUTO GABRIELE BUCCOLA SCUOLA DI PSICOTERAPIA S.R.L.BANCA POPOLARE DELL
 ’EMILIA ROMAGNAIBAN IT07V0538703202000001682252specificando nella causal
 e “Mindfulness 2025”\n\nQualora non fosse raggiunto il numero minimo d
 i attivazione si provvederà alla restituzione dell'acconto versato.\n\nGl
 i iscritti che invieranno le comunicazioni di disdetta entro il 01/02/2025
  avranno diritto al rimborso del 50% dell'importo versato. Oltre tale term
 ine non sarà previsto alcun rimborso. In caso di interruzione durante lo 
 svolgimento del corso tutte le quote versate non saranno rimborsate\nDocen
 ti e istruttori\nDr. Alberto ChiesaPsichiatra\, psicoterapeuta e istruttor
 e di Mindfulness based Stress Reduction e Mindfulness based Cognitive Ther
 apy. Ha collaborato per anni con il Dipartimento di Scienze Biomediche e N
 euromotorie dell’Università di Bologna con cui ha condotto numerose ric
 erche volte ad investigare gli effetti clinici delle pratiche di mindfulne
 ss sul benessere psicofisico in persone con problematiche legate allo stre
 ss e con disturbi psicologici\, come ansia e depressione. È autore di olt
 re 100 pubblicazioni scientifiche\, che includono articoli scientifici e p
 resentazioni orali presso convegni nazionali e internazionali\, molte dell
 e quali inerenti il campo della mindfulness\, e del libro “Gliinterventi
  basati sulla Mindfulness: cosa sono\, come agiscono\, quando utilizzarli
 ”. Dal 2012 è docente presso l'Associazione di Psicologia Cognitiva e l
 a Scuola di Psicoterapia Cognitiva ed è editor della rivista scientifica 
 "Mindfulness". Ha collaborato con i fondatori del programma di Terapia Cog
 nitiva basata sulla Mindfulness\, Williams\, Segal e Teasdale\, al perfezi
 onamento delle linee guida internazionali dei programmi di formazione per 
 istruttori di mindfulness. Co-fondatore dell'Istituto Mente e Corpo\n\nDr.
 ssa Francesca Micaela SerraniPsicologa\, psicoterapeuta e istruttrice di M
 BSR e MBCT. Docente presso la Scuola di Psicoterapia Cognitiva e presso l
 ’Università di Bologna. Lavora come psicoterapeuta presso il centro cli
 nico della Scuola di Psicoterapia Cognitiva di Ancona e presso il Centro M
 edico Arcadia di Fano. Conduce gruppi con protocolli basati sulla mindfuln
 ess con pazienti con disturbi di asse 1 e asse 2.\nCrediti ECM\nÈ previst
 o l’accreditamento di 100 crediti ECM per l'anno 2025 per le seguenti ca
 tegorie professionali:• Psicologi iscritti all’Ordine• Psicologi abi
 litati alla Psicoterapia• Medici Psichiatri• Medici Neuropsichiatri In
 fantili• Medici Psicoterapeuti\n\nRESPONSABILE SCIENTIFICO:\n\nDott. Alb
 erto Chiesa - e-mail: chiesa@scuola-spc.it\n\nSEGRETERIA ORGANIZZATIVA \n\
 nSPC s.r.l. – Provider ECM Standard ID 3958\n\nINFO:\n\nTel: 3473566781 
 - Email: iscrizioniworkshop@apc.it\n\n\nBROCHURE
ATTACH;FMTTYPE=image/jpeg:https://apc.it/wp-content/uploads/2024/04/DEF_Lo
 candina-mindfulness-2025_page-0001.jpg
CATEGORIES:Corsi a pagamento,Corsi ecm
END:VEVENT
END:VCALENDAR