BEGIN:VCALENDAR
VERSION:2.0
PRODID:-//wp-events-plugin.com//7.2.3.1//EN
BEGIN:VEVENT
UID:360@apc.it
DTSTART:20241004T120000Z
DTEND:20241004T183000Z
DTSTAMP:20231124T131542Z
URL:https://apc.it/lista-eventi/il-rischio-suicidario-valutazione-e-tratta
 mento-in-situazioni-traumatiche/
SUMMARY:IL RISCHIO SUICIDARIO: valutazione e trattamento in situazioni trau
 matiche
DESCRIPTION:Corso ECM Online\n\nIL RISCHIO SUICIDARIO\n\n Valutazione e tra
 ttamento in situazioni traumatiche\n\n4 ottobre 2024\nore 12.00-18.30\n&nb
 sp\;\nProf. Ennio Ammendola\nIl Corso si terrà ONLINE su piattaforma ZOOM
  in diretta\n9 crediti ECM in FAD Sincrona: è possibile partecipare solam
 ente in diretta\n\nInfo: www.apc.it - corsi@apc.it - Tel e Whatsapp 347356
 6781\n\n\n\n\nCORSO RIVOLTO A:\n\nSpecializzandi in Psicoterapia\, Psicolo
 gi abilitati alla Psicoterapia\, Medici Psicoterapeuti\, Medici Psichiatri
  e Medici Neuropsichiatri Infantili.\nCREDITI ECM:\n\n\nÈ previsto l’ac
 creditamento di 9 crediti ECM in FAD SINCRONA\n\nMODALITA' DI PARTECIPAZIO
 NE:\nIl corso si svolgerà in modalità online su piattaforma ZOOM. Sarà 
 possibile partecipare al corso esclusivamente in diretta.\nQUOTE E MODALIT
 À DI ISCRIZIONE\n\n 	€ 120\,00 +iva (totale € 146\,40) Quota agevolat
 a per iscrizioni entro il 04/09/2024\;\n 	€ 150\,00 +iva (totale € 183
 \,00) Quota standard per iscrizioni successive al 04/09/2024.\n\n&nbsp\;\n
 \nIN CASO DI RINUNCIA NON È PREVISTO IL RIMBORSO DELLA QUOTA DI PARTECIPA
 ZIONE\n\nÈ possibile pagare la quota di iscrizione in un'unica soluzione 
 con Bonifico Bancario\, Carta di Credito o PayPal.\n\nCLICCA QUI PER ISCRI
 VERTI AL CORSO\n\nN.B. Le iscrizioni vengono prese sulla nostra nuova piat
 taforma di erogazione corsi (https://eventi.apc.it/)\, se non sei ancora r
 egistrato alla nuova piattaforma dovrai registrarti con i tuoi dati e poi 
 procedere all’iscrizione e al pagamento del corso.\n\nPer info: corsi@ap
 c.it – Tel e Whatsapp: 3473566781\nSegreteria Organizzativa e Provider E
 CM: \nSPC s.r.l. – Provider ECM Standard ID 3958 - Viale Castro Pretorio
 \, 116 - Roma\nBROCHURE
ATTACH;FMTTYPE=image/jpeg:https://apc.it/wp-content/uploads/2023/11/AMMEND
 OLA-2024.png
CATEGORIES:Corsi a pagamento,Corsi ecm
END:VEVENT
END:VCALENDAR