BEGIN:VCALENDAR
VERSION:2.0
PRODID:-//wp-events-plugin.com//7.2.3.1//EN
BEGIN:VEVENT
UID:119@apc.it
DTSTART:20210605T160000Z
DTEND:20210606T200000Z
DTSTAMP:20210203T113224Z
URL:https://apc.it/lista-eventi/il-perfezionismo-un-approccio-relazionale-
 alla-comprensione-alla-valutazione-e-al-trattamento/
SUMMARY:Il perfezionismo: un approccio relazionale alla comprensione\, alla
  valutazione e al trattamento
DESCRIPTION:\nIl perfezionismo: un approccio relazionale alla comprensione\
 , alla valutazione e al trattamento\nper iscriverti clicca qui\n\nPaul Hew
 itt\n\n5-6 giugno 2021\norario 16.00-20.00\nINTRODUZIONE\n\n\nIl corso off
 re una panoramica sul perfezionismo\, un costrutto disfunzionale di perso
 nalità\, multidimensionale e multi-livello\, che incrementa la vulnerabil
 ità della persona verso svariate forme di sofferenza psicologica\, ma anc
 he verso problemi di ordine medico\, relazionali e inerenti la propria rea
 lizzazione. \n\nI partecipanti verranno introdotti al modello dinamico-r
 elazionale del perfezionismo e al suo trattamento\, frutto di oltre tren
 t’anni di ricerca e di lavoro clinico. Il modello si fonda su principi 
 psicodinamici e interpersonali e durante il corso verrà fatto riferimento
  alla letteratura scientifica che lo supporta.\n\nVerrà illustrato l’
 approccio dinamico-relazionale al trattamento del perfezionismo\, sia nel 
 format della psicoterapia individuale che in quella di gruppo.\n\nL’o
 biettivo principale del corso è quello di illustrare un approccio struttu
 rato alla concettualizzazione del caso e all’intervento evidence-based
  su di esso.\n\nLa struttura del corso\, articolata in due giornate\,  
 è stata pensata per valorizzare la ricchezza della concettualizzazione (I
  giorno) e delle strategie terapeutiche (II giorno) sviluppate da Paul Hew
 itt.\nCONTENUTI\n\n\n 	Introduzione al perfezionismo\n 	Evidenze sulla ril
 evanza clinica del perfezionismo\n 	Il Modello Comprensivo del Comportamen
 to Perfezionistico\n 	Il Modello della Disconnessione Sociale del Perfezio
 nismo\n 	Assessment e pianificazione del trattamento\n 	Psicoterapia indiv
 iduale del perfezionismo\n 	Psicoterapia di gruppo del perfezionismo\n\nOB
 IETTIVI\n\n\n 	Conoscere e comprendere il modello comprensivo del perfezio
 nismo\n 	Conoscere e comprendere il modello della disconnessione sociale\n
  	Conoscere e saper utilizzare il modello di concettualizzazione del caso 
 che guida il trattamento\, basato su teorie dell’attaccamento\, interper
 sonali e psicodinamiche\n 	Conoscere e saper utilizzare l’approccio al t
 rattamento\, sia nel format individuale che in quello di gruppo\n\nDOCENTE
 \n\n\n\n\nPaul L. Hewitt è psicologo clinico e professore presso il Dipa
 rtimento di Psicologia della University of British Columbia\, in Canada. D
 a oltre trent’anni si occupa di perfezionismo. \n\nÈ stato recentement
 e citato tra i migliori dieci professori di psicologia clinica del Canada 
 per la sua produttività nella ricerca. Ha pubblicato più di trecento tra
  articoli di ricerca\, libri\, e capitoli.\n\nLa traduzione italiana del s
 uo manuale è stata pubblicata da Giovanni Fioriti Editore.\n\n\nORGANIZZ
 ATORE\n\nIl corso è organizzato da  Tages Onlus e Scuole di Specializz
 azione in Psicoterapia Cognitiva APC-SPC.\n\n\n  \n\nCORSO\n\n\nIl corso
  si svolge nei giorni 5  e 6 giugno 2021 dalle 16 alle 20\, in modalit
 à Webinar (in diretta).\n\nPossono iscriversi psicologi e medici specia
 lizzati o specializzandi in psichiatria o neuropsichiatria.\n\nLe iscrizio
 ni sono aperte fino al 4 giugno 2021 alle ore 12.\n\nSono stati richiesti
  9 crediti ECM.\n\nAl termine del corso verrà rilasciato l’attestato d
 i partecipazione.\n\nÈ prevista la traduzione simultanea dall’inglese
  all’italiano (è possibile scegliere quale canale audio seguire). \n\n
 Importo 200\,00 Euro.\n\n\n\n\n\n\nper iscriverti clicca qui
ATTACH;FMTTYPE=image/jpeg:https://apc.it/wp-content/uploads/2021/02/presen
 tazione-il-perfezionismo-5-6-giugno-2021.jpg
CATEGORIES:Corsi a pagamento,Corsi ecm
END:VEVENT
END:VCALENDAR