BEGIN:VCALENDAR
VERSION:2.0
PRODID:-//wp-events-plugin.com//7.2.3.1//EN
BEGIN:VEVENT
UID:377@apc.it
DTSTART:20240621T000000Z
DTEND:20240622T000000Z
DTSTAMP:20240228T112509Z
URL:https://apc.it/lista-eventi/il-modello-evidence-based-dbt-ptsd-per-il-
 trattamento-del-ptsd-complesso/
SUMMARY:Il Modello Evidence Based DBT-PTSD per il Trattamento del PTSD Comp
 lesso
DESCRIPTION:Corso ECM in presenza\n\n\nIL MODELLO EVIDENCE BASED DBT-PTSD P
 ER IL TRATTAMENTO DEL PTSD COMPLESSO\nLECCE\, 21-22 giugno 2024\n Prof. Ma
 rtin Bohus\nIl Corso si svolgerà il 21 giugno 2024 dalle 14.30 alle 19.30
  ed il 22 giugno 2024 dalle 09.00 alle 12.00 esclusivamente in presenza pr
 esso la Sala Conferenze Rettorato dell’Università del Salento - Piazza 
 Tancredi n° 7 – 73100 – Lecce.\n7 crediti ECM \nInfo: corsi@apc.it - 
 Tel e Whatsapp 3473566781\nPRESENTAZIONE:\nCon l’ultima revisione dell
 ’ICD 11\, il disturbo post-traumatico da stress complesso è diventata u
 na diagnosi indipendente che descrive un’ampia gamma di sintomi. Oltre a
 i tipici problemi della memoria legati al trauma (intrusioni\, flashback\,
  incubi)\, la maggior parte delle persone soffre anche di problemi di rego
 lazione delle emozioni\, ha difficoltà nell’area della cooperazione int
 erpersonale e della rappresentazione di sé. Dal punto di vista eziologico
 \, la ripetuta e grave traumatizzazione\, spesso avvenuta durante l’infa
 nzia e l’adolescenza\, gioca un ruolo importante.\nIl Prof. M. Bohus ha 
 sviluppato DBT-PTSD che è un programma di trattamento specifico per quest
 i pazienti che soffrono delle conseguenze della violenza interpersonale (s
 essuale e/o fisica) nell’infanzia e nell’adolescenza. Studi controllat
 i e randomizzati ne hanno dimostrato un’efficacia molto elevata (effect 
 size intorno a 1\,4) e buona accettazione da parte dei pazienti. Tale tera
 pia è proposta come programma intensivo di 12 settimane in regime di rico
 vero o come programma di terapia individuale puramente ambulatoriale di 45
  sessioni.\nLa DBT-PTSD è un programma terapeutico multimodulare che inte
 gra componenti della Terapia Dialettica Comportamentale (DBT)\, della Tera
 pia Cognitiva Comportamentale (CBT)\, della Terapia ACT (Acceptance and Co
 mmitment Therapy) e della Terapia Focalizzata sulla Compassione (CFT).\nLa
  DBT-PTSD è attualmente raccomandata nelle linee guida tedesche per il di
 sturbo post-traumatico da stress ed è ampiamente utilizzata a livello int
 ernazionale.\nIl seminario fornisce una solida introduzione alla fenomenol
 ogia del PTSD complesso e al modello di disturbo corrispondente. Inoltre t
 rasmette i principi di base\, le regole e le strutture del programma\, non
 ché gli interventi più importanti. La gamma di interventi spazia dalla p
 sicoeducazione all’insegnamento di abilità specifiche\, all’esposizio
 ne “in-sensu” alle tecniche immaginative per migliorare l’autocompas
 sione e al miglioramento delle capacità di risoluzione dei problemi.\nPRO
 GRAMMA:\nVenerdì 21 giugno 2024 - ore 14.30-19.30\n\n\n 	14.30 - 16.00 Ch
 e cos’è il PTSD complesso?\n 	16.00 - 16.20 Pausa\n 	16.20 - 17.30 Come
  si cura il PTSD complesso?\n 	17.30 - 17.50 Pausa\n 	17.50 - 19.30 Strutt
 ura della DBT-PTSD\n\nSabato 22 giugno 2024 - ore 9.00-12.00\n\n\n 	9.00 -
  10.00 DBT-PTSD: Phase 1\n 	10.00 - 10.15 Pausa\n 	10.15 - 11.15 DBT – P
 TBS: Esposizione\n 	11.15 – 12.00 DBT – PTBS: La vita dopo il trauma\n
 \nÈ prevista la traduzione consecutiva in italiano\n\nDOCENTE:\n\n\nPROF.
  MARTIN BOHUS\nMartin Bohus\, MD\, ha conseguito la specializzazione in Ps
 ichiatria e in Medicina psicosomatica. Dal 2003 al 2021 è stato titolare 
 della cattedra di Medicina Psicosomatica e Psicoterapia all’Università 
 di Heidelberg e direttore scientifico dell’Istituto Centrale di Salute M
 entale (Mannheim). Attualmente è titolare di una borsa di studio di ricer
 ca senior presso la Ruhr University Bochum ed è visiting professor presso
  l’Università di Anversa e la Harvard Medical School.\nIl Prof. Bohus h
 a ricevuto vari premi per la ricerca in psicoterapia. È stato presidente 
 della Società Europea per lo Studio dei Disturbi di Personalità (ESSPD) 
 e presidente dell’Associazione tedesca per la DBT. È stato presidente e
  promotore del Primo Congresso Internazionale sul Disturbo Borderline di P
 ersonalità a Berlino nel 2010. E’ il fondatore della rivista leader mon
 diale sul disturbo borderline di personalità (BPDED).\nIl Prof. Bohus ha 
 attualmente pubblicato oltre 450 tra paper e libri\, principalmente sulla 
 psicopatologia e sullo sviluppo del trattamento del Disturbo Borderline di
  Personalità e del PTSD.\nCORSO RIVOLTO A:\n\nSpecializzandi in Psicotera
 pia\, Psicologi abilitati alla Psicoterapia\, Medici Psicoterapeuti\, Medi
 ci Psichiatri e Medici Neuropsichiatri Infantili.\nCREDITI ECM:\n\n\nÈ pr
 evisto l’accreditamento di 7 crediti ECM\n\n\nMODALITA' DI PARTECIPAZION
 E:\n\nIl Corso si svolgerà il 21 giugno 2024 dalle 14.30 alle 19.30 ed il
  22 giugno 2024 dalle 09.00 alle 12.00 esclusivamente in presenza presso l
 a Sala Conferenze Rettorato dell’Università del Salento - Piazza Tancre
 di n° 7 – 73100 – Lecce.\n\n&nbsp\;\n\nQUOTE E MODALITÀ DI ISCRIZION
 E\n\n 	€ 50\,00 +iva (totale € 61\,00) Quota agevolata per iscrizioni 
 entro il 01/05/2024\;\n 	€ 65\,00 +iva (totale € 79\,30) Quota standar
 d per iscrizioni dal 02/05/2024 al 10/06/2024.\n\n&nbsp\;\n\nIN CASO DI RI
 NUNCIA NON È PREVISTO IL RIMBORSO DELLA QUOTA DI PARTECIPAZIONE\n\nÈ pos
 sibile pagare la quota di iscrizione in un'unica soluzione con Bonifico Ba
 ncario\, Carta di Credito o PayPal.\n\nCLICCA QUI PER ISCRIVERTI AL CORSO\
 n\nN.B. Le iscrizioni vengono prese sulla nostra nuova piattaforma di erog
 azione corsi (https://eventi.apc.it/)\, se non sei ancora registrato alla 
 nuova piattaforma dovrai registrarti con i tuoi dati e poi procedere all
 ’iscrizione e al pagamento del corso.\n\nPer info: corsi@apc.it – Tel 
 e WhatsApp: 3473566781\nSegreteria Organizzativa e Provider ECM: \nSPC s.r
 .l. – Provider ECM Standard ID 3958 - Viale Castro Pretorio\, 116 - Roma
 \nBROCHURE
ATTACH;FMTTYPE=image/jpeg:https://apc.it/wp-content/uploads/2024/02/locand
 ina-Bohus-DBT-PTSD-LECCE-21-22-giugno-2024-1.png
CATEGORIES:Corsi a pagamento,Corsi ecm
END:VEVENT
END:VCALENDAR