BEGIN:VCALENDAR
VERSION:2.0
PRODID:-//wp-events-plugin.com//7.2.3.1//EN
BEGIN:VEVENT
UID:144@apc.it
DTSTART;VALUE=DATE:20211112
DTEND;VALUE=DATE:20211114
DTSTAMP:20211107T074307Z
URL:https://apc.it/lista-eventi/il-manuale-del-terapeuta-act-2/
SUMMARY:IL MANUALE DEL TERAPEUTA ACT
DESCRIPTION:\nIL MANUALE DEL TERAPEUTA ACT\nEmanuele Rossi\n\n12-13 novembr
 e 2021\norario 9.00-18.00\n\nPRESENTAZIONE\nL’Acceptance and Commitment 
 Therapy (ACT)&nbsp\;è un’efficace psicoterapia che fa parte di quella c
 he viene definita la “terza onda” della Terapia Cognitivo Comportament
 ale. Tale approccio terapeutico è basato su un innovativo modello del lin
 guaggio e della cognizione umana\, la Relational Frame Theory (RFT) ed è 
 articolato in sei processi fondamentali: accettazione\, defusione\, sé co
 me contesto\, contatto con il momento presente\, valori e azione impegnata
 . L’ACT è una terapia pratica ed esperienziale\, che si pone come obiet
 tivo quello di aumentare la flessibilità psicologica e di aiutare i clien
 ti a costruirsi una vita ricca\, piena e significativa.\nMODALITÀ DIDATT
 ICA:&nbsp\;Lezione frontale\; Impiego di filmati clinici esemplificativi i
 n lingua originale\; Esercizi esperienziali\; Role playing.\n\nDOCENTE\nDr
 . Emanuele Rossi\nPsicologo e psicoterapeuta libero professionista.\nTrain
 er riconosciuto ACT\, ricercatore\, formatore e supervisore ACT e RFT. Doc
 ente\, didatta e supervisore Scuola di Psicoterapia Cognitiva Srl. Chair d
 el Communication Committee dell’Association for Contextual Behavioral Sc
 ience. Membro ACT Italia. Socio SITCC. Ha curato l’edizione italiana di 
 Learning ACT\, Learning RFT\, ACT for Adolescents\,Process-Based CBT e ACT
  Advanced.\n\nPROGRAMMA\nVenerdì 12 novembre 2021 ore 09\,00-13\,00 / 14\
 ,00-18\,00\n• Introduzione\n• La teoria dietro l’ACT\n• Elementi t
 eorici di RFT\n• L’esagono della flessibilità psicologica\n• La con
 cettualizzazione breve del caso ACT\n\n 	Disperazione creativa\n 	Comprend
 ere la disperazione creativa\n 	Interventi di disperazione creativa con i 
 clienti\n 	Disperazione creativa: esercizi e metafore\n 	Defusione\n 	Comp
 rendere la fusione cognitiva\n 	Interventi di defusione con i clienti\n 	D
 efusione: esercizi e metafore\n 	Stabilire “homework” di defusione\n\n
 • Accettazione\n• Comprendere l’accettazione\n• Interventi di acce
 ttazione con i clienti\n• Metafore e esercizi utili per l’accettazione
 \n• Stabilire “homework” di accettazione\n\nSabato 13 novembre 2021 
 ore 09\,00-13\,00 / 14\,00-18\,00\n\n 	Contatto con il momento presente\n 
 	Comprendere il momento presente\n 	Esercizi formali di mindfulness\n 	Min
 dfulness informale con i clienti\n 	Stabilire “homework” di contatto c
 on il momento presente\n\n\n 	Sé-come-contesto\n 	Comprendere il Sé-come
 -contesto\n 	Iniziare il lavoro sul Sé-come-contesto con i clienti\n 	Int
 erventi sul Sé-come-contesto con i clienti\n 	Metafore e esercizi utili p
 er il Sé-come-contesto\n 	Stabilire “homework” relativi al Sé-come-c
 ontesto\n 	Valori\n 	Comprendere i valori\n 	La scoperta dei valori da par
 te dei clienti\n 	Come i valori uniscono obiettivi ed azioni\n 	Interventi
  sui valori con i clienti\n 	Valori: metafore e esercizi\n 	Stabilire “h
 omework” sui valori\n 	Azione impegnata\n 	Comprendere l’azione impegn
 ata\n 	Interventi sull’azione impegnata con i clienti\n 	Barriere e resi
 stenze all’azione impegnata\n 	Stabilire “homework” di azione impegn
 ata\n 	Mettere tutto insieme\n 	Lavorare simultaneamente su tutti i proces
 si di\nflessibilità psicologica\n 	Pianificare interventi ACT per increme
 ntare la\nflessibilità psicologica\n 	Promuovere pratiche di vita dinamic
 he\, piene e\nsignificative\n\nMODALITÀ DI SVOLGIMENTO\nIl corso si svolg
 erà in modalità online attraverso la piattaforma ZOOM.\nAl termine del c
 orso verrà rilasciato un attestato di partecipazione.\n\n\nCorso rivolto 
 a Specializzandi in Psicoterapia\, Psicologi abilitati alla Psicoterapia\,
  Medici Psicoterapeuti\, Medici Psichiatri e Medici Neuropsichiatri Infant
 ili\n\n\n\nÈ PREVISTO L’ACCREDITAMENTO DI 24 CREDITI ECM\nN.B. Per l’
 attribuzione dei crediti è richiesta la&nbsp\;frequenza del 90%&nbsp\;del
 le sessioni scientifiche in programma e almeno il&nbsp\;75%&nbsp\;di rispo
 ste corrette al questionario di valutazione apprendimento.\n\nCOSTI E MODA
 LITA’ DI ISCRIZIONE\n❖ € 165\,00+iva (€ 201\,30) quota agevolata p
 er iscrizioni entro il 10 ottobre 2021\n❖ € 200\,00+iva (€ 244\,00) 
 quota standard\n\nLE ISCRIZIONI CHIUDONO L'8 NOVEMBRE 2021\n\nPer iscriver
 si è necessario compilare la scheda online e versare contestualmente la q
 uota di partecipazione.\nIl versamento deve avvenire tramite bonifico banc
 ario sul conto intestato a:\nScuola di Psicoterapia Cognitiva srl\nIBAN IT
 87K0538703202000001606300\ncausale “MANUALE ACT NOVEMBRE 2021”\n\nIN C
 ASO DI RINUNCIA\nNON È PREVISTO IL RIMBORSO DELLA QUOTA DI PARTECIPAZIONE
 \nScarica la brochure di questo evento\n&nbsp\;
ATTACH;FMTTYPE=image/jpeg:https://apc.it/wp-content/uploads/2021/05/presen
 tazione-manuale-del-terapeuta-12-13-novembre-2021.png
CATEGORIES:Corsi a pagamento,Corsi ACT,Corsi ecm
END:VEVENT
END:VCALENDAR